BEGIN:VCALENDAR
VERSION:2.0
PRODID:-//YMCA of the Shoals - ECPv6.15.20//NONSGML v1.0//EN
CALSCALE:GREGORIAN
METHOD:PUBLISH
X-WR-CALNAME:YMCA of the Shoals
X-ORIGINAL-URL:https://www.ymcashoals.org
X-WR-CALDESC:Events for YMCA of the Shoals
REFRESH-INTERVAL;VALUE=DURATION:PT1H
X-Robots-Tag:noindex
X-PUBLISHED-TTL:PT1H
BEGIN:VTIMEZONE
TZID:America/Chicago
BEGIN:DAYLIGHT
TZOFFSETFROM:-0600
TZOFFSETTO:-0500
TZNAME:CDT
DTSTART:20260308T080000
END:DAYLIGHT
BEGIN:STANDARD
TZOFFSETFROM:-0500
TZOFFSETTO:-0600
TZNAME:CST
DTSTART:20261101T070000
END:STANDARD
BEGIN:DAYLIGHT
TZOFFSETFROM:-0600
TZOFFSETTO:-0500
TZNAME:CDT
DTSTART:20270314T080000
END:DAYLIGHT
BEGIN:STANDARD
TZOFFSETFROM:-0500
TZOFFSETTO:-0600
TZNAME:CST
DTSTART:20271107T070000
END:STANDARD
BEGIN:DAYLIGHT
TZOFFSETFROM:-0600
TZOFFSETTO:-0500
TZNAME:CDT
DTSTART:20280312T080000
END:DAYLIGHT
BEGIN:STANDARD
TZOFFSETFROM:-0500
TZOFFSETTO:-0600
TZNAME:CST
DTSTART:20281105T070000
END:STANDARD
END:VTIMEZONE
BEGIN:VEVENT
DTSTART;TZID=America/Chicago:20270412T160000
DTEND;TZID=America/Chicago:20270412T204500
DTSTAMP:20260425T090705
CREATED:20260106T212515Z
LAST-MODIFIED:20260106T212515Z
UID:199194-1807545600-1807562700@www.ymcashoals.org
SUMMARY:Open Play Court A
DESCRIPTION:
URL:https://www.ymcashoals.org/event/open-play-court-a-16/2027-04-12/
LOCATION:YMCA of the Shoals\, 2121 Helton Drive\, Florence\, AL\, 35630\, United States
CATEGORIES:Gym Courts A & B,Schedules
GEO:34.8324379;-87.6683435
X-APPLE-STRUCTURED-LOCATION;VALUE=URI;X-ADDRESS=YMCA of the Shoals 2121 Helton Drive Florence AL 35630 United States;X-APPLE-RADIUS=500;X-TITLE=2121 Helton Drive:geo:-87.6683435,34.8324379
END:VEVENT
BEGIN:VEVENT
DTSTART;TZID=America/Chicago:20270412T150000
DTEND;TZID=America/Chicago:20270412T160000
DTSTAMP:20260425T090705
CREATED:20260106T212417Z
LAST-MODIFIED:20260106T212417Z
UID:199193-1807542000-1807545600@www.ymcashoals.org
SUMMARY:BASC Court A
DESCRIPTION:
URL:https://www.ymcashoals.org/event/basc-court-a/2027-04-12/
LOCATION:YMCA of the Shoals\, 2121 Helton Drive\, Florence\, AL\, 35630\, United States
CATEGORIES:Gym Courts A & B,Schedules
GEO:34.8324379;-87.6683435
X-APPLE-STRUCTURED-LOCATION;VALUE=URI;X-ADDRESS=YMCA of the Shoals 2121 Helton Drive Florence AL 35630 United States;X-APPLE-RADIUS=500;X-TITLE=2121 Helton Drive:geo:-87.6683435,34.8324379
END:VEVENT
BEGIN:VEVENT
DTSTART;TZID=America/Chicago:20270412T110000
DTEND;TZID=America/Chicago:20270412T123000
DTSTAMP:20260425T090705
CREATED:20250425T164620Z
LAST-MODIFIED:20250425T164620Z
UID:199187-1807527600-1807533000@www.ymcashoals.org
SUMMARY:Rock Steady (Sara)
DESCRIPTION:
URL:https://www.ymcashoals.org/event/rock-steady-sara/2027-04-12/
LOCATION:YMCA of the Shoals\, 2121 Helton Drive\, Florence\, AL\, 35630\, United States
CATEGORIES:Group Exercise (GXR),Schedules
GEO:34.8324379;-87.6683435
X-APPLE-STRUCTURED-LOCATION;VALUE=URI;X-ADDRESS=YMCA of the Shoals 2121 Helton Drive Florence AL 35630 United States;X-APPLE-RADIUS=500;X-TITLE=2121 Helton Drive:geo:-87.6683435,34.8324379
END:VEVENT
BEGIN:VEVENT
DTSTART;TZID=America/Chicago:20270412T103000
DTEND;TZID=America/Chicago:20270412T103000
DTSTAMP:20260425T090705
CREATED:20250425T163255Z
LAST-MODIFIED:20250425T163255Z
UID:199186-1807525800-1807525800@www.ymcashoals.org
SUMMARY:Rock Steady Cycle (Steve)
DESCRIPTION:
URL:https://www.ymcashoals.org/event/rock-steady-cycle-steve/2027-04-12/
LOCATION:YMCA of the Shoals\, 2121 Helton Drive\, Florence\, AL\, 35630\, United States
CATEGORIES:Cycle Fusion (GXR2),Schedules
GEO:34.8324379;-87.6683435
X-APPLE-STRUCTURED-LOCATION;VALUE=URI;X-ADDRESS=YMCA of the Shoals 2121 Helton Drive Florence AL 35630 United States;X-APPLE-RADIUS=500;X-TITLE=2121 Helton Drive:geo:-87.6683435,34.8324379
END:VEVENT
BEGIN:VEVENT
DTSTART;TZID=America/Chicago:20270412T101000
DTEND;TZID=America/Chicago:20270412T110000
DTSTAMP:20260425T090705
CREATED:20250224T205431Z
LAST-MODIFIED:20250224T205431Z
UID:199696-1807524600-1807527600@www.ymcashoals.org
SUMMARY:Muscle Works (Teri)
DESCRIPTION:
URL:https://www.ymcashoals.org/event/muscle-works-teri-2/2027-04-12/
LOCATION:YMCA of the Shoals\, 2121 Helton Drive\, Florence\, AL\, 35630\, United States
CATEGORIES:Group Exercise (GXR),Schedules
GEO:34.8324379;-87.6683435
X-APPLE-STRUCTURED-LOCATION;VALUE=URI;X-ADDRESS=YMCA of the Shoals 2121 Helton Drive Florence AL 35630 United States;X-APPLE-RADIUS=500;X-TITLE=2121 Helton Drive:geo:-87.6683435,34.8324379
END:VEVENT
BEGIN:VEVENT
DTSTART;TZID=America/Chicago:20270412T100000
DTEND;TZID=America/Chicago:20270412T150000
DTSTAMP:20260425T090705
CREATED:20260106T210433Z
LAST-MODIFIED:20260106T210433Z
UID:199190-1807524000-1807542000@www.ymcashoals.org
SUMMARY:Open Play (Court B)
DESCRIPTION:
URL:https://www.ymcashoals.org/event/open-play-court-b-16/2027-04-12/
LOCATION:YMCA of the Shoals\, 2121 Helton Drive\, Florence\, AL\, 35630\, United States
CATEGORIES:Gym Courts A & B,Schedules
GEO:34.8324379;-87.6683435
X-APPLE-STRUCTURED-LOCATION;VALUE=URI;X-ADDRESS=YMCA of the Shoals 2121 Helton Drive Florence AL 35630 United States;X-APPLE-RADIUS=500;X-TITLE=2121 Helton Drive:geo:-87.6683435,34.8324379
END:VEVENT
BEGIN:VEVENT
DTSTART;TZID=America/Chicago:20270412T090000
DTEND;TZID=America/Chicago:20270412T100000
DTSTAMP:20260425T090705
CREATED:20250530T134131Z
LAST-MODIFIED:20250530T134131Z
UID:199188-1807520400-1807524000@www.ymcashoals.org
SUMMARY:Karate (Court B)
DESCRIPTION:
URL:https://www.ymcashoals.org/event/karate-2/2027-04-12/
LOCATION:YMCA of the Shoals\, 2121 Helton Drive\, Florence\, AL\, 35630\, United States
CATEGORIES:Gym Courts A & B,Schedules
GEO:34.8324379;-87.6683435
X-APPLE-STRUCTURED-LOCATION;VALUE=URI;X-ADDRESS=YMCA of the Shoals 2121 Helton Drive Florence AL 35630 United States;X-APPLE-RADIUS=500;X-TITLE=2121 Helton Drive:geo:-87.6683435,34.8324379
END:VEVENT
BEGIN:VEVENT
DTSTART;TZID=America/Chicago:20270412T090000
DTEND;TZID=America/Chicago:20270412T100000
DTSTAMP:20260425T090705
CREATED:20210104T201024Z
LAST-MODIFIED:20210104T201024Z
UID:199181-1807520400-1807524000@www.ymcashoals.org
SUMMARY:Karate
DESCRIPTION:
URL:https://www.ymcashoals.org/event/karate/2027-04-12/
LOCATION:YMCA of the Shoals\, 2121 Helton Drive\, Florence\, AL\, 35630\, United States
CATEGORIES:Karate - Tang Soo Do,Schedules
GEO:34.8324379;-87.6683435
X-APPLE-STRUCTURED-LOCATION;VALUE=URI;X-ADDRESS=YMCA of the Shoals 2121 Helton Drive Florence AL 35630 United States;X-APPLE-RADIUS=500;X-TITLE=2121 Helton Drive:geo:-87.6683435,34.8324379
END:VEVENT
BEGIN:VEVENT
DTSTART;TZID=America/Chicago:20270412T081500
DTEND;TZID=America/Chicago:20270412T090000
DTSTAMP:20260425T090705
CREATED:20250627T193706Z
LAST-MODIFIED:20250627T193706Z
UID:199189-1807517700-1807520400@www.ymcashoals.org
SUMMARY:Breathe & Bend (Jennifer)
DESCRIPTION:
URL:https://www.ymcashoals.org/event/breathe-bend-jennifer/2027-04-12/
LOCATION:YMCA of the Shoals\, 2121 Helton Drive\, Florence\, AL\, 35630\, United States
CATEGORIES:Schedules,Spirit/Mind/Body (GXR3)
GEO:34.8324379;-87.6683435
X-APPLE-STRUCTURED-LOCATION;VALUE=URI;X-ADDRESS=YMCA of the Shoals 2121 Helton Drive Florence AL 35630 United States;X-APPLE-RADIUS=500;X-TITLE=2121 Helton Drive:geo:-87.6683435,34.8324379
END:VEVENT
BEGIN:VEVENT
DTSTART;TZID=America/Chicago:20270412T081500
DTEND;TZID=America/Chicago:20270412T090000
DTSTAMP:20260425T090705
CREATED:20200527T202728Z
LAST-MODIFIED:20200527T202728Z
UID:199180-1807517700-1807520400@www.ymcashoals.org
SUMMARY:Y Dance (Leslie)
DESCRIPTION:
URL:https://www.ymcashoals.org/event/y-dance-leslie/2027-04-12/
LOCATION:YMCA of the Shoals\, 2121 Helton Drive\, Florence\, AL\, 35630\, United States
CATEGORIES:Group Exercise (GXR),Schedules
GEO:34.8324379;-87.6683435
X-APPLE-STRUCTURED-LOCATION;VALUE=URI;X-ADDRESS=YMCA of the Shoals 2121 Helton Drive Florence AL 35630 United States;X-APPLE-RADIUS=500;X-TITLE=2121 Helton Drive:geo:-87.6683435,34.8324379
END:VEVENT
BEGIN:VEVENT
DTSTART;TZID=America/Chicago:20270412T051500
DTEND;TZID=America/Chicago:20270412T060000
DTSTAMP:20260425T090705
CREATED:20240524T154629Z
LAST-MODIFIED:20240524T154629Z
UID:199184-1807506900-1807509600@www.ymcashoals.org
SUMMARY:Y Cycle (Sara)
DESCRIPTION:
URL:https://www.ymcashoals.org/event/y-cycle-sara-4/2027-04-12/
LOCATION:YMCA of the Shoals\, 2121 Helton Drive\, Florence\, AL\, 35630\, United States
CATEGORIES:Cycle Fusion (GXR2),Schedules
GEO:34.8324379;-87.6683435
X-APPLE-STRUCTURED-LOCATION;VALUE=URI;X-ADDRESS=YMCA of the Shoals 2121 Helton Drive Florence AL 35630 United States;X-APPLE-RADIUS=500;X-TITLE=2121 Helton Drive:geo:-87.6683435,34.8324379
END:VEVENT
BEGIN:VEVENT
DTSTART;TZID=America/Chicago:20270412T050000
DTEND;TZID=America/Chicago:20270412T150000
DTSTAMP:20260425T090705
CREATED:20260106T212322Z
LAST-MODIFIED:20260106T212322Z
UID:199192-1807506000-1807542000@www.ymcashoals.org
SUMMARY:Open Play Court A
DESCRIPTION:
URL:https://www.ymcashoals.org/event/open-play-court-a-15/2027-04-12/
LOCATION:YMCA of the Shoals\, 2121 Helton Drive\, Florence\, AL\, 35630\, United States
CATEGORIES:Gym Courts A & B,Schedules
GEO:34.8324379;-87.6683435
X-APPLE-STRUCTURED-LOCATION;VALUE=URI;X-ADDRESS=YMCA of the Shoals 2121 Helton Drive Florence AL 35630 United States;X-APPLE-RADIUS=500;X-TITLE=2121 Helton Drive:geo:-87.6683435,34.8324379
END:VEVENT
BEGIN:VEVENT
DTSTART;TZID=America/Chicago:20270411T143000
DTEND;TZID=America/Chicago:20270411T153000
DTSTAMP:20260425T090705
CREATED:20241029T203137Z
LAST-MODIFIED:20241029T203137Z
UID:199175-1807453800-1807457400@www.ymcashoals.org
SUMMARY:Cardio Hip Hop (Ladarius)
DESCRIPTION:
URL:https://www.ymcashoals.org/event/cardio-hip-hop-ladarius-2/2027-04-11/
LOCATION:YMCA of the Shoals\, 2121 Helton Drive\, Florence\, AL\, 35630\, United States
CATEGORIES:Group Exercise (GXR),Schedules
GEO:34.8324379;-87.6683435
X-APPLE-STRUCTURED-LOCATION;VALUE=URI;X-ADDRESS=YMCA of the Shoals 2121 Helton Drive Florence AL 35630 United States;X-APPLE-RADIUS=500;X-TITLE=2121 Helton Drive:geo:-87.6683435,34.8324379
END:VEVENT
BEGIN:VEVENT
DTSTART;TZID=America/Chicago:20270411T130000
DTEND;TZID=America/Chicago:20270411T173000
DTSTAMP:20260425T090705
CREATED:20260106T211731Z
LAST-MODIFIED:20260106T211731Z
UID:199176-1807448400-1807464600@www.ymcashoals.org
SUMMARY:Open Play (Court B)
DESCRIPTION:
URL:https://www.ymcashoals.org/event/open-play-court-b-23/2027-04-11/
LOCATION:YMCA of the Shoals\, 2121 Helton Drive\, Florence\, AL\, 35630\, United States
CATEGORIES:Gym Courts A & B,Schedules
GEO:34.8324379;-87.6683435
X-APPLE-STRUCTURED-LOCATION;VALUE=URI;X-ADDRESS=YMCA of the Shoals 2121 Helton Drive Florence AL 35630 United States;X-APPLE-RADIUS=500;X-TITLE=2121 Helton Drive:geo:-87.6683435,34.8324379
END:VEVENT
BEGIN:VEVENT
DTSTART;TZID=America/Chicago:20270411T130000
DTEND;TZID=America/Chicago:20270411T163000
DTSTAMP:20260425T090705
CREATED:20260106T213029Z
LAST-MODIFIED:20260106T213029Z
UID:199177-1807448400-1807461000@www.ymcashoals.org
SUMMARY:All Day Cross Court Play Court A
DESCRIPTION:
URL:https://www.ymcashoals.org/event/all-day-cross-court-play-court-a-4/2027-04-11/
LOCATION:YMCA of the Shoals\, 2121 Helton Drive\, Florence\, AL\, 35630\, United States
CATEGORIES:Gym Courts A & B,Schedules
GEO:34.8324379;-87.6683435
X-APPLE-STRUCTURED-LOCATION;VALUE=URI;X-ADDRESS=YMCA of the Shoals 2121 Helton Drive Florence AL 35630 United States;X-APPLE-RADIUS=500;X-TITLE=2121 Helton Drive:geo:-87.6683435,34.8324379
END:VEVENT
BEGIN:VEVENT
DTSTART;TZID=America/Chicago:20270410T120000
DTEND;TZID=America/Chicago:20270410T173000
DTSTAMP:20260425T090705
CREATED:20260106T212915Z
LAST-MODIFIED:20260106T212915Z
UID:199174-1807358400-1807378200@www.ymcashoals.org
SUMMARY:Open Play Court A
DESCRIPTION:
URL:https://www.ymcashoals.org/event/open-play-court-a-21/2027-04-10/
LOCATION:YMCA of the Shoals\, 2121 Helton Drive\, Florence\, AL\, 35630\, United States
CATEGORIES:Gym Courts A & B,Schedules
GEO:34.8324379;-87.6683435
X-APPLE-STRUCTURED-LOCATION;VALUE=URI;X-ADDRESS=YMCA of the Shoals 2121 Helton Drive Florence AL 35630 United States;X-APPLE-RADIUS=500;X-TITLE=2121 Helton Drive:geo:-87.6683435,34.8324379
END:VEVENT
BEGIN:VEVENT
DTSTART;TZID=America/Chicago:20270410T120000
DTEND;TZID=America/Chicago:20270410T173000
DTSTAMP:20260425T090705
CREATED:20260106T211649Z
LAST-MODIFIED:20260106T211649Z
UID:199172-1807358400-1807378200@www.ymcashoals.org
SUMMARY:Open Play (Court B)
DESCRIPTION:
URL:https://www.ymcashoals.org/event/open-play-court-b-22/2027-04-10/
LOCATION:YMCA of the Shoals\, 2121 Helton Drive\, Florence\, AL\, 35630\, United States
CATEGORIES:Gym Courts A & B,Schedules
GEO:34.8324379;-87.6683435
X-APPLE-STRUCTURED-LOCATION;VALUE=URI;X-ADDRESS=YMCA of the Shoals 2121 Helton Drive Florence AL 35630 United States;X-APPLE-RADIUS=500;X-TITLE=2121 Helton Drive:geo:-87.6683435,34.8324379
END:VEVENT
BEGIN:VEVENT
DTSTART;TZID=America/Chicago:20270410T090000
DTEND;TZID=America/Chicago:20270410T120000
DTSTAMP:20260425T090705
CREATED:20250530T132734Z
LAST-MODIFIED:20250530T132734Z
UID:199170-1807347600-1807358400@www.ymcashoals.org
SUMMARY:PICKLEBALL - Court A & B
DESCRIPTION:
URL:https://www.ymcashoals.org/event/pickleball-court-a-11/2027-04-10/
LOCATION:YMCA of the Shoals\, 2121 Helton Drive\, Florence\, AL\, 35630\, United States
CATEGORIES:Gym Courts A & B,Schedules
GEO:34.8324379;-87.6683435
X-APPLE-STRUCTURED-LOCATION;VALUE=URI;X-ADDRESS=YMCA of the Shoals 2121 Helton Drive Florence AL 35630 United States;X-APPLE-RADIUS=500;X-TITLE=2121 Helton Drive:geo:-87.6683435,34.8324379
END:VEVENT
BEGIN:VEVENT
DTSTART;TZID=America/Chicago:20270410T060000
DTEND;TZID=America/Chicago:20270410T090000
DTSTAMP:20260425T090705
CREATED:20260106T212836Z
LAST-MODIFIED:20260106T212836Z
UID:199173-1807336800-1807347600@www.ymcashoals.org
SUMMARY:Open Play Court A
DESCRIPTION:
URL:https://www.ymcashoals.org/event/open-play-court-a-20/2027-04-10/
LOCATION:YMCA of the Shoals\, 2121 Helton Drive\, Florence\, AL\, 35630\, United States
CATEGORIES:Gym Courts A & B,Schedules
GEO:34.8324379;-87.6683435
X-APPLE-STRUCTURED-LOCATION;VALUE=URI;X-ADDRESS=YMCA of the Shoals 2121 Helton Drive Florence AL 35630 United States;X-APPLE-RADIUS=500;X-TITLE=2121 Helton Drive:geo:-87.6683435,34.8324379
END:VEVENT
BEGIN:VEVENT
DTSTART;TZID=America/Chicago:20270410T060000
DTEND;TZID=America/Chicago:20270410T090000
DTSTAMP:20260425T090705
CREATED:20260106T211613Z
LAST-MODIFIED:20260106T211613Z
UID:199171-1807336800-1807347600@www.ymcashoals.org
SUMMARY:Open Play (Court B)
DESCRIPTION:
URL:https://www.ymcashoals.org/event/open-play-court-b-21/2027-04-10/
LOCATION:YMCA of the Shoals\, 2121 Helton Drive\, Florence\, AL\, 35630\, United States
CATEGORIES:Gym Courts A & B,Schedules
GEO:34.8324379;-87.6683435
X-APPLE-STRUCTURED-LOCATION;VALUE=URI;X-ADDRESS=YMCA of the Shoals 2121 Helton Drive Florence AL 35630 United States;X-APPLE-RADIUS=500;X-TITLE=2121 Helton Drive:geo:-87.6683435,34.8324379
END:VEVENT
BEGIN:VEVENT
DTSTART;TZID=America/Chicago:20270409T173000
DTEND;TZID=America/Chicago:20270409T183000
DTSTAMP:20260425T090705
CREATED:20241029T202516Z
LAST-MODIFIED:20241029T202516Z
UID:199164-1807291800-1807295400@www.ymcashoals.org
SUMMARY:Cardio Hip Hop (Ladarius)
DESCRIPTION:
URL:https://www.ymcashoals.org/event/cardio-hip-hop-ladarius-4/2027-04-09/
LOCATION:YMCA of the Shoals\, 2121 Helton Drive\, Florence\, AL\, 35630\, United States
CATEGORIES:Group Exercise (GXR),Schedules
GEO:34.8324379;-87.6683435
X-APPLE-STRUCTURED-LOCATION;VALUE=URI;X-ADDRESS=YMCA of the Shoals 2121 Helton Drive Florence AL 35630 United States;X-APPLE-RADIUS=500;X-TITLE=2121 Helton Drive:geo:-87.6683435,34.8324379
END:VEVENT
BEGIN:VEVENT
DTSTART;TZID=America/Chicago:20270409T163000
DTEND;TZID=America/Chicago:20270409T210000
DTSTAMP:20260425T090705
CREATED:20250530T135048Z
LAST-MODIFIED:20250530T135048Z
UID:199165-1807288200-1807304400@www.ymcashoals.org
SUMMARY:Open Play - Court B
DESCRIPTION:
URL:https://www.ymcashoals.org/event/open-play-court-b-12/2027-04-09/
LOCATION:YMCA of the Shoals\, 2121 Helton Drive\, Florence\, AL\, 35630\, United States
CATEGORIES:Gym Courts A & B,Schedules
GEO:34.8324379;-87.6683435
X-APPLE-STRUCTURED-LOCATION;VALUE=URI;X-ADDRESS=YMCA of the Shoals 2121 Helton Drive Florence AL 35630 United States;X-APPLE-RADIUS=500;X-TITLE=2121 Helton Drive:geo:-87.6683435,34.8324379
END:VEVENT
BEGIN:VEVENT
DTSTART;TZID=America/Chicago:20270409T160000
DTEND;TZID=America/Chicago:20270409T204500
DTSTAMP:20260425T090705
CREATED:20260106T212515Z
LAST-MODIFIED:20260106T212515Z
UID:199169-1807286400-1807303500@www.ymcashoals.org
SUMMARY:Open Play Court A
DESCRIPTION:
URL:https://www.ymcashoals.org/event/open-play-court-a-16/2027-04-09/
LOCATION:YMCA of the Shoals\, 2121 Helton Drive\, Florence\, AL\, 35630\, United States
CATEGORIES:Gym Courts A & B,Schedules
GEO:34.8324379;-87.6683435
X-APPLE-STRUCTURED-LOCATION;VALUE=URI;X-ADDRESS=YMCA of the Shoals 2121 Helton Drive Florence AL 35630 United States;X-APPLE-RADIUS=500;X-TITLE=2121 Helton Drive:geo:-87.6683435,34.8324379
END:VEVENT
BEGIN:VEVENT
DTSTART;TZID=America/Chicago:20270409T150000
DTEND;TZID=America/Chicago:20270409T160000
DTSTAMP:20260425T090705
CREATED:20260106T212417Z
LAST-MODIFIED:20260106T212417Z
UID:199168-1807282800-1807286400@www.ymcashoals.org
SUMMARY:BASC Court A
DESCRIPTION:
URL:https://www.ymcashoals.org/event/basc-court-a/2027-04-09/
LOCATION:YMCA of the Shoals\, 2121 Helton Drive\, Florence\, AL\, 35630\, United States
CATEGORIES:Gym Courts A & B,Schedules
GEO:34.8324379;-87.6683435
X-APPLE-STRUCTURED-LOCATION;VALUE=URI;X-ADDRESS=YMCA of the Shoals 2121 Helton Drive Florence AL 35630 United States;X-APPLE-RADIUS=500;X-TITLE=2121 Helton Drive:geo:-87.6683435,34.8324379
END:VEVENT
BEGIN:VEVENT
DTSTART;TZID=America/Chicago:20270409T081500
DTEND;TZID=America/Chicago:20270409T090000
DTSTAMP:20260425T090705
CREATED:20211201T212911Z
LAST-MODIFIED:20211201T212911Z
UID:199162-1807258500-1807261200@www.ymcashoals.org
SUMMARY:Y Dance (Casey)
DESCRIPTION:
URL:https://www.ymcashoals.org/event/y-dance-casey-2/2027-04-09/
LOCATION:YMCA of the Shoals\, 2121 Helton Drive\, Florence\, AL\, 35630\, United States
CATEGORIES:Group Exercise (GXR),Schedules
GEO:34.8324379;-87.6683435
X-APPLE-STRUCTURED-LOCATION;VALUE=URI;X-ADDRESS=YMCA of the Shoals 2121 Helton Drive Florence AL 35630 United States;X-APPLE-RADIUS=500;X-TITLE=2121 Helton Drive:geo:-87.6683435,34.8324379
END:VEVENT
BEGIN:VEVENT
DTSTART;TZID=America/Chicago:20270409T051500
DTEND;TZID=America/Chicago:20270409T060000
DTSTAMP:20260425T090705
CREATED:20240524T154629Z
LAST-MODIFIED:20240524T154629Z
UID:199163-1807247700-1807250400@www.ymcashoals.org
SUMMARY:Y Cycle (Sara)
DESCRIPTION:
URL:https://www.ymcashoals.org/event/y-cycle-sara-4/2027-04-09/
LOCATION:YMCA of the Shoals\, 2121 Helton Drive\, Florence\, AL\, 35630\, United States
CATEGORIES:Cycle Fusion (GXR2),Schedules
GEO:34.8324379;-87.6683435
X-APPLE-STRUCTURED-LOCATION;VALUE=URI;X-ADDRESS=YMCA of the Shoals 2121 Helton Drive Florence AL 35630 United States;X-APPLE-RADIUS=500;X-TITLE=2121 Helton Drive:geo:-87.6683435,34.8324379
END:VEVENT
BEGIN:VEVENT
DTSTART;TZID=America/Chicago:20270409T050000
DTEND;TZID=America/Chicago:20270409T150000
DTSTAMP:20260425T090705
CREATED:20260106T212322Z
LAST-MODIFIED:20260106T212322Z
UID:199167-1807246800-1807282800@www.ymcashoals.org
SUMMARY:Open Play Court A
DESCRIPTION:
URL:https://www.ymcashoals.org/event/open-play-court-a-15/2027-04-09/
LOCATION:YMCA of the Shoals\, 2121 Helton Drive\, Florence\, AL\, 35630\, United States
CATEGORIES:Gym Courts A & B,Schedules
GEO:34.8324379;-87.6683435
X-APPLE-STRUCTURED-LOCATION;VALUE=URI;X-ADDRESS=YMCA of the Shoals 2121 Helton Drive Florence AL 35630 United States;X-APPLE-RADIUS=500;X-TITLE=2121 Helton Drive:geo:-87.6683435,34.8324379
END:VEVENT
BEGIN:VEVENT
DTSTART;TZID=America/Chicago:20270409T050000
DTEND;TZID=America/Chicago:20270409T150000
DTSTAMP:20260425T090705
CREATED:20260106T211524Z
LAST-MODIFIED:20260106T211524Z
UID:199166-1807246800-1807282800@www.ymcashoals.org
SUMMARY:Open Play (Court B)
DESCRIPTION:
URL:https://www.ymcashoals.org/event/open-play-court-b-20/2027-04-09/
LOCATION:YMCA of the Shoals\, 2121 Helton Drive\, Florence\, AL\, 35630\, United States
CATEGORIES:Gym Courts A & B,Schedules
GEO:34.8324379;-87.6683435
X-APPLE-STRUCTURED-LOCATION;VALUE=URI;X-ADDRESS=YMCA of the Shoals 2121 Helton Drive Florence AL 35630 United States;X-APPLE-RADIUS=500;X-TITLE=2121 Helton Drive:geo:-87.6683435,34.8324379
END:VEVENT
BEGIN:VEVENT
DTSTART;TZID=America/Chicago:20270408T183000
DTEND;TZID=America/Chicago:20270408T203000
DTSTAMP:20260425T090705
CREATED:20250530T132458Z
LAST-MODIFIED:20250530T132458Z
UID:199156-1807209000-1807216200@www.ymcashoals.org
SUMMARY:PICKLEBALL - Court A & B
DESCRIPTION:
URL:https://www.ymcashoals.org/event/pickleball-court-a-8/2027-04-08/
LOCATION:YMCA of the Shoals\, 2121 Helton Drive\, Florence\, AL\, 35630\, United States
CATEGORIES:Gym Courts A & B,Schedules
GEO:34.8324379;-87.6683435
X-APPLE-STRUCTURED-LOCATION;VALUE=URI;X-ADDRESS=YMCA of the Shoals 2121 Helton Drive Florence AL 35630 United States;X-APPLE-RADIUS=500;X-TITLE=2121 Helton Drive:geo:-87.6683435,34.8324379
END:VEVENT
BEGIN:VEVENT
DTSTART;TZID=America/Chicago:20270408T160000
DTEND;TZID=America/Chicago:20270408T180000
DTSTAMP:20260425T090705
CREATED:20260106T212752Z
LAST-MODIFIED:20260106T212752Z
UID:199161-1807200000-1807207200@www.ymcashoals.org
SUMMARY:Open Play Court A
DESCRIPTION:
URL:https://www.ymcashoals.org/event/open-play-court-a-19/2027-04-08/
LOCATION:YMCA of the Shoals\, 2121 Helton Drive\, Florence\, AL\, 35630\, United States
CATEGORIES:Gym Courts A & B,Schedules
GEO:34.8324379;-87.6683435
X-APPLE-STRUCTURED-LOCATION;VALUE=URI;X-ADDRESS=YMCA of the Shoals 2121 Helton Drive Florence AL 35630 United States;X-APPLE-RADIUS=500;X-TITLE=2121 Helton Drive:geo:-87.6683435,34.8324379
END:VEVENT
END:VCALENDAR