BEGIN:VCALENDAR
VERSION:2.0
PRODID:-//YMCA of the Shoals - ECPv6.15.20//NONSGML v1.0//EN
CALSCALE:GREGORIAN
METHOD:PUBLISH
X-WR-CALNAME:YMCA of the Shoals
X-ORIGINAL-URL:https://www.ymcashoals.org
X-WR-CALDESC:Events for YMCA of the Shoals
REFRESH-INTERVAL;VALUE=DURATION:PT1H
X-Robots-Tag:noindex
X-PUBLISHED-TTL:PT1H
BEGIN:VTIMEZONE
TZID:America/Chicago
BEGIN:DAYLIGHT
TZOFFSETFROM:-0600
TZOFFSETTO:-0500
TZNAME:CDT
DTSTART:20210314T080000
END:DAYLIGHT
BEGIN:STANDARD
TZOFFSETFROM:-0500
TZOFFSETTO:-0600
TZNAME:CST
DTSTART:20211107T070000
END:STANDARD
BEGIN:DAYLIGHT
TZOFFSETFROM:-0600
TZOFFSETTO:-0500
TZNAME:CDT
DTSTART:20220313T080000
END:DAYLIGHT
BEGIN:STANDARD
TZOFFSETFROM:-0500
TZOFFSETTO:-0600
TZNAME:CST
DTSTART:20221106T070000
END:STANDARD
BEGIN:DAYLIGHT
TZOFFSETFROM:-0600
TZOFFSETTO:-0500
TZNAME:CDT
DTSTART:20230312T080000
END:DAYLIGHT
BEGIN:STANDARD
TZOFFSETFROM:-0500
TZOFFSETTO:-0600
TZNAME:CST
DTSTART:20231105T070000
END:STANDARD
END:VTIMEZONE
BEGIN:VEVENT
DTSTART;TZID=America/Chicago:20220307T150000
DTEND;TZID=America/Chicago:20220307T180000
DTSTAMP:20260425T064610
CREATED:20220310T173635Z
LAST-MODIFIED:20220310T173635Z
UID:132240-1646665200-1646676000@www.ymcashoals.org
SUMMARY:COURT CLOSED TO BASKETBALL PLAY
DESCRIPTION:
URL:https://www.ymcashoals.org/event/court-closed-to-basketball-play/2022-03-07/
LOCATION:YMCA of the Shoals\, 2121 Helton Drive\, Florence\, AL\, 35630\, United States
CATEGORIES:Gym Courts A & B,Schedules
GEO:34.8324379;-87.6683435
X-APPLE-STRUCTURED-LOCATION;VALUE=URI;X-ADDRESS=YMCA of the Shoals 2121 Helton Drive Florence AL 35630 United States;X-APPLE-RADIUS=500;X-TITLE=2121 Helton Drive:geo:-87.6683435,34.8324379
END:VEVENT
BEGIN:VEVENT
DTSTART;TZID=America/Chicago:20220306T130000
DTEND;TZID=America/Chicago:20220306T170000
DTSTAMP:20260425T064610
CREATED:20220302T201112Z
LAST-MODIFIED:20220302T202605Z
UID:130758-1646571600-1646586000@www.ymcashoals.org
SUMMARY:ALL DAY CROSS COURT PLAY (COURT A)
DESCRIPTION:
URL:https://www.ymcashoals.org/event/all-day-cross-court-play-court-a/2022-03-06/
LOCATION:YMCA of the Shoals\, 2121 Helton Drive\, Florence\, AL\, 35630\, United States
CATEGORIES:Gym Courts A & B,Schedules
GEO:34.8324379;-87.6683435
X-APPLE-STRUCTURED-LOCATION;VALUE=URI;X-ADDRESS=YMCA of the Shoals 2121 Helton Drive Florence AL 35630 United States;X-APPLE-RADIUS=500;X-TITLE=2121 Helton Drive:geo:-87.6683435,34.8324379
END:VEVENT
BEGIN:VEVENT
DTSTART;TZID=America/Chicago:20220305T130000
DTEND;TZID=America/Chicago:20220305T164500
DTSTAMP:20260425T064610
CREATED:20220302T213104Z
LAST-MODIFIED:20220302T213104Z
UID:131952-1646485200-1646498700@www.ymcashoals.org
SUMMARY:All-Day Individual Goal Play
DESCRIPTION:
URL:https://www.ymcashoals.org/event/all-day-individual-goal-play/2022-03-05/
LOCATION:YMCA of the Shoals\, 2121 Helton Drive\, Florence\, AL\, 35630\, United States
CATEGORIES:Gym Courts A & B,Schedules
GEO:34.8324379;-87.6683435
X-APPLE-STRUCTURED-LOCATION;VALUE=URI;X-ADDRESS=YMCA of the Shoals 2121 Helton Drive Florence AL 35630 United States;X-APPLE-RADIUS=500;X-TITLE=2121 Helton Drive:geo:-87.6683435,34.8324379
END:VEVENT
BEGIN:VEVENT
DTSTART;TZID=America/Chicago:20220305T121500
DTEND;TZID=America/Chicago:20220305T174500
DTSTAMP:20260425T064610
CREATED:20220302T210857Z
LAST-MODIFIED:20220302T210857Z
UID:131329-1646482500-1646502300@www.ymcashoals.org
SUMMARY:Individual Play (Court B)
DESCRIPTION:
URL:https://www.ymcashoals.org/event/individual-play-court-b-4/2022-03-05/
LOCATION:YMCA of the Shoals\, 2121 Helton Drive\, Florence\, AL\, 35630\, United States
CATEGORIES:Gym Courts A & B,Schedules
GEO:34.8324379;-87.6683435
X-APPLE-STRUCTURED-LOCATION;VALUE=URI;X-ADDRESS=YMCA of the Shoals 2121 Helton Drive Florence AL 35630 United States;X-APPLE-RADIUS=500;X-TITLE=2121 Helton Drive:geo:-87.6683435,34.8324379
END:VEVENT
BEGIN:VEVENT
DTSTART;TZID=America/Chicago:20220305T121500
DTEND;TZID=America/Chicago:20220305T174500
DTSTAMP:20260425T064610
CREATED:20220302T200259Z
LAST-MODIFIED:20220302T200259Z
UID:130675-1646482500-1646502300@www.ymcashoals.org
SUMMARY:Cross Court Play (Court A)
DESCRIPTION:
URL:https://www.ymcashoals.org/event/cross-court-play-court-a-2/2022-03-05/
LOCATION:YMCA of the Shoals\, 2121 Helton Drive\, Florence\, AL\, 35630\, United States
CATEGORIES:Gym Courts A & B,Schedules
GEO:34.8324379;-87.6683435
X-APPLE-STRUCTURED-LOCATION;VALUE=URI;X-ADDRESS=YMCA of the Shoals 2121 Helton Drive Florence AL 35630 United States;X-APPLE-RADIUS=500;X-TITLE=2121 Helton Drive:geo:-87.6683435,34.8324379
END:VEVENT
BEGIN:VEVENT
DTSTART;TZID=America/Chicago:20220305T090000
DTEND;TZID=America/Chicago:20220305T120000
DTSTAMP:20260425T064610
CREATED:20220302T210310Z
LAST-MODIFIED:20220302T210310Z
UID:131257-1646470800-1646481600@www.ymcashoals.org
SUMMARY:Pickleball (Court B)
DESCRIPTION:
URL:https://www.ymcashoals.org/event/pickleball-court-b/2022-03-05/
LOCATION:YMCA of the Shoals\, 2121 Helton Drive\, Florence\, AL\, 35630\, United States
CATEGORIES:Gym Courts A & B,Schedules
GEO:34.8324379;-87.6683435
X-APPLE-STRUCTURED-LOCATION;VALUE=URI;X-ADDRESS=YMCA of the Shoals 2121 Helton Drive Florence AL 35630 United States;X-APPLE-RADIUS=500;X-TITLE=2121 Helton Drive:geo:-87.6683435,34.8324379
END:VEVENT
BEGIN:VEVENT
DTSTART;TZID=America/Chicago:20220305T090000
DTEND;TZID=America/Chicago:20220305T120000
DTSTAMP:20260425T064610
CREATED:20220302T195950Z
LAST-MODIFIED:20220302T195950Z
UID:130607-1646470800-1646481600@www.ymcashoals.org
SUMMARY:Pickleball (Court A)
DESCRIPTION:
URL:https://www.ymcashoals.org/event/pickleball-court-a/2022-03-05/
LOCATION:YMCA of the Shoals\, 2121 Helton Drive\, Florence\, AL\, 35630\, United States
CATEGORIES:Gym Courts A & B,Schedules
GEO:34.8324379;-87.6683435
X-APPLE-STRUCTURED-LOCATION;VALUE=URI;X-ADDRESS=YMCA of the Shoals 2121 Helton Drive Florence AL 35630 United States;X-APPLE-RADIUS=500;X-TITLE=2121 Helton Drive:geo:-87.6683435,34.8324379
END:VEVENT
BEGIN:VEVENT
DTSTART;TZID=America/Chicago:20220305T060000
DTEND;TZID=America/Chicago:20220305T084500
DTSTAMP:20260425T064610
CREATED:20220302T174559Z
LAST-MODIFIED:20220302T201841Z
UID:130567-1646460000-1646469900@www.ymcashoals.org
SUMMARY:Cross Court Play (Court A)
DESCRIPTION:
URL:https://www.ymcashoals.org/event/cross-court-play-court-a/2022-03-05/
LOCATION:YMCA of the Shoals\, 2121 Helton Drive\, Florence\, AL\, 35630\, United States
CATEGORIES:Gym Courts A & B,Schedules
GEO:34.8324379;-87.6683435
X-APPLE-STRUCTURED-LOCATION;VALUE=URI;X-ADDRESS=YMCA of the Shoals 2121 Helton Drive Florence AL 35630 United States;X-APPLE-RADIUS=500;X-TITLE=2121 Helton Drive:geo:-87.6683435,34.8324379
END:VEVENT
BEGIN:VEVENT
DTSTART;TZID=America/Chicago:20220304T150000
DTEND;TZID=America/Chicago:20220304T204500
DTSTAMP:20260425T064610
CREATED:20220302T211237Z
LAST-MODIFIED:20220302T211237Z
UID:131358-1646406000-1646426700@www.ymcashoals.org
SUMMARY:Cross Court Play (Court B)
DESCRIPTION:
URL:https://www.ymcashoals.org/event/cross-court-play-court-b/2022-03-04/
LOCATION:YMCA of the Shoals\, 2121 Helton Drive\, Florence\, AL\, 35630\, United States
CATEGORIES:Gym Courts A & B,Schedules
GEO:34.8324379;-87.6683435
X-APPLE-STRUCTURED-LOCATION;VALUE=URI;X-ADDRESS=YMCA of the Shoals 2121 Helton Drive Florence AL 35630 United States;X-APPLE-RADIUS=500;X-TITLE=2121 Helton Drive:geo:-87.6683435,34.8324379
END:VEVENT
BEGIN:VEVENT
DTSTART;TZID=America/Chicago:20220304T050000
DTEND;TZID=America/Chicago:20220304T150000
DTSTAMP:20260425T064610
CREATED:20220302T205724Z
LAST-MODIFIED:20220302T205724Z
UID:131099-1646370000-1646406000@www.ymcashoals.org
SUMMARY:Open Play (Court B)
DESCRIPTION:
URL:https://www.ymcashoals.org/event/open-play-court-b/2022-03-04/
LOCATION:YMCA of the Shoals\, 2121 Helton Drive\, Florence\, AL\, 35630\, United States
CATEGORIES:Gym Courts A & B,Schedules
GEO:34.8324379;-87.6683435
X-APPLE-STRUCTURED-LOCATION;VALUE=URI;X-ADDRESS=YMCA of the Shoals 2121 Helton Drive Florence AL 35630 United States;X-APPLE-RADIUS=500;X-TITLE=2121 Helton Drive:geo:-87.6683435,34.8324379
END:VEVENT
BEGIN:VEVENT
DTSTART;TZID=America/Chicago:20220302T181500
DTEND;TZID=America/Chicago:20220302T193000
DTSTAMP:20260425T064610
CREATED:20220302T212547Z
LAST-MODIFIED:20220302T212547Z
UID:131776-1646244900-1646249400@www.ymcashoals.org
SUMMARY:Adult Karate (Court B)
DESCRIPTION:
URL:https://www.ymcashoals.org/event/adult-karate-court-b/2022-03-02/
LOCATION:YMCA of the Shoals\, 2121 Helton Drive\, Florence\, AL\, 35630\, United States
CATEGORIES:Gym Courts A & B,Schedules
GEO:34.8324379;-87.6683435
X-APPLE-STRUCTURED-LOCATION;VALUE=URI;X-ADDRESS=YMCA of the Shoals 2121 Helton Drive Florence AL 35630 United States;X-APPLE-RADIUS=500;X-TITLE=2121 Helton Drive:geo:-87.6683435,34.8324379
END:VEVENT
BEGIN:VEVENT
DTSTART;TZID=America/Chicago:20220302T180000
DTEND;TZID=America/Chicago:20220302T204500
DTSTAMP:20260425T064610
CREATED:20220302T201310Z
LAST-MODIFIED:20220302T201310Z
UID:130800-1646244000-1646253900@www.ymcashoals.org
SUMMARY:Cross Court Play (Court A)
DESCRIPTION:
URL:https://www.ymcashoals.org/event/cross-court-play-court-a-4/2022-03-02/
LOCATION:YMCA of the Shoals\, 2121 Helton Drive\, Florence\, AL\, 35630\, United States
CATEGORIES:Gym Courts A & B,Schedules
GEO:34.8324379;-87.6683435
X-APPLE-STRUCTURED-LOCATION;VALUE=URI;X-ADDRESS=YMCA of the Shoals 2121 Helton Drive Florence AL 35630 United States;X-APPLE-RADIUS=500;X-TITLE=2121 Helton Drive:geo:-87.6683435,34.8324379
END:VEVENT
BEGIN:VEVENT
DTSTART;TZID=America/Chicago:20220302T173000
DTEND;TZID=America/Chicago:20220302T181000
DTSTAMP:20260425T064610
CREATED:20220302T211922Z
LAST-MODIFIED:20220302T212132Z
UID:131549-1646242200-1646244600@www.ymcashoals.org
SUMMARY:Y HIIT ( Lisa) (Court B)
DESCRIPTION:
URL:https://www.ymcashoals.org/event/y-hiit-lisa/2022-03-02/
LOCATION:YMCA of the Shoals\, 2121 Helton Drive\, Florence\, AL\, 35630\, United States
CATEGORIES:Gym Courts A & B,Schedules
GEO:34.8324379;-87.6683435
X-APPLE-STRUCTURED-LOCATION;VALUE=URI;X-ADDRESS=YMCA of the Shoals 2121 Helton Drive Florence AL 35630 United States;X-APPLE-RADIUS=500;X-TITLE=2121 Helton Drive:geo:-87.6683435,34.8324379
END:VEVENT
BEGIN:VEVENT
DTSTART;TZID=America/Chicago:20220302T101500
DTEND;TZID=America/Chicago:20220302T160000
DTSTAMP:20260425T064610
CREATED:20220302T210509Z
LAST-MODIFIED:20220302T210509Z
UID:131271-1646216100-1646236800@www.ymcashoals.org
SUMMARY:Individual Play (Court B)
DESCRIPTION:
URL:https://www.ymcashoals.org/event/individual-play-court-b-3/2022-03-02/
LOCATION:YMCA of the Shoals\, 2121 Helton Drive\, Florence\, AL\, 35630\, United States
CATEGORIES:Gym Courts A & B,Schedules
GEO:34.8324379;-87.6683435
X-APPLE-STRUCTURED-LOCATION;VALUE=URI;X-ADDRESS=YMCA of the Shoals 2121 Helton Drive Florence AL 35630 United States;X-APPLE-RADIUS=500;X-TITLE=2121 Helton Drive:geo:-87.6683435,34.8324379
END:VEVENT
BEGIN:VEVENT
DTSTART;TZID=America/Chicago:20220302T090000
DTEND;TZID=America/Chicago:20220302T100000
DTSTAMP:20260425T064610
CREATED:20220302T210027Z
LAST-MODIFIED:20220302T210027Z
UID:131151-1646211600-1646215200@www.ymcashoals.org
SUMMARY:Karate (Court B)
DESCRIPTION:
URL:https://www.ymcashoals.org/event/karate-court-b/2022-03-02/
LOCATION:YMCA of the Shoals\, 2121 Helton Drive\, Florence\, AL\, 35630\, United States
CATEGORIES:Gym Courts A & B,Schedules
GEO:34.8324379;-87.6683435
X-APPLE-STRUCTURED-LOCATION;VALUE=URI;X-ADDRESS=YMCA of the Shoals 2121 Helton Drive Florence AL 35630 United States;X-APPLE-RADIUS=500;X-TITLE=2121 Helton Drive:geo:-87.6683435,34.8324379
END:VEVENT
BEGIN:VEVENT
DTSTART;TZID=America/Chicago:20220302T050000
DTEND;TZID=America/Chicago:20220302T150000
DTSTAMP:20260425T064610
CREATED:20220302T202840Z
LAST-MODIFIED:20220302T202840Z
UID:130966-1646197200-1646233200@www.ymcashoals.org
SUMMARY:Open Play (Court A)
DESCRIPTION:
URL:https://www.ymcashoals.org/event/open-play-court-a/2022-03-02/
LOCATION:YMCA of the Shoals\, 2121 Helton Drive\, Florence\, AL\, 35630\, United States
CATEGORIES:Gym Courts A & B,Schedules
GEO:34.8324379;-87.6683435
X-APPLE-STRUCTURED-LOCATION;VALUE=URI;X-ADDRESS=YMCA of the Shoals 2121 Helton Drive Florence AL 35630 United States;X-APPLE-RADIUS=500;X-TITLE=2121 Helton Drive:geo:-87.6683435,34.8324379
END:VEVENT
BEGIN:VEVENT
DTSTART;TZID=America/Chicago:20220302T050000
DTEND;TZID=America/Chicago:20220302T084500
DTSTAMP:20260425T064610
CREATED:20220302T203847Z
LAST-MODIFIED:20220302T205853Z
UID:131006-1646197200-1646210700@www.ymcashoals.org
SUMMARY:Individual Play (Court B)
DESCRIPTION:
URL:https://www.ymcashoals.org/event/individual-play-court-b/2022-03-02/
LOCATION:YMCA of the Shoals\, 2121 Helton Drive\, Florence\, AL\, 35630\, United States
CATEGORIES:Gym Courts A & B,Schedules
GEO:34.8324379;-87.6683435
X-APPLE-STRUCTURED-LOCATION;VALUE=URI;X-ADDRESS=YMCA of the Shoals 2121 Helton Drive Florence AL 35630 United States;X-APPLE-RADIUS=500;X-TITLE=2121 Helton Drive:geo:-87.6683435,34.8324379
END:VEVENT
BEGIN:VEVENT
DTSTART;TZID=America/Chicago:20220301T180000
DTEND;TZID=America/Chicago:20220301T200000
DTSTAMP:20260425T064610
CREATED:20220302T212709Z
LAST-MODIFIED:20220302T212709Z
UID:131888-1646157600-1646164800@www.ymcashoals.org
SUMMARY:Pickleball (Court B)
DESCRIPTION:
URL:https://www.ymcashoals.org/event/pickleball-court-b-3/2022-03-01/
LOCATION:YMCA of the Shoals\, 2121 Helton Drive\, Florence\, AL\, 35630\, United States
CATEGORIES:Gym Courts A & B,Schedules
GEO:34.8324379;-87.6683435
X-APPLE-STRUCTURED-LOCATION;VALUE=URI;X-ADDRESS=YMCA of the Shoals 2121 Helton Drive Florence AL 35630 United States;X-APPLE-RADIUS=500;X-TITLE=2121 Helton Drive:geo:-87.6683435,34.8324379
END:VEVENT
BEGIN:VEVENT
DTSTART;TZID=America/Chicago:20220301T180000
DTEND;TZID=America/Chicago:20220301T200000
DTSTAMP:20260425T064610
CREATED:20220302T201213Z
LAST-MODIFIED:20220302T201213Z
UID:130772-1646157600-1646164800@www.ymcashoals.org
SUMMARY:Pickleball (Court A)
DESCRIPTION:
URL:https://www.ymcashoals.org/event/pickleball-court-a-3/2022-03-01/
LOCATION:YMCA of the Shoals\, 2121 Helton Drive\, Florence\, AL\, 35630\, United States
CATEGORIES:Gym Courts A & B,Schedules
GEO:34.8324379;-87.6683435
X-APPLE-STRUCTURED-LOCATION;VALUE=URI;X-ADDRESS=YMCA of the Shoals 2121 Helton Drive Florence AL 35630 United States;X-APPLE-RADIUS=500;X-TITLE=2121 Helton Drive:geo:-87.6683435,34.8324379
END:VEVENT
BEGIN:VEVENT
DTSTART;TZID=America/Chicago:20220301T171500
DTEND;TZID=America/Chicago:20220301T171500
DTSTAMP:20260425T064610
CREATED:20220302T212250Z
LAST-MODIFIED:20220302T212250Z
UID:131743-1646154900-1646154900@www.ymcashoals.org
SUMMARY:Preschool Gymnastics (Court B)
DESCRIPTION:
URL:https://www.ymcashoals.org/event/preschool-gymnastics-court-b/2022-03-01/
LOCATION:YMCA of the Shoals\, 2121 Helton Drive\, Florence\, AL\, 35630\, United States
CATEGORIES:Gym Courts A & B,Schedules
GEO:34.8324379;-87.6683435
X-APPLE-STRUCTURED-LOCATION;VALUE=URI;X-ADDRESS=YMCA of the Shoals 2121 Helton Drive Florence AL 35630 United States;X-APPLE-RADIUS=500;X-TITLE=2121 Helton Drive:geo:-87.6683435,34.8324379
END:VEVENT
BEGIN:VEVENT
DTSTART;TZID=America/Chicago:20220301T163000
DTEND;TZID=America/Chicago:20220301T171500
DTSTAMP:20260425T064610
CREATED:20220302T211805Z
LAST-MODIFIED:20220302T211805Z
UID:131486-1646152200-1646154900@www.ymcashoals.org
SUMMARY:Novice Gymnastics (Court B)
DESCRIPTION:
URL:https://www.ymcashoals.org/event/novice-gymnastics-court-b/2022-03-01/
LOCATION:YMCA of the Shoals\, 2121 Helton Drive\, Florence\, AL\, 35630\, United States
CATEGORIES:Gym Courts A & B,Schedules
GEO:34.8324379;-87.6683435
X-APPLE-STRUCTURED-LOCATION;VALUE=URI;X-ADDRESS=YMCA of the Shoals 2121 Helton Drive Florence AL 35630 United States;X-APPLE-RADIUS=500;X-TITLE=2121 Helton Drive:geo:-87.6683435,34.8324379
END:VEVENT
BEGIN:VEVENT
DTSTART;TZID=America/Chicago:20220301T153000
DTEND;TZID=America/Chicago:20220301T163000
DTSTAMP:20260425T064610
CREATED:20220302T211107Z
LAST-MODIFIED:20220302T212852Z
UID:131343-1646148600-1646152200@www.ymcashoals.org
SUMMARY:Advanced Gymnastics (Court B)
DESCRIPTION:
URL:https://www.ymcashoals.org/event/advanced-gymnastics-court-b/2022-03-01/
LOCATION:YMCA of the Shoals\, 2121 Helton Drive\, Florence\, AL\, 35630\, United States
CATEGORIES:Gym Courts A & B,Schedules
GEO:34.8324379;-87.6683435
X-APPLE-STRUCTURED-LOCATION;VALUE=URI;X-ADDRESS=YMCA of the Shoals 2121 Helton Drive Florence AL 35630 United States;X-APPLE-RADIUS=500;X-TITLE=2121 Helton Drive:geo:-87.6683435,34.8324379
END:VEVENT
BEGIN:VEVENT
DTSTART;TZID=America/Chicago:20220301T121500
DTEND;TZID=America/Chicago:20220301T150000
DTSTAMP:20260425T064610
CREATED:20220302T200146Z
LAST-MODIFIED:20220302T201712Z
UID:130649-1646136900-1646146800@www.ymcashoals.org
SUMMARY:Open Play (Court A)
DESCRIPTION:
URL:https://www.ymcashoals.org/event/open-play-court-a-3/2022-03-01/
LOCATION:YMCA of the Shoals\, 2121 Helton Drive\, Florence\, AL\, 35630\, United States
CATEGORIES:Gym Courts A & B,Schedules
GEO:34.8324379;-87.6683435
X-APPLE-STRUCTURED-LOCATION;VALUE=URI;X-ADDRESS=YMCA of the Shoals 2121 Helton Drive Florence AL 35630 United States;X-APPLE-RADIUS=500;X-TITLE=2121 Helton Drive:geo:-87.6683435,34.8324379
END:VEVENT
BEGIN:VEVENT
DTSTART;TZID=America/Chicago:20220301T100000
DTEND;TZID=America/Chicago:20220301T120000
DTSTAMP:20260425T064610
CREATED:20220302T210711Z
LAST-MODIFIED:20220302T210711Z
UID:131301-1646128800-1646136000@www.ymcashoals.org
SUMMARY:Pickleball (Court B)
DESCRIPTION:
URL:https://www.ymcashoals.org/event/pickleball-court-b-2/2022-03-01/
LOCATION:YMCA of the Shoals\, 2121 Helton Drive\, Florence\, AL\, 35630\, United States
CATEGORIES:Gym Courts A & B,Schedules
GEO:34.8324379;-87.6683435
X-APPLE-STRUCTURED-LOCATION;VALUE=URI;X-ADDRESS=YMCA of the Shoals 2121 Helton Drive Florence AL 35630 United States;X-APPLE-RADIUS=500;X-TITLE=2121 Helton Drive:geo:-87.6683435,34.8324379
END:VEVENT
BEGIN:VEVENT
DTSTART;TZID=America/Chicago:20220301T100000
DTEND;TZID=America/Chicago:20220301T120000
DTSTAMP:20260425T064610
CREATED:20220302T200041Z
LAST-MODIFIED:20220302T200041Z
UID:130621-1646128800-1646136000@www.ymcashoals.org
SUMMARY:Pickleball (Court A)
DESCRIPTION:
URL:https://www.ymcashoals.org/event/pickleball-court-a-2/2022-03-01/
LOCATION:YMCA of the Shoals\, 2121 Helton Drive\, Florence\, AL\, 35630\, United States
CATEGORIES:Gym Courts A & B,Schedules
GEO:34.8324379;-87.6683435
X-APPLE-STRUCTURED-LOCATION;VALUE=URI;X-ADDRESS=YMCA of the Shoals 2121 Helton Drive Florence AL 35630 United States;X-APPLE-RADIUS=500;X-TITLE=2121 Helton Drive:geo:-87.6683435,34.8324379
END:VEVENT
BEGIN:VEVENT
DTSTART;TZID=America/Chicago:20220301T050000
DTEND;TZID=America/Chicago:20220301T094500
DTSTAMP:20260425T064610
CREATED:20220302T204820Z
LAST-MODIFIED:20220302T204820Z
UID:131033-1646110800-1646127900@www.ymcashoals.org
SUMMARY:Individual Play (Court B)
DESCRIPTION:
URL:https://www.ymcashoals.org/event/individual-play-court-b-2/2022-03-01/
LOCATION:YMCA of the Shoals\, 2121 Helton Drive\, Florence\, AL\, 35630\, United States
CATEGORIES:Gym Courts A & B,Schedules
GEO:34.8324379;-87.6683435
X-APPLE-STRUCTURED-LOCATION;VALUE=URI;X-ADDRESS=YMCA of the Shoals 2121 Helton Drive Florence AL 35630 United States;X-APPLE-RADIUS=500;X-TITLE=2121 Helton Drive:geo:-87.6683435,34.8324379
END:VEVENT
BEGIN:VEVENT
DTSTART;TZID=America/Chicago:20220301T050000
DTEND;TZID=America/Chicago:20220301T094500
DTSTAMP:20260425T064610
CREATED:20220302T174506Z
LAST-MODIFIED:20220302T202318Z
UID:130565-1646110800-1646127900@www.ymcashoals.org
SUMMARY:Open Play (Court A)
DESCRIPTION:
URL:https://www.ymcashoals.org/event/open-play-court-a-2/2022-03-01/
LOCATION:YMCA of the Shoals\, 2121 Helton Drive\, Florence\, AL\, 35630\, United States
CATEGORIES:Gym Courts A & B,Schedules
GEO:34.8324379;-87.6683435
X-APPLE-STRUCTURED-LOCATION;VALUE=URI;X-ADDRESS=YMCA of the Shoals 2121 Helton Drive Florence AL 35630 United States;X-APPLE-RADIUS=500;X-TITLE=2121 Helton Drive:geo:-87.6683435,34.8324379
END:VEVENT
BEGIN:VEVENT
DTSTART;TZID=America/Chicago:20220204T161500
DTEND;TZID=America/Chicago:20220204T170000
DTSTAMP:20260425T064610
CREATED:20220125T193924Z
LAST-MODIFIED:20220324T145115Z
UID:129400-1643991300-1643994000@www.ymcashoals.org
SUMMARY:POUND (Emilie)
DESCRIPTION:
URL:https://www.ymcashoals.org/event/pound-emilie-2/2022-02-04/
LOCATION:YMCA of the Shoals\, 2121 Helton Drive\, Florence\, AL\, 35630\, United States
CATEGORIES:Group Exercise (GXR),Schedules
GEO:34.8324379;-87.6683435
X-APPLE-STRUCTURED-LOCATION;VALUE=URI;X-ADDRESS=YMCA of the Shoals 2121 Helton Drive Florence AL 35630 United States;X-APPLE-RADIUS=500;X-TITLE=2121 Helton Drive:geo:-87.6683435,34.8324379
END:VEVENT
BEGIN:VEVENT
DTSTART;TZID=America/Chicago:20220204T081500
DTEND;TZID=America/Chicago:20220204T090500
DTSTAMP:20260425T064610
CREATED:20220125T193800Z
LAST-MODIFIED:20220125T193800Z
UID:129346-1643962500-1643965500@www.ymcashoals.org
SUMMARY:RPM+Core (Melissa P.)
DESCRIPTION:
URL:https://www.ymcashoals.org/event/rpmcore-melissa-p/2022-02-04/
LOCATION:YMCA of the Shoals\, 2121 Helton Drive\, Florence\, AL\, 35630\, United States
CATEGORIES:Cycle Fusion (GXR2),Schedules
GEO:34.8324379;-87.6683435
X-APPLE-STRUCTURED-LOCATION;VALUE=URI;X-ADDRESS=YMCA of the Shoals 2121 Helton Drive Florence AL 35630 United States;X-APPLE-RADIUS=500;X-TITLE=2121 Helton Drive:geo:-87.6683435,34.8324379
END:VEVENT
BEGIN:VEVENT
DTSTART;TZID=America/Chicago:20220202T181500
DTEND;TZID=America/Chicago:20220202T193000
DTSTAMP:20260425T064610
CREATED:20220201T142626Z
LAST-MODIFIED:20260107T140822Z
UID:130158-1643825700-1643830200@www.ymcashoals.org
SUMMARY:Adult Karate
DESCRIPTION:
URL:https://www.ymcashoals.org/event/adult-karate-3/2022-02-02/
LOCATION:YMCA of the Shoals\, 2121 Helton Drive\, Florence\, AL\, 35630\, United States
CATEGORIES:Karate - Tang Soo Do,Schedules
GEO:34.8324379;-87.6683435
X-APPLE-STRUCTURED-LOCATION;VALUE=URI;X-ADDRESS=YMCA of the Shoals 2121 Helton Drive Florence AL 35630 United States;X-APPLE-RADIUS=500;X-TITLE=2121 Helton Drive:geo:-87.6683435,34.8324379
END:VEVENT
END:VCALENDAR