BEGIN:VCALENDAR
VERSION:2.0
PRODID:-//YMCA of the Shoals - ECPv6.15.20//NONSGML v1.0//EN
CALSCALE:GREGORIAN
METHOD:PUBLISH
X-WR-CALNAME:YMCA of the Shoals
X-ORIGINAL-URL:https://www.ymcashoals.org
X-WR-CALDESC:Events for YMCA of the Shoals
REFRESH-INTERVAL;VALUE=DURATION:PT1H
X-Robots-Tag:noindex
X-PUBLISHED-TTL:PT1H
BEGIN:VTIMEZONE
TZID:America/Chicago
BEGIN:DAYLIGHT
TZOFFSETFROM:-0600
TZOFFSETTO:-0500
TZNAME:CDT
DTSTART:20230312T080000
END:DAYLIGHT
BEGIN:STANDARD
TZOFFSETFROM:-0500
TZOFFSETTO:-0600
TZNAME:CST
DTSTART:20231105T070000
END:STANDARD
BEGIN:DAYLIGHT
TZOFFSETFROM:-0600
TZOFFSETTO:-0500
TZNAME:CDT
DTSTART:20240310T080000
END:DAYLIGHT
BEGIN:STANDARD
TZOFFSETFROM:-0500
TZOFFSETTO:-0600
TZNAME:CST
DTSTART:20241103T070000
END:STANDARD
BEGIN:DAYLIGHT
TZOFFSETFROM:-0600
TZOFFSETTO:-0500
TZNAME:CDT
DTSTART:20250309T080000
END:DAYLIGHT
BEGIN:STANDARD
TZOFFSETFROM:-0500
TZOFFSETTO:-0600
TZNAME:CST
DTSTART:20251102T070000
END:STANDARD
END:VTIMEZONE
BEGIN:VEVENT
DTSTART;TZID=America/Chicago:20240218T130000
DTEND;TZID=America/Chicago:20240218T163000
DTSTAMP:20260424T094056
CREATED:20240219T164443Z
LAST-MODIFIED:20240312T033828Z
UID:164982-1708261200-1708273800@www.ymcashoals.org
SUMMARY:Adult Lessons
DESCRIPTION:Private Only. \nTime and Day TBD. \nFor one individual\, one on one lesson designed to work on what each individual or parent would like emphasized.
URL:https://www.ymcashoals.org/event/adult-lessons-2/2024-02-18/
LOCATION:YMCA of the Shoals\, 2121 Helton Drive\, Florence\, AL\, 35630\, United States
CATEGORIES:Leisure Pool Schedule,Schedules,Swim Lessons
GEO:34.8324379;-87.6683435
X-APPLE-STRUCTURED-LOCATION;VALUE=URI;X-ADDRESS=YMCA of the Shoals 2121 Helton Drive Florence AL 35630 United States;X-APPLE-RADIUS=500;X-TITLE=2121 Helton Drive:geo:-87.6683435,34.8324379
END:VEVENT
BEGIN:VEVENT
DTSTART;TZID=America/Chicago:20240213T170000
DTEND;TZID=America/Chicago:20240213T190000
DTSTAMP:20260424T094056
CREATED:20240110T170639Z
LAST-MODIFIED:20240110T170639Z
UID:160248-1707843600-1707850800@www.ymcashoals.org
SUMMARY:CPR & 1st Aid
DESCRIPTION:Must pre-register.
URL:https://www.ymcashoals.org/event/cpr-1st-aid-16/
LOCATION:YMCA of the Shoals\, 2121 Helton Drive\, Florence\, AL\, 35630\, United States
CATEGORIES:CPR,Schedules
GEO:34.8324379;-87.6683435
X-APPLE-STRUCTURED-LOCATION;VALUE=URI;X-ADDRESS=YMCA of the Shoals 2121 Helton Drive Florence AL 35630 United States;X-APPLE-RADIUS=500;X-TITLE=2121 Helton Drive:geo:-87.6683435,34.8324379
END:VEVENT
BEGIN:VEVENT
DTSTART;TZID=America/Chicago:20240125T170000
DTEND;TZID=America/Chicago:20240125T190000
DTSTAMP:20260424T094056
CREATED:20240110T170542Z
LAST-MODIFIED:20240110T170542Z
UID:160246-1706202000-1706209200@www.ymcashoals.org
SUMMARY:CPR & 1st Aid
DESCRIPTION:Must pre-register.
URL:https://www.ymcashoals.org/event/cpr-1st-aid-15/
LOCATION:YMCA of the Shoals\, 2121 Helton Drive\, Florence\, AL\, 35630\, United States
CATEGORIES:CPR,Schedules
GEO:34.8324379;-87.6683435
X-APPLE-STRUCTURED-LOCATION;VALUE=URI;X-ADDRESS=YMCA of the Shoals 2121 Helton Drive Florence AL 35630 United States;X-APPLE-RADIUS=500;X-TITLE=2121 Helton Drive:geo:-87.6683435,34.8324379
END:VEVENT
BEGIN:VEVENT
DTSTART;TZID=America/Chicago:20240122T113000
DTEND;TZID=America/Chicago:20240122T130000
DTSTAMP:20260424T094056
CREATED:20240123T193215Z
LAST-MODIFIED:20240124T144124Z
UID:160659-1705923000-1705928400@www.ymcashoals.org
SUMMARY:*Rock Steady Boxing (Michael)
DESCRIPTION:*Class meets in the gymnasium on Court B.
URL:https://www.ymcashoals.org/event/rock-steady-boxing-michael/2024-01-22/
LOCATION:YMCA of the Shoals\, 2121 Helton Drive\, Florence\, AL\, 35630\, United States
CATEGORIES:Schedules,Spirit/Mind/Body (GXR3)
GEO:34.8324379;-87.6683435
X-APPLE-STRUCTURED-LOCATION;VALUE=URI;X-ADDRESS=YMCA of the Shoals 2121 Helton Drive Florence AL 35630 United States;X-APPLE-RADIUS=500;X-TITLE=2121 Helton Drive:geo:-87.6683435,34.8324379
END:VEVENT
BEGIN:VEVENT
DTSTART;TZID=America/Chicago:20240110T081500
DTEND;TZID=America/Chicago:20240110T090000
DTSTAMP:20260424T094056
CREATED:20200527T202728Z
LAST-MODIFIED:20260106T202030Z
UID:102772-1704874500-1704877200@www.ymcashoals.org
SUMMARY:Y Dance (Leslie)
DESCRIPTION:
URL:https://www.ymcashoals.org/event/y-dance-leslie/2024-01-10/
LOCATION:YMCA of the Shoals\, 2121 Helton Drive\, Florence\, AL\, 35630\, United States
CATEGORIES:Group Exercise (GXR),Schedules
GEO:34.8324379;-87.6683435
X-APPLE-STRUCTURED-LOCATION;VALUE=URI;X-ADDRESS=YMCA of the Shoals 2121 Helton Drive Florence AL 35630 United States;X-APPLE-RADIUS=500;X-TITLE=2121 Helton Drive:geo:-87.6683435,34.8324379
END:VEVENT
BEGIN:VEVENT
DTSTART;TZID=America/Chicago:20240107T130000
DTEND;TZID=America/Chicago:20240107T170000
DTSTAMP:20260424T094056
CREATED:20240101T162631Z
LAST-MODIFIED:20240101T162631Z
UID:158793-1704632400-1704646800@www.ymcashoals.org
SUMMARY:ALL DAY CROSS COURT PLAY - Court A
DESCRIPTION:
URL:https://www.ymcashoals.org/event/all-day-cross-court-play-court-a-2/2024-01-07/
LOCATION:YMCA of the Shoals\, 2121 Helton Drive\, Florence\, AL\, 35630\, United States
CATEGORIES:Gym Courts A & B,Schedules
GEO:34.8324379;-87.6683435
X-APPLE-STRUCTURED-LOCATION;VALUE=URI;X-ADDRESS=YMCA of the Shoals 2121 Helton Drive Florence AL 35630 United States;X-APPLE-RADIUS=500;X-TITLE=2121 Helton Drive:geo:-87.6683435,34.8324379
END:VEVENT
BEGIN:VEVENT
DTSTART;TZID=America/Chicago:20240106T120000
DTEND;TZID=America/Chicago:20240106T170000
DTSTAMP:20260424T094056
CREATED:20240101T162525Z
LAST-MODIFIED:20240101T170009Z
UID:158736-1704542400-1704560400@www.ymcashoals.org
SUMMARY:OPEN PLAY - Courts A & B
DESCRIPTION:
URL:https://www.ymcashoals.org/event/open-play-court-a-12/2024-01-06/
LOCATION:YMCA of the Shoals\, 2121 Helton Drive\, Florence\, AL\, 35630\, United States
CATEGORIES:Gym Courts A & B,Schedules
GEO:34.8324379;-87.6683435
X-APPLE-STRUCTURED-LOCATION;VALUE=URI;X-ADDRESS=YMCA of the Shoals 2121 Helton Drive Florence AL 35630 United States;X-APPLE-RADIUS=500;X-TITLE=2121 Helton Drive:geo:-87.6683435,34.8324379
END:VEVENT
BEGIN:VEVENT
DTSTART;TZID=America/Chicago:20240106T060000
DTEND;TZID=America/Chicago:20240106T090000
DTSTAMP:20260424T094056
CREATED:20240101T162349Z
LAST-MODIFIED:20240101T170045Z
UID:158643-1704520800-1704531600@www.ymcashoals.org
SUMMARY:OPEN PLAY - Courts A & B
DESCRIPTION:
URL:https://www.ymcashoals.org/event/open-play-court-a-11/2024-01-06/
LOCATION:YMCA of the Shoals\, 2121 Helton Drive\, Florence\, AL\, 35630\, United States
CATEGORIES:Gym Courts A & B,Schedules
GEO:34.8324379;-87.6683435
X-APPLE-STRUCTURED-LOCATION;VALUE=URI;X-ADDRESS=YMCA of the Shoals 2121 Helton Drive Florence AL 35630 United States;X-APPLE-RADIUS=500;X-TITLE=2121 Helton Drive:geo:-87.6683435,34.8324379
END:VEVENT
BEGIN:VEVENT
DTSTART;TZID=America/Chicago:20240105T050000
DTEND;TZID=America/Chicago:20240105T150000
DTSTAMP:20260424T094056
CREATED:20240101T161023Z
LAST-MODIFIED:20240101T161831Z
UID:157929-1704430800-1704466800@www.ymcashoals.org
SUMMARY:OPEN PLAY - Court A
DESCRIPTION:
URL:https://www.ymcashoals.org/event/open-play-court-a-10/2024-01-05/
LOCATION:YMCA of the Shoals\, 2121 Helton Drive\, Florence\, AL\, 35630\, United States
CATEGORIES:Gym Courts A & B,Schedules
GEO:34.8324379;-87.6683435
X-APPLE-STRUCTURED-LOCATION;VALUE=URI;X-ADDRESS=YMCA of the Shoals 2121 Helton Drive Florence AL 35630 United States;X-APPLE-RADIUS=500;X-TITLE=2121 Helton Drive:geo:-87.6683435,34.8324379
END:VEVENT
BEGIN:VEVENT
DTSTART;TZID=America/Chicago:20240104T101000
DTEND;TZID=America/Chicago:20240104T110000
DTSTAMP:20260424T094056
CREATED:20221228T203721Z
LAST-MODIFIED:20240112T164821Z
UID:145097-1704363000-1704366000@www.ymcashoals.org
SUMMARY:Muscle Works (Angela D.)
DESCRIPTION:
URL:https://www.ymcashoals.org/event/muscle-works-angela-d-2/2024-01-04/
LOCATION:YMCA of the Shoals\, 2121 Helton Drive\, Florence\, AL\, 35630\, United States
CATEGORIES:Group Exercise (GXR),Schedules
GEO:34.8324379;-87.6683435
X-APPLE-STRUCTURED-LOCATION;VALUE=URI;X-ADDRESS=YMCA of the Shoals 2121 Helton Drive Florence AL 35630 United States;X-APPLE-RADIUS=500;X-TITLE=2121 Helton Drive:geo:-87.6683435,34.8324379
END:VEVENT
BEGIN:VEVENT
DTSTART;TZID=America/Chicago:20240103T051500
DTEND;TZID=America/Chicago:20240103T060000
DTSTAMP:20260424T094056
CREATED:20231227T162900Z
LAST-MODIFIED:20231227T162900Z
UID:156504-1704258900-1704261600@www.ymcashoals.org
SUMMARY:Y Cycle (Christy)
DESCRIPTION:
URL:https://www.ymcashoals.org/event/y-cycle-christy/2024-01-03/
LOCATION:YMCA of the Shoals\, 2121 Helton Drive\, Florence\, AL\, 35630\, United States
CATEGORIES:Cycle Fusion (GXR2),Schedules
GEO:34.8324379;-87.6683435
X-APPLE-STRUCTURED-LOCATION;VALUE=URI;X-ADDRESS=YMCA of the Shoals 2121 Helton Drive Florence AL 35630 United States;X-APPLE-RADIUS=500;X-TITLE=2121 Helton Drive:geo:-87.6683435,34.8324379
END:VEVENT
BEGIN:VEVENT
DTSTART;TZID=America/Chicago:20240102T183000
DTEND;TZID=America/Chicago:20240102T203000
DTSTAMP:20260424T094056
CREATED:20240101T164702Z
LAST-MODIFIED:20240126T164834Z
UID:159708-1704220200-1704227400@www.ymcashoals.org
SUMMARY:PICKLEBALL - Court B
DESCRIPTION:
URL:https://www.ymcashoals.org/event/pickleball-court-b-5/2024-01-02/
LOCATION:YMCA of the Shoals\, 2121 Helton Drive\, Florence\, AL\, 35630\, United States
CATEGORIES:Gym Courts A & B,Schedules
GEO:34.8324379;-87.6683435
X-APPLE-STRUCTURED-LOCATION;VALUE=URI;X-ADDRESS=YMCA of the Shoals 2121 Helton Drive Florence AL 35630 United States;X-APPLE-RADIUS=500;X-TITLE=2121 Helton Drive:geo:-87.6683435,34.8324379
END:VEVENT
BEGIN:VEVENT
DTSTART;TZID=America/Chicago:20240102T183000
DTEND;TZID=America/Chicago:20240102T203000
DTSTAMP:20260424T094056
CREATED:20240101T160429Z
LAST-MODIFIED:20240126T165028Z
UID:157772-1704220200-1704227400@www.ymcashoals.org
SUMMARY:PICKLEBALL - Court A
DESCRIPTION:
URL:https://www.ymcashoals.org/event/pickleball-court-a-5/2024-01-02/
LOCATION:YMCA of the Shoals\, 2121 Helton Drive\, Florence\, AL\, 35630\, United States
CATEGORIES:Gym Courts A & B,Schedules
GEO:34.8324379;-87.6683435
X-APPLE-STRUCTURED-LOCATION;VALUE=URI;X-ADDRESS=YMCA of the Shoals 2121 Helton Drive Florence AL 35630 United States;X-APPLE-RADIUS=500;X-TITLE=2121 Helton Drive:geo:-87.6683435,34.8324379
END:VEVENT
BEGIN:VEVENT
DTSTART;TZID=America/Chicago:20240102T160000
DTEND;TZID=America/Chicago:20240102T180000
DTSTAMP:20260424T094056
CREATED:20240101T164625Z
LAST-MODIFIED:20240101T164625Z
UID:159685-1704211200-1704218400@www.ymcashoals.org
SUMMARY:OPEN PLAY - Court B
DESCRIPTION:
URL:https://www.ymcashoals.org/event/open-play-court-b-7/2024-01-02/
LOCATION:YMCA of the Shoals\, 2121 Helton Drive\, Florence\, AL\, 35630\, United States
CATEGORIES:Gym Courts A & B,Schedules
GEO:34.8324379;-87.6683435
X-APPLE-STRUCTURED-LOCATION;VALUE=URI;X-ADDRESS=YMCA of the Shoals 2121 Helton Drive Florence AL 35630 United States;X-APPLE-RADIUS=500;X-TITLE=2121 Helton Drive:geo:-87.6683435,34.8324379
END:VEVENT
BEGIN:VEVENT
DTSTART;TZID=America/Chicago:20240102T160000
DTEND;TZID=America/Chicago:20240102T180000
DTSTAMP:20260424T094056
CREATED:20240101T160311Z
LAST-MODIFIED:20240101T160311Z
UID:157657-1704211200-1704218400@www.ymcashoals.org
SUMMARY:OPEN PLAY - Court A
DESCRIPTION:
URL:https://www.ymcashoals.org/event/open-play-court-a-8/2024-01-02/
LOCATION:YMCA of the Shoals\, 2121 Helton Drive\, Florence\, AL\, 35630\, United States
CATEGORIES:Gym Courts A & B,Schedules
GEO:34.8324379;-87.6683435
X-APPLE-STRUCTURED-LOCATION;VALUE=URI;X-ADDRESS=YMCA of the Shoals 2121 Helton Drive Florence AL 35630 United States;X-APPLE-RADIUS=500;X-TITLE=2121 Helton Drive:geo:-87.6683435,34.8324379
END:VEVENT
BEGIN:VEVENT
DTSTART;TZID=America/Chicago:20240102T120000
DTEND;TZID=America/Chicago:20240102T150000
DTSTAMP:20260424T094056
CREATED:20240101T164530Z
LAST-MODIFIED:20240101T164530Z
UID:159648-1704196800-1704207600@www.ymcashoals.org
SUMMARY:OPEN PLAY - Court B
DESCRIPTION:
URL:https://www.ymcashoals.org/event/open-play-court-b-6/2024-01-02/
LOCATION:YMCA of the Shoals\, 2121 Helton Drive\, Florence\, AL\, 35630\, United States
CATEGORIES:Gym Courts A & B,Schedules
GEO:34.8324379;-87.6683435
X-APPLE-STRUCTURED-LOCATION;VALUE=URI;X-ADDRESS=YMCA of the Shoals 2121 Helton Drive Florence AL 35630 United States;X-APPLE-RADIUS=500;X-TITLE=2121 Helton Drive:geo:-87.6683435,34.8324379
END:VEVENT
BEGIN:VEVENT
DTSTART;TZID=America/Chicago:20240102T120000
DTEND;TZID=America/Chicago:20240102T150000
DTSTAMP:20260424T094056
CREATED:20240101T155930Z
LAST-MODIFIED:20240101T164928Z
UID:157334-1704196800-1704207600@www.ymcashoals.org
SUMMARY:OPEN PLAY - Courts A & B
DESCRIPTION:
URL:https://www.ymcashoals.org/event/open-play-court-a-7/2024-01-02/
LOCATION:YMCA of the Shoals\, 2121 Helton Drive\, Florence\, AL\, 35630\, United States
CATEGORIES:Gym Courts A & B,Schedules
GEO:34.8324379;-87.6683435
X-APPLE-STRUCTURED-LOCATION;VALUE=URI;X-ADDRESS=YMCA of the Shoals 2121 Helton Drive Florence AL 35630 United States;X-APPLE-RADIUS=500;X-TITLE=2121 Helton Drive:geo:-87.6683435,34.8324379
END:VEVENT
BEGIN:VEVENT
DTSTART;TZID=America/Chicago:20240102T100000
DTEND;TZID=America/Chicago:20240102T120000
DTSTAMP:20260424T094056
CREATED:20240101T164446Z
LAST-MODIFIED:20240101T164446Z
UID:159620-1704189600-1704196800@www.ymcashoals.org
SUMMARY:PICKLEBALL - Court B
DESCRIPTION:
URL:https://www.ymcashoals.org/event/pickleball-court-b-4/2024-01-02/
LOCATION:YMCA of the Shoals\, 2121 Helton Drive\, Florence\, AL\, 35630\, United States
CATEGORIES:Gym Courts A & B,Schedules
GEO:34.8324379;-87.6683435
X-APPLE-STRUCTURED-LOCATION;VALUE=URI;X-ADDRESS=YMCA of the Shoals 2121 Helton Drive Florence AL 35630 United States;X-APPLE-RADIUS=500;X-TITLE=2121 Helton Drive:geo:-87.6683435,34.8324379
END:VEVENT
BEGIN:VEVENT
DTSTART;TZID=America/Chicago:20240102T100000
DTEND;TZID=America/Chicago:20240102T120000
DTSTAMP:20260424T094056
CREATED:20240101T155846Z
LAST-MODIFIED:20240101T162100Z
UID:157267-1704189600-1704196800@www.ymcashoals.org
SUMMARY:PICKLEBALL - Court A
DESCRIPTION:
URL:https://www.ymcashoals.org/event/pickleball-court-a-4/2024-01-02/
LOCATION:YMCA of the Shoals\, 2121 Helton Drive\, Florence\, AL\, 35630\, United States
CATEGORIES:Gym Courts A & B,Schedules
GEO:34.8324379;-87.6683435
X-APPLE-STRUCTURED-LOCATION;VALUE=URI;X-ADDRESS=YMCA of the Shoals 2121 Helton Drive Florence AL 35630 United States;X-APPLE-RADIUS=500;X-TITLE=2121 Helton Drive:geo:-87.6683435,34.8324379
END:VEVENT
BEGIN:VEVENT
DTSTART;TZID=America/Chicago:20240102T091000
DTEND;TZID=America/Chicago:20240102T100000
DTSTAMP:20260424T094056
CREATED:20231227T163316Z
LAST-MODIFIED:20240917T125025Z
UID:156566-1704186600-1704189600@www.ymcashoals.org
SUMMARY:Kickboxing(Ellé)
DESCRIPTION:
URL:https://www.ymcashoals.org/event/body-combat-elle/2024-01-02/
LOCATION:YMCA of the Shoals\, 2121 Helton Drive\, Florence\, AL\, 35630\, United States
CATEGORIES:Group Exercise (GXR),Schedules
GEO:34.8324379;-87.6683435
X-APPLE-STRUCTURED-LOCATION;VALUE=URI;X-ADDRESS=YMCA of the Shoals 2121 Helton Drive Florence AL 35630 United States;X-APPLE-RADIUS=500;X-TITLE=2121 Helton Drive:geo:-87.6683435,34.8324379
END:VEVENT
BEGIN:VEVENT
DTSTART;TZID=America/Chicago:20240102T080000
DTEND;TZID=America/Chicago:20240102T100000
DTSTAMP:20260424T094056
CREATED:20240101T164358Z
LAST-MODIFIED:20240101T164358Z
UID:159591-1704182400-1704189600@www.ymcashoals.org
SUMMARY:ROCK STEADY BOXING - Court B
DESCRIPTION:
URL:https://www.ymcashoals.org/event/rock-steady-boxing-court-b/2024-01-02/
LOCATION:YMCA of the Shoals\, 2121 Helton Drive\, Florence\, AL\, 35630\, United States
CATEGORIES:Gym Courts A & B,Schedules
GEO:34.8324379;-87.6683435
X-APPLE-STRUCTURED-LOCATION;VALUE=URI;X-ADDRESS=YMCA of the Shoals 2121 Helton Drive Florence AL 35630 United States;X-APPLE-RADIUS=500;X-TITLE=2121 Helton Drive:geo:-87.6683435,34.8324379
END:VEVENT
BEGIN:VEVENT
DTSTART;TZID=America/Chicago:20240102T050000
DTEND;TZID=America/Chicago:20240102T100000
DTSTAMP:20260424T094056
CREATED:20240101T155808Z
LAST-MODIFIED:20240101T160139Z
UID:157244-1704171600-1704189600@www.ymcashoals.org
SUMMARY:OPEN PLAY - Court A
DESCRIPTION:
URL:https://www.ymcashoals.org/event/open-play-court-a-6/2024-01-02/
LOCATION:YMCA of the Shoals\, 2121 Helton Drive\, Florence\, AL\, 35630\, United States
CATEGORIES:Gym Courts A & B,Schedules
GEO:34.8324379;-87.6683435
X-APPLE-STRUCTURED-LOCATION;VALUE=URI;X-ADDRESS=YMCA of the Shoals 2121 Helton Drive Florence AL 35630 United States;X-APPLE-RADIUS=500;X-TITLE=2121 Helton Drive:geo:-87.6683435,34.8324379
END:VEVENT
BEGIN:VEVENT
DTSTART;TZID=America/Chicago:20240102T050000
DTEND;TZID=America/Chicago:20240102T080000
DTSTAMP:20260424T094056
CREATED:20240101T163740Z
LAST-MODIFIED:20240101T163740Z
UID:159476-1704171600-1704182400@www.ymcashoals.org
SUMMARY:OPEN PLAY - Court B
DESCRIPTION:
URL:https://www.ymcashoals.org/event/open-play-court-b-5/2024-01-02/
LOCATION:YMCA of the Shoals\, 2121 Helton Drive\, Florence\, AL\, 35630\, United States
CATEGORIES:Gym Courts A & B,Schedules
GEO:34.8324379;-87.6683435
X-APPLE-STRUCTURED-LOCATION;VALUE=URI;X-ADDRESS=YMCA of the Shoals 2121 Helton Drive Florence AL 35630 United States;X-APPLE-RADIUS=500;X-TITLE=2121 Helton Drive:geo:-87.6683435,34.8324379
END:VEVENT
BEGIN:VEVENT
DTSTART;TZID=America/Chicago:20240101T181500
DTEND;TZID=America/Chicago:20240101T193000
DTSTAMP:20260424T094056
CREATED:20240101T163536Z
LAST-MODIFIED:20240820T144526Z
UID:159313-1704132900-1704137400@www.ymcashoals.org
SUMMARY:ADULT KARATE - Court B
DESCRIPTION:
URL:https://www.ymcashoals.org/event/adult-karate-court-b-2/2024-01-01/
LOCATION:YMCA of the Shoals\, 2121 Helton Drive\, Florence\, AL\, 35630\, United States
CATEGORIES:Gym Courts A & B,Karate - Tang Soo Do,Schedules
GEO:34.8324379;-87.6683435
X-APPLE-STRUCTURED-LOCATION;VALUE=URI;X-ADDRESS=YMCA of the Shoals 2121 Helton Drive Florence AL 35630 United States;X-APPLE-RADIUS=500;X-TITLE=2121 Helton Drive:geo:-87.6683435,34.8324379
END:VEVENT
BEGIN:VEVENT
DTSTART;TZID=America/Chicago:20240101T160000
DTEND;TZID=America/Chicago:20240101T210000
DTSTAMP:20260424T094056
CREATED:20240101T155635Z
LAST-MODIFIED:20240101T165403Z
UID:157079-1704124800-1704142800@www.ymcashoals.org
SUMMARY:OPEN PLAY - Courts A & B
DESCRIPTION:
URL:https://www.ymcashoals.org/event/open-play-court-a-5/2024-01-01/
LOCATION:YMCA of the Shoals\, 2121 Helton Drive\, Florence\, AL\, 35630\, United States
CATEGORIES:Gym Courts A & B,Schedules
GEO:34.8324379;-87.6683435
X-APPLE-STRUCTURED-LOCATION;VALUE=URI;X-ADDRESS=YMCA of the Shoals 2121 Helton Drive Florence AL 35630 United States;X-APPLE-RADIUS=500;X-TITLE=2121 Helton Drive:geo:-87.6683435,34.8324379
END:VEVENT
BEGIN:VEVENT
DTSTART;TZID=America/Chicago:20240101T150000
DTEND;TZID=America/Chicago:20240101T160000
DTSTAMP:20260424T094056
CREATED:20240101T155438Z
LAST-MODIFIED:20240101T163316Z
UID:156904-1704121200-1704124800@www.ymcashoals.org
SUMMARY:BEFORE/AFTER SCHOOL PLAY - Courts A & B
DESCRIPTION:
URL:https://www.ymcashoals.org/event/before-after-school-play-court-a/2024-01-01/
LOCATION:YMCA of the Shoals\, 2121 Helton Drive\, Florence\, AL\, 35630\, United States
CATEGORIES:Gym Courts A & B,Schedules
GEO:34.8324379;-87.6683435
X-APPLE-STRUCTURED-LOCATION;VALUE=URI;X-ADDRESS=YMCA of the Shoals 2121 Helton Drive Florence AL 35630 United States;X-APPLE-RADIUS=500;X-TITLE=2121 Helton Drive:geo:-87.6683435,34.8324379
END:VEVENT
BEGIN:VEVENT
DTSTART;TZID=America/Chicago:20240101T100000
DTEND;TZID=America/Chicago:20240101T150000
DTSTAMP:20260424T094056
CREATED:20240101T163237Z
LAST-MODIFIED:20240101T163237Z
UID:159007-1704103200-1704121200@www.ymcashoals.org
SUMMARY:OPEN PLAY - Court B
DESCRIPTION:
URL:https://www.ymcashoals.org/event/open-play-court-b-3/2024-01-01/
LOCATION:YMCA of the Shoals\, 2121 Helton Drive\, Florence\, AL\, 35630\, United States
CATEGORIES:Gym Courts A & B,Schedules
GEO:34.8324379;-87.6683435
X-APPLE-STRUCTURED-LOCATION;VALUE=URI;X-ADDRESS=YMCA of the Shoals 2121 Helton Drive Florence AL 35630 United States;X-APPLE-RADIUS=500;X-TITLE=2121 Helton Drive:geo:-87.6683435,34.8324379
END:VEVENT
BEGIN:VEVENT
DTSTART;TZID=America/Chicago:20240101T090000
DTEND;TZID=America/Chicago:20240101T100000
DTSTAMP:20260424T094056
CREATED:20240101T162854Z
LAST-MODIFIED:20240820T144356Z
UID:158890-1704099600-1704103200@www.ymcashoals.org
SUMMARY:KARATE - Court B
DESCRIPTION:
URL:https://www.ymcashoals.org/event/karate-court-b-2/2024-01-01/
LOCATION:YMCA of the Shoals\, 2121 Helton Drive\, Florence\, AL\, 35630\, United States
CATEGORIES:Gym Courts A & B,Karate - Tang Soo Do,Schedules
GEO:34.8324379;-87.6683435
X-APPLE-STRUCTURED-LOCATION;VALUE=URI;X-ADDRESS=YMCA of the Shoals 2121 Helton Drive Florence AL 35630 United States;X-APPLE-RADIUS=500;X-TITLE=2121 Helton Drive:geo:-87.6683435,34.8324379
END:VEVENT
BEGIN:VEVENT
DTSTART;TZID=America/Chicago:20240101T050000
DTEND;TZID=America/Chicago:20240101T150000
DTSTAMP:20260424T094056
CREATED:20240101T155344Z
LAST-MODIFIED:20240101T161312Z
UID:156845-1704085200-1704121200@www.ymcashoals.org
SUMMARY:OPEN PLAY - Court A
DESCRIPTION:
URL:https://www.ymcashoals.org/event/open-play-court-a-4/2024-01-01/
LOCATION:YMCA of the Shoals\, 2121 Helton Drive\, Florence\, AL\, 35630\, United States
CATEGORIES:Gym Courts A & B,Schedules
GEO:34.8324379;-87.6683435
X-APPLE-STRUCTURED-LOCATION;VALUE=URI;X-ADDRESS=YMCA of the Shoals 2121 Helton Drive Florence AL 35630 United States;X-APPLE-RADIUS=500;X-TITLE=2121 Helton Drive:geo:-87.6683435,34.8324379
END:VEVENT
BEGIN:VEVENT
DTSTART;TZID=America/Chicago:20240101T050000
DTEND;TZID=America/Chicago:20240101T090000
DTSTAMP:20260424T094056
CREATED:20240101T162808Z
LAST-MODIFIED:20240101T162808Z
UID:158850-1704085200-1704099600@www.ymcashoals.org
SUMMARY:OPEN PLAY - Court B
DESCRIPTION:
URL:https://www.ymcashoals.org/event/open-play-court-b-2/2024-01-01/
LOCATION:YMCA of the Shoals\, 2121 Helton Drive\, Florence\, AL\, 35630\, United States
CATEGORIES:Gym Courts A & B,Schedules
GEO:34.8324379;-87.6683435
X-APPLE-STRUCTURED-LOCATION;VALUE=URI;X-ADDRESS=YMCA of the Shoals 2121 Helton Drive Florence AL 35630 United States;X-APPLE-RADIUS=500;X-TITLE=2121 Helton Drive:geo:-87.6683435,34.8324379
END:VEVENT
END:VCALENDAR