BEGIN:VCALENDAR
VERSION:2.0
PRODID:-//YMCA of the Shoals - ECPv6.15.20//NONSGML v1.0//EN
CALSCALE:GREGORIAN
METHOD:PUBLISH
X-WR-CALNAME:YMCA of the Shoals
X-ORIGINAL-URL:https://www.ymcashoals.org
X-WR-CALDESC:Events for YMCA of the Shoals
REFRESH-INTERVAL;VALUE=DURATION:PT1H
X-Robots-Tag:noindex
X-PUBLISHED-TTL:PT1H
BEGIN:VTIMEZONE
TZID:America/Chicago
BEGIN:DAYLIGHT
TZOFFSETFROM:-0600
TZOFFSETTO:-0500
TZNAME:CDT
DTSTART:20220313T080000
END:DAYLIGHT
BEGIN:STANDARD
TZOFFSETFROM:-0500
TZOFFSETTO:-0600
TZNAME:CST
DTSTART:20221106T070000
END:STANDARD
BEGIN:DAYLIGHT
TZOFFSETFROM:-0600
TZOFFSETTO:-0500
TZNAME:CDT
DTSTART:20230312T080000
END:DAYLIGHT
BEGIN:STANDARD
TZOFFSETFROM:-0500
TZOFFSETTO:-0600
TZNAME:CST
DTSTART:20231105T070000
END:STANDARD
BEGIN:DAYLIGHT
TZOFFSETFROM:-0600
TZOFFSETTO:-0500
TZNAME:CDT
DTSTART:20240310T080000
END:DAYLIGHT
BEGIN:STANDARD
TZOFFSETFROM:-0500
TZOFFSETTO:-0600
TZNAME:CST
DTSTART:20241103T070000
END:STANDARD
END:VTIMEZONE
BEGIN:VEVENT
DTSTART;TZID=America/Chicago:20230601T180000
DTEND;TZID=America/Chicago:20230601T200000
DTSTAMP:20260425T100947
CREATED:20230531T160811Z
LAST-MODIFIED:20230531T160811Z
UID:152796-1685642400-1685649600@www.ymcashoals.org
SUMMARY:Pickleball Ct. A
DESCRIPTION:
URL:https://www.ymcashoals.org/event/pickleball-ct-a/2023-06-01/
LOCATION:YMCA of the Shoals\, 2121 Helton Drive\, Florence\, AL\, 35630\, United States
CATEGORIES:Gym Courts A & B,Schedules
GEO:34.8324379;-87.6683435
X-APPLE-STRUCTURED-LOCATION;VALUE=URI;X-ADDRESS=YMCA of the Shoals 2121 Helton Drive Florence AL 35630 United States;X-APPLE-RADIUS=500;X-TITLE=2121 Helton Drive:geo:-87.6683435,34.8324379
END:VEVENT
BEGIN:VEVENT
DTSTART;TZID=America/Chicago:20230601T121500
DTEND;TZID=America/Chicago:20230601T174500
DTSTAMP:20260425T100947
CREATED:20230531T162506Z
LAST-MODIFIED:20230531T162506Z
UID:152955-1685621700-1685641500@www.ymcashoals.org
SUMMARY:SUMMER DAY CAMP Ct. B
DESCRIPTION:
URL:https://www.ymcashoals.org/event/summer-day-camp-ct-b-2/2023-06-01/
LOCATION:YMCA of the Shoals\, 2121 Helton Drive\, Florence\, AL\, 35630\, United States
CATEGORIES:Gym Courts A & B,Schedules
GEO:34.8324379;-87.6683435
X-APPLE-STRUCTURED-LOCATION;VALUE=URI;X-ADDRESS=YMCA of the Shoals 2121 Helton Drive Florence AL 35630 United States;X-APPLE-RADIUS=500;X-TITLE=2121 Helton Drive:geo:-87.6683435,34.8324379
END:VEVENT
BEGIN:VEVENT
DTSTART;TZID=America/Chicago:20230601T121500
DTEND;TZID=America/Chicago:20230601T174500
DTSTAMP:20260425T100947
CREATED:20230531T160258Z
LAST-MODIFIED:20230531T160258Z
UID:152740-1685621700-1685641500@www.ymcashoals.org
SUMMARY:Open Play Ct. A
DESCRIPTION:
URL:https://www.ymcashoals.org/event/open-play-ct-a-4/2023-06-01/
LOCATION:YMCA of the Shoals\, 2121 Helton Drive\, Florence\, AL\, 35630\, United States
CATEGORIES:Gym Courts A & B,Schedules
GEO:34.8324379;-87.6683435
X-APPLE-STRUCTURED-LOCATION;VALUE=URI;X-ADDRESS=YMCA of the Shoals 2121 Helton Drive Florence AL 35630 United States;X-APPLE-RADIUS=500;X-TITLE=2121 Helton Drive:geo:-87.6683435,34.8324379
END:VEVENT
BEGIN:VEVENT
DTSTART;TZID=America/Chicago:20230601T100000
DTEND;TZID=America/Chicago:20230601T120000
DTSTAMP:20260425T100947
CREATED:20230531T162218Z
LAST-MODIFIED:20230531T162218Z
UID:152937-1685613600-1685620800@www.ymcashoals.org
SUMMARY:Pickleball Ct. B
DESCRIPTION:
URL:https://www.ymcashoals.org/event/pickleball-ct-b/2023-06-01/
LOCATION:YMCA of the Shoals\, 2121 Helton Drive\, Florence\, AL\, 35630\, United States
CATEGORIES:Gym Courts A & B,Schedules
GEO:34.8324379;-87.6683435
X-APPLE-STRUCTURED-LOCATION;VALUE=URI;X-ADDRESS=YMCA of the Shoals 2121 Helton Drive Florence AL 35630 United States;X-APPLE-RADIUS=500;X-TITLE=2121 Helton Drive:geo:-87.6683435,34.8324379
END:VEVENT
BEGIN:VEVENT
DTSTART;TZID=America/Chicago:20230601T100000
DTEND;TZID=America/Chicago:20230601T120000
DTSTAMP:20260425T100947
CREATED:20230531T160136Z
LAST-MODIFIED:20230531T160148Z
UID:152705-1685613600-1685620800@www.ymcashoals.org
SUMMARY:Pickleball Ct. A
DESCRIPTION:
URL:https://www.ymcashoals.org/event/pickleball-2/2023-06-01/
LOCATION:YMCA of the Shoals\, 2121 Helton Drive\, Florence\, AL\, 35630\, United States
CATEGORIES:Gym Courts A & B,Schedules
GEO:34.8324379;-87.6683435
X-APPLE-STRUCTURED-LOCATION;VALUE=URI;X-ADDRESS=YMCA of the Shoals 2121 Helton Drive Florence AL 35630 United States;X-APPLE-RADIUS=500;X-TITLE=2121 Helton Drive:geo:-87.6683435,34.8324379
END:VEVENT
BEGIN:VEVENT
DTSTART;TZID=America/Chicago:20230601T083000
DTEND;TZID=America/Chicago:20230601T100000
DTSTAMP:20260425T100947
CREATED:20230531T161523Z
LAST-MODIFIED:20230726T163056Z
UID:152844-1685608200-1685613600@www.ymcashoals.org
SUMMARY:Rock Steady Boxing (Heidi/Sara) Ct. B
DESCRIPTION:
URL:https://www.ymcashoals.org/event/rock-steady-boxing-renee-sara-ct-b/2023-06-01/
LOCATION:YMCA of the Shoals\, 2121 Helton Drive\, Florence\, AL\, 35630\, United States
CATEGORIES:Gym Courts A & B,Schedules
GEO:34.8324379;-87.6683435
X-APPLE-STRUCTURED-LOCATION;VALUE=URI;X-ADDRESS=YMCA of the Shoals 2121 Helton Drive Florence AL 35630 United States;X-APPLE-RADIUS=500;X-TITLE=2121 Helton Drive:geo:-87.6683435,34.8324379
END:VEVENT
BEGIN:VEVENT
DTSTART;TZID=America/Chicago:20230601T053000
DTEND;TZID=America/Chicago:20230601T090000
DTSTAMP:20260425T100947
CREATED:20230102T151932Z
LAST-MODIFIED:20230531T212504Z
UID:146630-1685597400-1685610000@www.ymcashoals.org
SUMMARY:ALL 6 LANES AVAILABLE
DESCRIPTION:
URL:https://www.ymcashoals.org/event/all-6-lanes-available-6/2023-06-01/
LOCATION:YMCA of the Shoals\, 2121 Helton Drive\, Florence\, AL\, 35630\, United States
CATEGORIES:Lap Pool,Lap Pool Schedule,Schedules
GEO:34.8324379;-87.6683435
X-APPLE-STRUCTURED-LOCATION;VALUE=URI;X-ADDRESS=YMCA of the Shoals 2121 Helton Drive Florence AL 35630 United States;X-APPLE-RADIUS=500;X-TITLE=2121 Helton Drive:geo:-87.6683435,34.8324379
END:VEVENT
BEGIN:VEVENT
DTSTART;TZID=America/Chicago:20230601T050000
DTEND;TZID=America/Chicago:20230601T094500
DTSTAMP:20260425T100947
CREATED:20230531T155548Z
LAST-MODIFIED:20230531T155751Z
UID:152657-1685595600-1685612700@www.ymcashoals.org
SUMMARY:Open Play Ct. A
DESCRIPTION:I
URL:https://www.ymcashoals.org/event/open-play-ct-a-2/2023-06-01/
LOCATION:YMCA of the Shoals\, 2121 Helton Drive\, Florence\, AL\, 35630\, United States
CATEGORIES:Gym Courts A & B,Schedules
GEO:34.8324379;-87.6683435
X-APPLE-STRUCTURED-LOCATION;VALUE=URI;X-ADDRESS=YMCA of the Shoals 2121 Helton Drive Florence AL 35630 United States;X-APPLE-RADIUS=500;X-TITLE=2121 Helton Drive:geo:-87.6683435,34.8324379
END:VEVENT
BEGIN:VEVENT
DTSTART;TZID=America/Chicago:20230531T181500
DTEND;TZID=America/Chicago:20230531T193000
DTSTAMP:20260425T100947
CREATED:20230531T162658Z
LAST-MODIFIED:20230531T162658Z
UID:152992-1685556900-1685561400@www.ymcashoals.org
SUMMARY:Adult Karate Ct. B
DESCRIPTION:
URL:https://www.ymcashoals.org/event/adult-karate-ct-b/2023-05-31/
LOCATION:YMCA of the Shoals\, 2121 Helton Drive\, Florence\, AL\, 35630\, United States
CATEGORIES:Gym Courts A & B,Schedules
GEO:34.8324379;-87.6683435
X-APPLE-STRUCTURED-LOCATION;VALUE=URI;X-ADDRESS=YMCA of the Shoals 2121 Helton Drive Florence AL 35630 United States;X-APPLE-RADIUS=500;X-TITLE=2121 Helton Drive:geo:-87.6683435,34.8324379
END:VEVENT
BEGIN:VEVENT
DTSTART;TZID=America/Chicago:20230531T101500
DTEND;TZID=America/Chicago:20230531T160000
DTSTAMP:20260425T100947
CREATED:20230531T162124Z
LAST-MODIFIED:20230531T162124Z
UID:152918-1685528100-1685548800@www.ymcashoals.org
SUMMARY:SUMMER DAY CAMP Ct. B
DESCRIPTION:
URL:https://www.ymcashoals.org/event/summer-day-camp-ct-b/2023-05-31/
LOCATION:YMCA of the Shoals\, 2121 Helton Drive\, Florence\, AL\, 35630\, United States
CATEGORIES:Gym Courts A & B,Schedules
GEO:34.8324379;-87.6683435
X-APPLE-STRUCTURED-LOCATION;VALUE=URI;X-ADDRESS=YMCA of the Shoals 2121 Helton Drive Florence AL 35630 United States;X-APPLE-RADIUS=500;X-TITLE=2121 Helton Drive:geo:-87.6683435,34.8324379
END:VEVENT
BEGIN:VEVENT
DTSTART;TZID=America/Chicago:20230531T090000
DTEND;TZID=America/Chicago:20230531T100000
DTSTAMP:20260425T100947
CREATED:20230531T161931Z
LAST-MODIFIED:20230531T161931Z
UID:152899-1685523600-1685527200@www.ymcashoals.org
SUMMARY:Karate Ct. B
DESCRIPTION:
URL:https://www.ymcashoals.org/event/karate-ct-b/2023-05-31/
LOCATION:YMCA of the Shoals\, 2121 Helton Drive\, Florence\, AL\, 35630\, United States
CATEGORIES:Gym Courts A & B,Schedules
GEO:34.8324379;-87.6683435
X-APPLE-STRUCTURED-LOCATION;VALUE=URI;X-ADDRESS=YMCA of the Shoals 2121 Helton Drive Florence AL 35630 United States;X-APPLE-RADIUS=500;X-TITLE=2121 Helton Drive:geo:-87.6683435,34.8324379
END:VEVENT
BEGIN:VEVENT
DTSTART;TZID=America/Chicago:20230531T050000
DTEND;TZID=America/Chicago:20230531T171500
DTSTAMP:20260425T100947
CREATED:20230531T155457Z
LAST-MODIFIED:20230531T155457Z
UID:152553-1685509200-1685553300@www.ymcashoals.org
SUMMARY:Open Play Ct. A
DESCRIPTION:
URL:https://www.ymcashoals.org/event/open-play-ct-a/2023-05-31/
LOCATION:YMCA of the Shoals\, 2121 Helton Drive\, Florence\, AL\, 35630\, United States
CATEGORIES:Gym Courts A & B,Schedules
GEO:34.8324379;-87.6683435
X-APPLE-STRUCTURED-LOCATION;VALUE=URI;X-ADDRESS=YMCA of the Shoals 2121 Helton Drive Florence AL 35630 United States;X-APPLE-RADIUS=500;X-TITLE=2121 Helton Drive:geo:-87.6683435,34.8324379
END:VEVENT
BEGIN:VEVENT
DTSTART;TZID=America/Chicago:20230531T050000
DTEND;TZID=America/Chicago:20230531T084500
DTSTAMP:20260425T100947
CREATED:20230531T161423Z
LAST-MODIFIED:20230531T161423Z
UID:152825-1685509200-1685522700@www.ymcashoals.org
SUMMARY:Individual Play Ct. B
DESCRIPTION:
URL:https://www.ymcashoals.org/event/individual-play-ct-b/2023-05-31/
LOCATION:YMCA of the Shoals\, 2121 Helton Drive\, Florence\, AL\, 35630\, United States
CATEGORIES:Gym Courts A & B,Schedules
GEO:34.8324379;-87.6683435
X-APPLE-STRUCTURED-LOCATION;VALUE=URI;X-ADDRESS=YMCA of the Shoals 2121 Helton Drive Florence AL 35630 United States;X-APPLE-RADIUS=500;X-TITLE=2121 Helton Drive:geo:-87.6683435,34.8324379
END:VEVENT
BEGIN:VEVENT
DTSTART;TZID=America/Chicago:20230502T090500
DTEND;TZID=America/Chicago:20230502T095500
DTSTAMP:20260425T100947
CREATED:20230501T135926Z
LAST-MODIFIED:20240925T202634Z
UID:152227-1683018300-1683021300@www.ymcashoals.org
SUMMARY:Y Yoga (Lana)
DESCRIPTION:
URL:https://www.ymcashoals.org/event/y-yoga-ryan-l-4/2023-05-02/
LOCATION:YMCA of the Shoals\, 2121 Helton Drive\, Florence\, AL\, 35630\, United States
CATEGORIES:Schedules,Spirit/Mind/Body (GXR3)
GEO:34.8324379;-87.6683435
X-APPLE-STRUCTURED-LOCATION;VALUE=URI;X-ADDRESS=YMCA of the Shoals 2121 Helton Drive Florence AL 35630 United States;X-APPLE-RADIUS=500;X-TITLE=2121 Helton Drive:geo:-87.6683435,34.8324379
END:VEVENT
BEGIN:VEVENT
DTSTART;TZID=America/Chicago:20230501T173000
DTEND;TZID=America/Chicago:20230501T183000
DTSTAMP:20260425T100947
CREATED:20230501T192544Z
LAST-MODIFIED:20250806T181522Z
UID:152426-1682962200-1682965800@www.ymcashoals.org
SUMMARY:Y Yoga (Connie)
DESCRIPTION:
URL:https://www.ymcashoals.org/event/y-yoga-kayla/2023-05-01/
LOCATION:YMCA of the Shoals\, 2121 Helton Drive\, Florence\, AL\, 35630\, United States
CATEGORIES:Schedules,Spirit/Mind/Body (GXR3)
GEO:34.8324379;-87.6683435
X-APPLE-STRUCTURED-LOCATION;VALUE=URI;X-ADDRESS=YMCA of the Shoals 2121 Helton Drive Florence AL 35630 United States;X-APPLE-RADIUS=500;X-TITLE=2121 Helton Drive:geo:-87.6683435,34.8324379
END:VEVENT
BEGIN:VEVENT
DTSTART;TZID=America/Chicago:20230303T091000
DTEND;TZID=America/Chicago:20230303T100000
DTSTAMP:20260425T100947
CREATED:20230227T154729Z
LAST-MODIFIED:20240327T154439Z
UID:151088-1677834600-1677837600@www.ymcashoals.org
SUMMARY:Y Gold (Sheila)
DESCRIPTION:
URL:https://www.ymcashoals.org/event/y-gold-sheila/2023-03-03/
LOCATION:YMCA of the Shoals\, 2121 Helton Drive\, Florence\, AL\, 35630\, United States
CATEGORIES:Schedules,Spirit/Mind/Body (GXR3)
GEO:34.8324379;-87.6683435
X-APPLE-STRUCTURED-LOCATION;VALUE=URI;X-ADDRESS=YMCA of the Shoals 2121 Helton Drive Florence AL 35630 United States;X-APPLE-RADIUS=500;X-TITLE=2121 Helton Drive:geo:-87.6683435,34.8324379
END:VEVENT
BEGIN:VEVENT
DTSTART;TZID=America/Chicago:20230302T173000
DTEND;TZID=America/Chicago:20230302T183000
DTSTAMP:20260425T100947
CREATED:20230227T152900Z
LAST-MODIFIED:20231027T164738Z
UID:150515-1677778200-1677781800@www.ymcashoals.org
SUMMARY:Y Dance (Angela V.)
DESCRIPTION:
URL:https://www.ymcashoals.org/event/piloxing-angela-v/2023-03-02/
LOCATION:YMCA of the Shoals\, 2121 Helton Drive\, Florence\, AL\, 35630\, United States
CATEGORIES:Group Exercise (GXR),Schedules
GEO:34.8324379;-87.6683435
X-APPLE-STRUCTURED-LOCATION;VALUE=URI;X-ADDRESS=YMCA of the Shoals 2121 Helton Drive Florence AL 35630 United States;X-APPLE-RADIUS=500;X-TITLE=2121 Helton Drive:geo:-87.6683435,34.8324379
END:VEVENT
BEGIN:VEVENT
DTSTART;TZID=America/Chicago:20230302T080000
DTEND;TZID=America/Chicago:20230302T085000
DTSTAMP:20260425T100947
CREATED:20230227T143730Z
LAST-MODIFIED:20260325T180759Z
UID:149452-1677744000-1677747000@www.ymcashoals.org
SUMMARY:Step & Strength (Angela V.)
DESCRIPTION:
URL:https://www.ymcashoals.org/event/fusion-fit-angela-v/2023-03-02/
LOCATION:YMCA of the Shoals\, 2121 Helton Drive\, Florence\, AL\, 35630\, United States
CATEGORIES:Schedules,Spirit/Mind/Body (GXR3)
GEO:34.8324379;-87.6683435
X-APPLE-STRUCTURED-LOCATION;VALUE=URI;X-ADDRESS=YMCA of the Shoals 2121 Helton Drive Florence AL 35630 United States;X-APPLE-RADIUS=500;X-TITLE=2121 Helton Drive:geo:-87.6683435,34.8324379
END:VEVENT
BEGIN:VEVENT
DTSTART;TZID=America/Chicago:20230301T101000
DTEND;TZID=America/Chicago:20230301T111000
DTSTAMP:20260425T100947
CREATED:20230227T154556Z
LAST-MODIFIED:20240129T162314Z
UID:151031-1677665400-1677669000@www.ymcashoals.org
SUMMARY:Y Yoga (Ryan L.)
DESCRIPTION:
URL:https://www.ymcashoals.org/event/y-yoga-ryan-l-3/2023-03-01/
LOCATION:YMCA of the Shoals\, 2121 Helton Drive\, Florence\, AL\, 35630\, United States
CATEGORIES:Schedules,Spirit/Mind/Body (GXR3)
GEO:34.8324379;-87.6683435
X-APPLE-STRUCTURED-LOCATION;VALUE=URI;X-ADDRESS=YMCA of the Shoals 2121 Helton Drive Florence AL 35630 United States;X-APPLE-RADIUS=500;X-TITLE=2121 Helton Drive:geo:-87.6683435,34.8324379
END:VEVENT
BEGIN:VEVENT
DTSTART;TZID=America/Chicago:20230228T101000
DTEND;TZID=America/Chicago:20230228T110000
DTSTAMP:20260425T100947
CREATED:20230227T144452Z
LAST-MODIFIED:20240226T203116Z
UID:149647-1677579000-1677582000@www.ymcashoals.org
SUMMARY:Muscle Works (Leslie)
DESCRIPTION:
URL:https://www.ymcashoals.org/event/muscle-works-leslie/2023-02-28/
LOCATION:YMCA of the Shoals\, 2121 Helton Drive\, Florence\, AL\, 35630\, United States
CATEGORIES:Group Exercise (GXR),Schedules
GEO:34.8324379;-87.6683435
X-APPLE-STRUCTURED-LOCATION;VALUE=URI;X-ADDRESS=YMCA of the Shoals 2121 Helton Drive Florence AL 35630 United States;X-APPLE-RADIUS=500;X-TITLE=2121 Helton Drive:geo:-87.6683435,34.8324379
END:VEVENT
BEGIN:VEVENT
DTSTART;TZID=America/Chicago:20230228T090000
DTEND;TZID=America/Chicago:20230228T100000
DTSTAMP:20260425T100947
CREATED:20230227T145224Z
LAST-MODIFIED:20231227T163146Z
UID:150158-1677574800-1677578400@www.ymcashoals.org
SUMMARY:PiYo (Leslie)
DESCRIPTION:
URL:https://www.ymcashoals.org/event/piyo-leslie-3/2023-02-28/
LOCATION:YMCA of the Shoals\, 2121 Helton Drive\, Florence\, AL\, 35630\, United States
CATEGORIES:Group Exercise (GXR),Schedules
GEO:34.8324379;-87.6683435
X-APPLE-STRUCTURED-LOCATION;VALUE=URI;X-ADDRESS=YMCA of the Shoals 2121 Helton Drive Florence AL 35630 United States;X-APPLE-RADIUS=500;X-TITLE=2121 Helton Drive:geo:-87.6683435,34.8324379
END:VEVENT
BEGIN:VEVENT
DTSTART;TZID=America/Chicago:20230227T101000
DTEND;TZID=America/Chicago:20230227T110000
DTSTAMP:20260425T100947
CREATED:20230227T145004Z
LAST-MODIFIED:20240226T203407Z
UID:149877-1677492600-1677495600@www.ymcashoals.org
SUMMARY:Muscle Works (Teri)
DESCRIPTION:
URL:https://www.ymcashoals.org/event/muscle-works-teri/2023-02-27/
LOCATION:YMCA of the Shoals\, 2121 Helton Drive\, Florence\, AL\, 35630\, United States
CATEGORIES:Group Exercise (GXR),Schedules
GEO:34.8324379;-87.6683435
X-APPLE-STRUCTURED-LOCATION;VALUE=URI;X-ADDRESS=YMCA of the Shoals 2121 Helton Drive Florence AL 35630 United States;X-APPLE-RADIUS=500;X-TITLE=2121 Helton Drive:geo:-87.6683435,34.8324379
END:VEVENT
BEGIN:VEVENT
DTSTART;TZID=America/Chicago:20230227T091000
DTEND;TZID=America/Chicago:20230227T095500
DTSTAMP:20260425T100947
CREATED:20230227T142651Z
LAST-MODIFIED:20260106T195950Z
UID:149326-1677489000-1677491700@www.ymcashoals.org
SUMMARY:Les Mills RPM (Lauren)
DESCRIPTION:
URL:https://www.ymcashoals.org/event/les-mills-rpm-katie/2023-02-27/
LOCATION:YMCA of the Shoals\, 2121 Helton Drive\, Florence\, AL\, 35630\, United States
CATEGORIES:Cycle Fusion (GXR2),Schedules
GEO:34.8324379;-87.6683435
X-APPLE-STRUCTURED-LOCATION;VALUE=URI;X-ADDRESS=YMCA of the Shoals 2121 Helton Drive Florence AL 35630 United States;X-APPLE-RADIUS=500;X-TITLE=2121 Helton Drive:geo:-87.6683435,34.8324379
END:VEVENT
BEGIN:VEVENT
DTSTART;TZID=America/Chicago:20230224T081500
DTEND;TZID=America/Chicago:20230224T090500
DTSTAMP:20260425T100947
CREATED:20230227T142823Z
LAST-MODIFIED:20260325T180620Z
UID:149388-1677226500-1677229500@www.ymcashoals.org
SUMMARY:Les Mills RPM+Pilates (Christy)
DESCRIPTION:
URL:https://www.ymcashoals.org/event/les-mills-rpmcore-melissa-p/2023-02-24/
LOCATION:YMCA of the Shoals\, 2121 Helton Drive\, Florence\, AL\, 35630\, United States
CATEGORIES:Cycle Fusion (GXR2),Schedules
GEO:34.8324379;-87.6683435
X-APPLE-STRUCTURED-LOCATION;VALUE=URI;X-ADDRESS=YMCA of the Shoals 2121 Helton Drive Florence AL 35630 United States;X-APPLE-RADIUS=500;X-TITLE=2121 Helton Drive:geo:-87.6683435,34.8324379
END:VEVENT
BEGIN:VEVENT
DTSTART;TZID=America/Chicago:20230203T173000
DTEND;TZID=America/Chicago:20230203T183000
DTSTAMP:20260425T100947
CREATED:20230126T152839Z
LAST-MODIFIED:20260121T170959Z
UID:148182-1675445400-1675449000@www.ymcashoals.org
SUMMARY:Y Yoga (Racheal)
DESCRIPTION:
URL:https://www.ymcashoals.org/event/y-yoga-racheal/2023-02-03/
LOCATION:YMCA of the Shoals\, 2121 Helton Drive\, Florence\, AL\, 35630\, United States
CATEGORIES:Schedules,Spirit/Mind/Body (GXR3)
GEO:34.8324379;-87.6683435
X-APPLE-STRUCTURED-LOCATION;VALUE=URI;X-ADDRESS=YMCA of the Shoals 2121 Helton Drive Florence AL 35630 United States;X-APPLE-RADIUS=500;X-TITLE=2121 Helton Drive:geo:-87.6683435,34.8324379
END:VEVENT
BEGIN:VEVENT
DTSTART;TZID=America/Chicago:20230202T111500
DTEND;TZID=America/Chicago:20230202T120000
DTSTAMP:20260425T100947
CREATED:20230126T145943Z
LAST-MODIFIED:20230501T135320Z
UID:147788-1675336500-1675339200@www.ymcashoals.org
SUMMARY:Cardio Hip Hop (LaDarius)
DESCRIPTION:
URL:https://www.ymcashoals.org/event/cardio-hip-hop-ladarius/2023-02-02/
LOCATION:YMCA of the Shoals\, 2121 Helton Drive\, Florence\, AL\, 35630\, United States
CATEGORIES:Group Exercise (GXR),Schedules
GEO:34.8324379;-87.6683435
X-APPLE-STRUCTURED-LOCATION;VALUE=URI;X-ADDRESS=YMCA of the Shoals 2121 Helton Drive Florence AL 35630 United States;X-APPLE-RADIUS=500;X-TITLE=2121 Helton Drive:geo:-87.6683435,34.8324379
END:VEVENT
BEGIN:VEVENT
DTSTART;TZID=America/Chicago:20230201T173000
DTEND;TZID=America/Chicago:20230201T183000
DTSTAMP:20260425T100947
CREATED:20230126T152948Z
LAST-MODIFIED:20260121T171032Z
UID:148231-1675272600-1675276200@www.ymcashoals.org
SUMMARY:Y Yoga (Rachel)
DESCRIPTION:
URL:https://www.ymcashoals.org/event/y-yoga-kayla-2/2023-02-01/
LOCATION:YMCA of the Shoals\, 2121 Helton Drive\, Florence\, AL\, 35630\, United States
CATEGORIES:Spirit/Mind/Body (GXR3)
GEO:34.8324379;-87.6683435
X-APPLE-STRUCTURED-LOCATION;VALUE=URI;X-ADDRESS=YMCA of the Shoals 2121 Helton Drive Florence AL 35630 United States;X-APPLE-RADIUS=500;X-TITLE=2121 Helton Drive:geo:-87.6683435,34.8324379
END:VEVENT
BEGIN:VEVENT
DTSTART;TZID=America/Chicago:20230107T073000
DTEND;TZID=America/Chicago:20230107T081500
DTSTAMP:20260425T100947
CREATED:20221228T200848Z
LAST-MODIFIED:20240207T170515Z
UID:144500-1673076600-1673079300@www.ymcashoals.org
SUMMARY:Y Cycle (Alternating)
DESCRIPTION:
URL:https://www.ymcashoals.org/event/y-cycle-alternating/2023-01-07/
LOCATION:YMCA of the Shoals\, 2121 Helton Drive\, Florence\, AL\, 35630\, United States
CATEGORIES:Cycle Fusion (GXR2),Schedules
GEO:34.8324379;-87.6683435
X-APPLE-STRUCTURED-LOCATION;VALUE=URI;X-ADDRESS=YMCA of the Shoals 2121 Helton Drive Florence AL 35630 United States;X-APPLE-RADIUS=500;X-TITLE=2121 Helton Drive:geo:-87.6683435,34.8324379
END:VEVENT
BEGIN:VEVENT
DTSTART;TZID=America/Chicago:20230105T180000
DTEND;TZID=America/Chicago:20230105T200000
DTSTAMP:20260425T100947
CREATED:20221004T201713Z
LAST-MODIFIED:20221004T201713Z
UID:139375-1672941600-1672948800@www.ymcashoals.org
SUMMARY:CPR/1st Aid
DESCRIPTION:
URL:https://www.ymcashoals.org/event/cpr-1st-aid-14/
LOCATION:YMCA of the Shoals\, 2121 Helton Drive\, Florence\, AL\, 35630\, United States
CATEGORIES:CPR,Schedules
GEO:34.8324379;-87.6683435
X-APPLE-STRUCTURED-LOCATION;VALUE=URI;X-ADDRESS=YMCA of the Shoals 2121 Helton Drive Florence AL 35630 United States;X-APPLE-RADIUS=500;X-TITLE=2121 Helton Drive:geo:-87.6683435,34.8324379
END:VEVENT
BEGIN:VEVENT
DTSTART;TZID=America/Chicago:20230102T101500
DTEND;TZID=America/Chicago:20230102T110000
DTSTAMP:20260425T100947
CREATED:20230102T152425Z
LAST-MODIFIED:20230102T152425Z
UID:146854-1672654500-1672657200@www.ymcashoals.org
SUMMARY:WORKING IN THE DEEP
DESCRIPTION:
URL:https://www.ymcashoals.org/event/working-in-the-deep-4/2023-01-02/
LOCATION:YMCA of the Shoals\, 2121 Helton Drive\, Florence\, AL\, 35630\, United States
CATEGORIES:Lap Pool,Lap Pool Schedule,Schedules
GEO:34.8324379;-87.6683435
X-APPLE-STRUCTURED-LOCATION;VALUE=URI;X-ADDRESS=YMCA of the Shoals 2121 Helton Drive Florence AL 35630 United States;X-APPLE-RADIUS=500;X-TITLE=2121 Helton Drive:geo:-87.6683435,34.8324379
END:VEVENT
END:VCALENDAR