BEGIN:VCALENDAR
VERSION:2.0
PRODID:-//YMCA of the Shoals - ECPv6.15.20//NONSGML v1.0//EN
CALSCALE:GREGORIAN
METHOD:PUBLISH
X-WR-CALNAME:YMCA of the Shoals
X-ORIGINAL-URL:https://www.ymcashoals.org
X-WR-CALDESC:Events for YMCA of the Shoals
REFRESH-INTERVAL;VALUE=DURATION:PT1H
X-Robots-Tag:noindex
X-PUBLISHED-TTL:PT1H
BEGIN:VTIMEZONE
TZID:America/Chicago
BEGIN:DAYLIGHT
TZOFFSETFROM:-0600
TZOFFSETTO:-0500
TZNAME:CDT
DTSTART:20220313T080000
END:DAYLIGHT
BEGIN:STANDARD
TZOFFSETFROM:-0500
TZOFFSETTO:-0600
TZNAME:CST
DTSTART:20221106T070000
END:STANDARD
BEGIN:DAYLIGHT
TZOFFSETFROM:-0600
TZOFFSETTO:-0500
TZNAME:CDT
DTSTART:20230312T080000
END:DAYLIGHT
BEGIN:STANDARD
TZOFFSETFROM:-0500
TZOFFSETTO:-0600
TZNAME:CST
DTSTART:20231105T070000
END:STANDARD
BEGIN:DAYLIGHT
TZOFFSETFROM:-0600
TZOFFSETTO:-0500
TZNAME:CDT
DTSTART:20240310T080000
END:DAYLIGHT
BEGIN:STANDARD
TZOFFSETFROM:-0500
TZOFFSETTO:-0600
TZNAME:CST
DTSTART:20241103T070000
END:STANDARD
END:VTIMEZONE
BEGIN:VEVENT
DTSTART;TZID=America/Chicago:20231009T101500
DTEND;TZID=America/Chicago:20231009T110000
DTSTAMP:20260425T081801
CREATED:20231003T195714Z
LAST-MODIFIED:20240903T175616Z
UID:155178-1696846500-1696849200@www.ymcashoals.org
SUMMARY:Working in the Deep
DESCRIPTION:2 Lanes Available
URL:https://www.ymcashoals.org/event/working-in-the-deep-5/2023-10-09/
LOCATION:YMCA of the Shoals\, 2121 Helton Drive\, Florence\, AL\, 35630\, United States
CATEGORIES:Lap Pool,Lap Pool Schedule,Schedules
GEO:34.8324379;-87.6683435
X-APPLE-STRUCTURED-LOCATION;VALUE=URI;X-ADDRESS=YMCA of the Shoals 2121 Helton Drive Florence AL 35630 United States;X-APPLE-RADIUS=500;X-TITLE=2121 Helton Drive:geo:-87.6683435,34.8324379
END:VEVENT
BEGIN:VEVENT
DTSTART;TZID=America/Chicago:20231003T053000
DTEND;TZID=America/Chicago:20231003T090000
DTSTAMP:20260425T081801
CREATED:20231003T211500Z
LAST-MODIFIED:20240219T160008Z
UID:155468-1696311000-1696323600@www.ymcashoals.org
SUMMARY:All 6 Lanes Available
DESCRIPTION:
URL:https://www.ymcashoals.org/event/all-6-lanes-available-7/2023-10-03/
LOCATION:YMCA of the Shoals\, 2121 Helton Drive\, Florence\, AL\, 35630\, United States
CATEGORIES:Lap Pool,Lap Pool Schedule,Schedules
GEO:34.8324379;-87.6683435
X-APPLE-STRUCTURED-LOCATION;VALUE=URI;X-ADDRESS=YMCA of the Shoals 2121 Helton Drive Florence AL 35630 United States;X-APPLE-RADIUS=500;X-TITLE=2121 Helton Drive:geo:-87.6683435,34.8324379
END:VEVENT
BEGIN:VEVENT
DTSTART;TZID=America/Chicago:20231003T053000
DTEND;TZID=America/Chicago:20231003T080000
DTSTAMP:20260425T081801
CREATED:20231003T211324Z
LAST-MODIFIED:20231003T212001Z
UID:155449-1696311000-1696320000@www.ymcashoals.org
SUMMARY:All 6 Lanes Available
DESCRIPTION:
URL:https://www.ymcashoals.org/event/all-6-lanes-available-5/2023-10-03/
LOCATION:YMCA of the Shoals\, 2121 Helton Drive\, Florence\, AL\, 35630\, United States
CATEGORIES:Lap Pool,Lap Pool Schedule,Schedules
GEO:34.8324379;-87.6683435
X-APPLE-STRUCTURED-LOCATION;VALUE=URI;X-ADDRESS=YMCA of the Shoals 2121 Helton Drive Florence AL 35630 United States;X-APPLE-RADIUS=500;X-TITLE=2121 Helton Drive:geo:-87.6683435,34.8324379
END:VEVENT
BEGIN:VEVENT
DTSTART;TZID=America/Chicago:20231002T173000
DTEND;TZID=America/Chicago:20231002T181000
DTSTAMP:20260425T081801
CREATED:20230531T160447Z
LAST-MODIFIED:20230925T195613Z
UID:152758-1696267800-1696270200@www.ymcashoals.org
SUMMARY:Y HIIT (Lisa)
DESCRIPTION:
URL:https://www.ymcashoals.org/event/y-hiit-lisa-ct-a/2023-10-02/
LOCATION:YMCA of the Shoals\, 2121 Helton Drive\, Florence\, AL\, 35630\, United States
CATEGORIES:Group Exercise (GXR),Schedules
GEO:34.8324379;-87.6683435
X-APPLE-STRUCTURED-LOCATION;VALUE=URI;X-ADDRESS=YMCA of the Shoals 2121 Helton Drive Florence AL 35630 United States;X-APPLE-RADIUS=500;X-TITLE=2121 Helton Drive:geo:-87.6683435,34.8324379
END:VEVENT
BEGIN:VEVENT
DTSTART;TZID=America/Chicago:20231001T130000
DTEND;TZID=America/Chicago:20231001T163000
DTSTAMP:20260425T081801
CREATED:20231004T205523Z
LAST-MODIFIED:20231004T205523Z
UID:155959-1696165200-1696177800@www.ymcashoals.org
SUMMARY:All 6 Lanes Available
DESCRIPTION:
URL:https://www.ymcashoals.org/event/all-6-lanes-available-4/2023-10-01/
LOCATION:YMCA of the Shoals\, 2121 Helton Drive\, Florence\, AL\, 35630\, United States
CATEGORIES:Lap Pool,Lap Pool Schedule,Schedules
GEO:34.8324379;-87.6683435
X-APPLE-STRUCTURED-LOCATION;VALUE=URI;X-ADDRESS=YMCA of the Shoals 2121 Helton Drive Florence AL 35630 United States;X-APPLE-RADIUS=500;X-TITLE=2121 Helton Drive:geo:-87.6683435,34.8324379
END:VEVENT
BEGIN:VEVENT
DTSTART;TZID=America/Chicago:20230911T173000
DTEND;TZID=America/Chicago:20230911T183000
DTSTAMP:20260425T081801
CREATED:20230911T161330Z
LAST-MODIFIED:20240725T202455Z
UID:154718-1694453400-1694457000@www.ymcashoals.org
SUMMARY:Les Mills RPM + Core (Melissa)
DESCRIPTION:
URL:https://www.ymcashoals.org/event/les-mills-rpm-core-melissa/2023-09-11/
LOCATION:YMCA of the Shoals\, 2121 Helton Drive\, Florence\, AL\, 35630\, United States
CATEGORIES:Cycle Fusion (GXR2),Schedules
GEO:34.8324379;-87.6683435
X-APPLE-STRUCTURED-LOCATION;VALUE=URI;X-ADDRESS=YMCA of the Shoals 2121 Helton Drive Florence AL 35630 United States;X-APPLE-RADIUS=500;X-TITLE=2121 Helton Drive:geo:-87.6683435,34.8324379
END:VEVENT
BEGIN:VEVENT
DTSTART;TZID=America/Chicago:20230905T163000
DTEND;TZID=America/Chicago:20230905T171500
DTSTAMP:20260425T081801
CREATED:20230823T180121Z
LAST-MODIFIED:20230823T180121Z
UID:154065-1693931400-1693934100@www.ymcashoals.org
SUMMARY:spYn Beginner Friendly (Amy B.)
DESCRIPTION:
URL:https://www.ymcashoals.org/event/spyn-beginner-friendly-amy-b/2023-09-05/
LOCATION:YMCA of the Shoals\, 2121 Helton Drive\, Florence\, AL\, 35630\, United States
CATEGORIES:Cycle Fusion (GXR2),Schedules
GEO:34.8324379;-87.6683435
X-APPLE-STRUCTURED-LOCATION;VALUE=URI;X-ADDRESS=YMCA of the Shoals 2121 Helton Drive Florence AL 35630 United States;X-APPLE-RADIUS=500;X-TITLE=2121 Helton Drive:geo:-87.6683435,34.8324379
END:VEVENT
BEGIN:VEVENT
DTSTART;TZID=America/Chicago:20230901T091000
DTEND;TZID=America/Chicago:20230901T100000
DTSTAMP:20260425T081801
CREATED:20230911T160205Z
LAST-MODIFIED:20230911T160205Z
UID:154431-1693559400-1693562400@www.ymcashoals.org
SUMMARY:Breathe & Bend (Amy)
DESCRIPTION:
URL:https://www.ymcashoals.org/event/breathe-bend-amy/2023-09-01/
LOCATION:YMCA of the Shoals\, 2121 Helton Drive\, Florence\, AL\, 35630\, United States
CATEGORIES:Group Exercise (GXR),Schedules
GEO:34.8324379;-87.6683435
X-APPLE-STRUCTURED-LOCATION;VALUE=URI;X-ADDRESS=YMCA of the Shoals 2121 Helton Drive Florence AL 35630 United States;X-APPLE-RADIUS=500;X-TITLE=2121 Helton Drive:geo:-87.6683435,34.8324379
END:VEVENT
BEGIN:VEVENT
DTSTART;TZID=America/Chicago:20230611T130000
DTEND;TZID=America/Chicago:20230611T170000
DTSTAMP:20260425T081801
CREATED:20230531T212856Z
LAST-MODIFIED:20240219T161844Z
UID:153609-1686488400-1686502800@www.ymcashoals.org
SUMMARY:All 6 Lanes Available
DESCRIPTION:
URL:https://www.ymcashoals.org/event/all-6-lanes-available-2/2023-06-11/
LOCATION:YMCA of the Shoals\, 2121 Helton Drive\, Florence\, AL\, 35630\, United States
CATEGORIES:Lap Pool,Schedules
GEO:34.8324379;-87.6683435
X-APPLE-STRUCTURED-LOCATION;VALUE=URI;X-ADDRESS=YMCA of the Shoals 2121 Helton Drive Florence AL 35630 United States;X-APPLE-RADIUS=500;X-TITLE=2121 Helton Drive:geo:-87.6683435,34.8324379
END:VEVENT
BEGIN:VEVENT
DTSTART;TZID=America/Chicago:20230610T060000
DTEND;TZID=America/Chicago:20230610T090000
DTSTAMP:20260425T081801
CREATED:20230531T212809Z
LAST-MODIFIED:20230531T212809Z
UID:153600-1686376800-1686387600@www.ymcashoals.org
SUMMARY:All 6 Lanes Available
DESCRIPTION:
URL:https://www.ymcashoals.org/event/all-6-lanes-available/2023-06-10/
LOCATION:YMCA of the Shoals\, 2121 Helton Drive\, Florence\, AL\, 35630\, United States
CATEGORIES:Lap Pool,Schedules
GEO:34.8324379;-87.6683435
X-APPLE-STRUCTURED-LOCATION;VALUE=URI;X-ADDRESS=YMCA of the Shoals 2121 Helton Drive Florence AL 35630 United States;X-APPLE-RADIUS=500;X-TITLE=2121 Helton Drive:geo:-87.6683435,34.8324379
END:VEVENT
BEGIN:VEVENT
DTSTART;TZID=America/Chicago:20230603T121500
DTEND;TZID=America/Chicago:20230603T164500
DTSTAMP:20260425T081801
CREATED:20230531T160614Z
LAST-MODIFIED:20230531T160614Z
UID:152768-1685794500-1685810700@www.ymcashoals.org
SUMMARY:Cross Court Play Ct. A
DESCRIPTION:
URL:https://www.ymcashoals.org/event/cross-court-play-ct-a-2/2023-06-03/
LOCATION:YMCA of the Shoals\, 2121 Helton Drive\, Florence\, AL\, 35630\, United States
CATEGORIES:Gym Courts A & B,Schedules
GEO:34.8324379;-87.6683435
X-APPLE-STRUCTURED-LOCATION;VALUE=URI;X-ADDRESS=YMCA of the Shoals 2121 Helton Drive Florence AL 35630 United States;X-APPLE-RADIUS=500;X-TITLE=2121 Helton Drive:geo:-87.6683435,34.8324379
END:VEVENT
BEGIN:VEVENT
DTSTART;TZID=America/Chicago:20230603T121500
DTEND;TZID=America/Chicago:20230603T124500
DTSTAMP:20260425T081801
CREATED:20230531T163012Z
LAST-MODIFIED:20230531T163012Z
UID:153041-1685794500-1685796300@www.ymcashoals.org
SUMMARY:Individual Play Ct. B
DESCRIPTION:
URL:https://www.ymcashoals.org/event/individual-play-ct-b-3/2023-06-03/
LOCATION:YMCA of the Shoals\, 2121 Helton Drive\, Florence\, AL\, 35630\, United States
CATEGORIES:Gym Courts A & B,Schedules
GEO:34.8324379;-87.6683435
X-APPLE-STRUCTURED-LOCATION;VALUE=URI;X-ADDRESS=YMCA of the Shoals 2121 Helton Drive Florence AL 35630 United States;X-APPLE-RADIUS=500;X-TITLE=2121 Helton Drive:geo:-87.6683435,34.8324379
END:VEVENT
BEGIN:VEVENT
DTSTART;TZID=America/Chicago:20230603T090000
DTEND;TZID=America/Chicago:20230603T120000
DTSTAMP:20260425T081801
CREATED:20230531T162927Z
LAST-MODIFIED:20230531T162927Z
UID:153031-1685782800-1685793600@www.ymcashoals.org
SUMMARY:Pickleball Ct. B
DESCRIPTION:
URL:https://www.ymcashoals.org/event/pickleball-ct-b-3/2023-06-03/
LOCATION:YMCA of the Shoals\, 2121 Helton Drive\, Florence\, AL\, 35630\, United States
CATEGORIES:Gym Courts A & B,Schedules
GEO:34.8324379;-87.6683435
X-APPLE-STRUCTURED-LOCATION;VALUE=URI;X-ADDRESS=YMCA of the Shoals 2121 Helton Drive Florence AL 35630 United States;X-APPLE-RADIUS=500;X-TITLE=2121 Helton Drive:geo:-87.6683435,34.8324379
END:VEVENT
BEGIN:VEVENT
DTSTART;TZID=America/Chicago:20230603T090000
DTEND;TZID=America/Chicago:20230603T120000
DTSTAMP:20260425T081801
CREATED:20230531T160034Z
LAST-MODIFIED:20230531T160034Z
UID:152695-1685782800-1685793600@www.ymcashoals.org
SUMMARY:Pickleball
DESCRIPTION:
URL:https://www.ymcashoals.org/event/pickleball/2023-06-03/
LOCATION:YMCA of the Shoals\, 2121 Helton Drive\, Florence\, AL\, 35630\, United States
CATEGORIES:Gym Courts A & B,Schedules
GEO:34.8324379;-87.6683435
X-APPLE-STRUCTURED-LOCATION;VALUE=URI;X-ADDRESS=YMCA of the Shoals 2121 Helton Drive Florence AL 35630 United States;X-APPLE-RADIUS=500;X-TITLE=2121 Helton Drive:geo:-87.6683435,34.8324379
END:VEVENT
BEGIN:VEVENT
DTSTART;TZID=America/Chicago:20230603T060000
DTEND;TZID=America/Chicago:20230603T170000
DTSTAMP:20260425T081801
CREATED:20230531T163105Z
LAST-MODIFIED:20230531T163105Z
UID:153051-1685772000-1685811600@www.ymcashoals.org
SUMMARY:Individual Goal Play Ct. B
DESCRIPTION:
URL:https://www.ymcashoals.org/event/individual-goal-play-ct-b/2023-06-03/
LOCATION:YMCA of the Shoals\, 2121 Helton Drive\, Florence\, AL\, 35630\, United States
CATEGORIES:Gym Courts A & B,Schedules
GEO:34.8324379;-87.6683435
X-APPLE-STRUCTURED-LOCATION;VALUE=URI;X-ADDRESS=YMCA of the Shoals 2121 Helton Drive Florence AL 35630 United States;X-APPLE-RADIUS=500;X-TITLE=2121 Helton Drive:geo:-87.6683435,34.8324379
END:VEVENT
BEGIN:VEVENT
DTSTART;TZID=America/Chicago:20230603T060000
DTEND;TZID=America/Chicago:20230603T164500
DTSTAMP:20260425T081801
CREATED:20230531T160959Z
LAST-MODIFIED:20230531T160959Z
UID:152815-1685772000-1685810700@www.ymcashoals.org
SUMMARY:All Day Cross Court Play
DESCRIPTION:
URL:https://www.ymcashoals.org/event/all-day-cross-court-play/2023-06-03/
LOCATION:YMCA of the Shoals\, 2121 Helton Drive\, Florence\, AL\, 35630\, United States
CATEGORIES:Gym Courts A & B,Schedules
GEO:34.8324379;-87.6683435
X-APPLE-STRUCTURED-LOCATION;VALUE=URI;X-ADDRESS=YMCA of the Shoals 2121 Helton Drive Florence AL 35630 United States;X-APPLE-RADIUS=500;X-TITLE=2121 Helton Drive:geo:-87.6683435,34.8324379
END:VEVENT
BEGIN:VEVENT
DTSTART;TZID=America/Chicago:20230603T060000
DTEND;TZID=America/Chicago:20230603T084500
DTSTAMP:20260425T081801
CREATED:20230531T161843Z
LAST-MODIFIED:20230531T161843Z
UID:152889-1685772000-1685781900@www.ymcashoals.org
SUMMARY:Individual Play Ct. B
DESCRIPTION:
URL:https://www.ymcashoals.org/event/individual-play-ct-b-2/2023-06-03/
LOCATION:YMCA of the Shoals\, 2121 Helton Drive\, Florence\, AL\, 35630\, United States
CATEGORIES:Gym Courts A & B,Schedules
GEO:34.8324379;-87.6683435
X-APPLE-STRUCTURED-LOCATION;VALUE=URI;X-ADDRESS=YMCA of the Shoals 2121 Helton Drive Florence AL 35630 United States;X-APPLE-RADIUS=500;X-TITLE=2121 Helton Drive:geo:-87.6683435,34.8324379
END:VEVENT
BEGIN:VEVENT
DTSTART;TZID=America/Chicago:20230603T060000
DTEND;TZID=America/Chicago:20230603T084500
DTSTAMP:20260425T081801
CREATED:20230531T155915Z
LAST-MODIFIED:20230531T155915Z
UID:152685-1685772000-1685781900@www.ymcashoals.org
SUMMARY:Cross Court Play Ct. A
DESCRIPTION:
URL:https://www.ymcashoals.org/event/cross-court-play-ct-a/2023-06-03/
LOCATION:YMCA of the Shoals\, 2121 Helton Drive\, Florence\, AL\, 35630\, United States
CATEGORIES:Gym Courts A & B,Schedules
GEO:34.8324379;-87.6683435
X-APPLE-STRUCTURED-LOCATION;VALUE=URI;X-ADDRESS=YMCA of the Shoals 2121 Helton Drive Florence AL 35630 United States;X-APPLE-RADIUS=500;X-TITLE=2121 Helton Drive:geo:-87.6683435,34.8324379
END:VEVENT
BEGIN:VEVENT
DTSTART;TZID=America/Chicago:20230603T060000
DTEND;TZID=America/Chicago:20230603T070000
DTSTAMP:20260425T081801
CREATED:20230605T202406Z
LAST-MODIFIED:20240219T160052Z
UID:153699-1685772000-1685775600@www.ymcashoals.org
SUMMARY:All 6 Lanes Available
DESCRIPTION:
URL:https://www.ymcashoals.org/event/all-6-lanes-available-3/2023-06-03/
LOCATION:YMCA of the Shoals\, 2121 Helton Drive\, Florence\, AL\, 35630\, United States
CATEGORIES:Lap Pool,Lap Pool Schedule,Schedules
GEO:34.8324379;-87.6683435
X-APPLE-STRUCTURED-LOCATION;VALUE=URI;X-ADDRESS=YMCA of the Shoals 2121 Helton Drive Florence AL 35630 United States;X-APPLE-RADIUS=500;X-TITLE=2121 Helton Drive:geo:-87.6683435,34.8324379
END:VEVENT
BEGIN:VEVENT
DTSTART;TZID=America/Chicago:20230602T070000
DTEND;TZID=America/Chicago:20230602T180000
DTSTAMP:20260425T081801
CREATED:20230531T161629Z
LAST-MODIFIED:20230531T161735Z
UID:152862-1685689200-1685728800@www.ymcashoals.org
SUMMARY:SUMMER DAY CAMP Ct. B
DESCRIPTION:
URL:https://www.ymcashoals.org/event/summer-day-camp/2023-06-02/
LOCATION:YMCA of the Shoals\, 2121 Helton Drive\, Florence\, AL\, 35630\, United States
CATEGORIES:Gym Courts A & B,Schedules
GEO:34.8324379;-87.6683435
X-APPLE-STRUCTURED-LOCATION;VALUE=URI;X-ADDRESS=YMCA of the Shoals 2121 Helton Drive Florence AL 35630 United States;X-APPLE-RADIUS=500;X-TITLE=2121 Helton Drive:geo:-87.6683435,34.8324379
END:VEVENT
BEGIN:VEVENT
DTSTART;TZID=America/Chicago:20230602T050000
DTEND;TZID=America/Chicago:20230602T203000
DTSTAMP:20260425T081801
CREATED:20230531T155643Z
LAST-MODIFIED:20230531T155643Z
UID:152659-1685682000-1685737800@www.ymcashoals.org
SUMMARY:Open Play Ct. A
DESCRIPTION:
URL:https://www.ymcashoals.org/event/open-play-ct-a-3/2023-06-02/
LOCATION:YMCA of the Shoals\, 2121 Helton Drive\, Florence\, AL\, 35630\, United States
CATEGORIES:Gym Courts A & B,Schedules
GEO:34.8324379;-87.6683435
X-APPLE-STRUCTURED-LOCATION;VALUE=URI;X-ADDRESS=YMCA of the Shoals 2121 Helton Drive Florence AL 35630 United States;X-APPLE-RADIUS=500;X-TITLE=2121 Helton Drive:geo:-87.6683435,34.8324379
END:VEVENT
BEGIN:VEVENT
DTSTART;TZID=America/Chicago:20230601T181500
DTEND;TZID=America/Chicago:20230601T203000
DTSTAMP:20260425T081801
CREATED:20230531T160718Z
LAST-MODIFIED:20230531T160718Z
UID:152778-1685643300-1685651400@www.ymcashoals.org
SUMMARY:Individual Goal Play Ct. A
DESCRIPTION:
URL:https://www.ymcashoals.org/event/individual-goal-play-ct-a/2023-06-01/
LOCATION:YMCA of the Shoals\, 2121 Helton Drive\, Florence\, AL\, 35630\, United States
CATEGORIES:Gym Courts A & B,Schedules
GEO:34.8324379;-87.6683435
X-APPLE-STRUCTURED-LOCATION;VALUE=URI;X-ADDRESS=YMCA of the Shoals 2121 Helton Drive Florence AL 35630 United States;X-APPLE-RADIUS=500;X-TITLE=2121 Helton Drive:geo:-87.6683435,34.8324379
END:VEVENT
BEGIN:VEVENT
DTSTART;TZID=America/Chicago:20230601T180000
DTEND;TZID=America/Chicago:20230601T200000
DTSTAMP:20260425T081801
CREATED:20230531T162849Z
LAST-MODIFIED:20230531T162849Z
UID:153021-1685642400-1685649600@www.ymcashoals.org
SUMMARY:Volleyball Ct. B
DESCRIPTION:
URL:https://www.ymcashoals.org/event/volleyball-ct-b/2023-06-01/
LOCATION:YMCA of the Shoals\, 2121 Helton Drive\, Florence\, AL\, 35630\, United States
CATEGORIES:Gym Courts A & B,Schedules
GEO:34.8324379;-87.6683435
X-APPLE-STRUCTURED-LOCATION;VALUE=URI;X-ADDRESS=YMCA of the Shoals 2121 Helton Drive Florence AL 35630 United States;X-APPLE-RADIUS=500;X-TITLE=2121 Helton Drive:geo:-87.6683435,34.8324379
END:VEVENT
BEGIN:VEVENT
DTSTART;TZID=America/Chicago:20230601T180000
DTEND;TZID=America/Chicago:20230601T200000
DTSTAMP:20260425T081801
CREATED:20230531T162810Z
LAST-MODIFIED:20230531T162810Z
UID:153011-1685642400-1685649600@www.ymcashoals.org
SUMMARY:Pickleball Ct. B
DESCRIPTION:
URL:https://www.ymcashoals.org/event/pickleball-ct-b-2/2023-06-01/
LOCATION:YMCA of the Shoals\, 2121 Helton Drive\, Florence\, AL\, 35630\, United States
CATEGORIES:Gym Courts A & B,Schedules
GEO:34.8324379;-87.6683435
X-APPLE-STRUCTURED-LOCATION;VALUE=URI;X-ADDRESS=YMCA of the Shoals 2121 Helton Drive Florence AL 35630 United States;X-APPLE-RADIUS=500;X-TITLE=2121 Helton Drive:geo:-87.6683435,34.8324379
END:VEVENT
BEGIN:VEVENT
DTSTART;TZID=America/Chicago:20230601T180000
DTEND;TZID=America/Chicago:20230601T200000
DTSTAMP:20260425T081801
CREATED:20230531T160903Z
LAST-MODIFIED:20230531T160903Z
UID:152805-1685642400-1685649600@www.ymcashoals.org
SUMMARY:Volleyball Ct. A
DESCRIPTION:
URL:https://www.ymcashoals.org/event/volleyball-ct-a/2023-06-01/
LOCATION:YMCA of the Shoals\, 2121 Helton Drive\, Florence\, AL\, 35630\, United States
CATEGORIES:Gym Courts A & B,Schedules
GEO:34.8324379;-87.6683435
X-APPLE-STRUCTURED-LOCATION;VALUE=URI;X-ADDRESS=YMCA of the Shoals 2121 Helton Drive Florence AL 35630 United States;X-APPLE-RADIUS=500;X-TITLE=2121 Helton Drive:geo:-87.6683435,34.8324379
END:VEVENT
BEGIN:VEVENT
DTSTART;TZID=America/Chicago:20230601T180000
DTEND;TZID=America/Chicago:20230601T200000
DTSTAMP:20260425T081801
CREATED:20230531T160811Z
LAST-MODIFIED:20230531T160811Z
UID:152796-1685642400-1685649600@www.ymcashoals.org
SUMMARY:Pickleball Ct. A
DESCRIPTION:
URL:https://www.ymcashoals.org/event/pickleball-ct-a/2023-06-01/
LOCATION:YMCA of the Shoals\, 2121 Helton Drive\, Florence\, AL\, 35630\, United States
CATEGORIES:Gym Courts A & B,Schedules
GEO:34.8324379;-87.6683435
X-APPLE-STRUCTURED-LOCATION;VALUE=URI;X-ADDRESS=YMCA of the Shoals 2121 Helton Drive Florence AL 35630 United States;X-APPLE-RADIUS=500;X-TITLE=2121 Helton Drive:geo:-87.6683435,34.8324379
END:VEVENT
BEGIN:VEVENT
DTSTART;TZID=America/Chicago:20230601T121500
DTEND;TZID=America/Chicago:20230601T174500
DTSTAMP:20260425T081801
CREATED:20230531T162506Z
LAST-MODIFIED:20230531T162506Z
UID:152955-1685621700-1685641500@www.ymcashoals.org
SUMMARY:SUMMER DAY CAMP Ct. B
DESCRIPTION:
URL:https://www.ymcashoals.org/event/summer-day-camp-ct-b-2/2023-06-01/
LOCATION:YMCA of the Shoals\, 2121 Helton Drive\, Florence\, AL\, 35630\, United States
CATEGORIES:Gym Courts A & B,Schedules
GEO:34.8324379;-87.6683435
X-APPLE-STRUCTURED-LOCATION;VALUE=URI;X-ADDRESS=YMCA of the Shoals 2121 Helton Drive Florence AL 35630 United States;X-APPLE-RADIUS=500;X-TITLE=2121 Helton Drive:geo:-87.6683435,34.8324379
END:VEVENT
BEGIN:VEVENT
DTSTART;TZID=America/Chicago:20230601T121500
DTEND;TZID=America/Chicago:20230601T174500
DTSTAMP:20260425T081801
CREATED:20230531T160258Z
LAST-MODIFIED:20230531T160258Z
UID:152740-1685621700-1685641500@www.ymcashoals.org
SUMMARY:Open Play Ct. A
DESCRIPTION:
URL:https://www.ymcashoals.org/event/open-play-ct-a-4/2023-06-01/
LOCATION:YMCA of the Shoals\, 2121 Helton Drive\, Florence\, AL\, 35630\, United States
CATEGORIES:Gym Courts A & B,Schedules
GEO:34.8324379;-87.6683435
X-APPLE-STRUCTURED-LOCATION;VALUE=URI;X-ADDRESS=YMCA of the Shoals 2121 Helton Drive Florence AL 35630 United States;X-APPLE-RADIUS=500;X-TITLE=2121 Helton Drive:geo:-87.6683435,34.8324379
END:VEVENT
BEGIN:VEVENT
DTSTART;TZID=America/Chicago:20230601T100000
DTEND;TZID=America/Chicago:20230601T120000
DTSTAMP:20260425T081801
CREATED:20230531T162218Z
LAST-MODIFIED:20230531T162218Z
UID:152937-1685613600-1685620800@www.ymcashoals.org
SUMMARY:Pickleball Ct. B
DESCRIPTION:
URL:https://www.ymcashoals.org/event/pickleball-ct-b/2023-06-01/
LOCATION:YMCA of the Shoals\, 2121 Helton Drive\, Florence\, AL\, 35630\, United States
CATEGORIES:Gym Courts A & B,Schedules
GEO:34.8324379;-87.6683435
X-APPLE-STRUCTURED-LOCATION;VALUE=URI;X-ADDRESS=YMCA of the Shoals 2121 Helton Drive Florence AL 35630 United States;X-APPLE-RADIUS=500;X-TITLE=2121 Helton Drive:geo:-87.6683435,34.8324379
END:VEVENT
BEGIN:VEVENT
DTSTART;TZID=America/Chicago:20230601T100000
DTEND;TZID=America/Chicago:20230601T120000
DTSTAMP:20260425T081801
CREATED:20230531T160136Z
LAST-MODIFIED:20230531T160148Z
UID:152705-1685613600-1685620800@www.ymcashoals.org
SUMMARY:Pickleball Ct. A
DESCRIPTION:
URL:https://www.ymcashoals.org/event/pickleball-2/2023-06-01/
LOCATION:YMCA of the Shoals\, 2121 Helton Drive\, Florence\, AL\, 35630\, United States
CATEGORIES:Gym Courts A & B,Schedules
GEO:34.8324379;-87.6683435
X-APPLE-STRUCTURED-LOCATION;VALUE=URI;X-ADDRESS=YMCA of the Shoals 2121 Helton Drive Florence AL 35630 United States;X-APPLE-RADIUS=500;X-TITLE=2121 Helton Drive:geo:-87.6683435,34.8324379
END:VEVENT
END:VCALENDAR