BEGIN:VCALENDAR
VERSION:2.0
PRODID:-//YMCA of the Shoals - ECPv6.15.20//NONSGML v1.0//EN
CALSCALE:GREGORIAN
METHOD:PUBLISH
X-ORIGINAL-URL:https://www.ymcashoals.org
X-WR-CALDESC:Events for YMCA of the Shoals
REFRESH-INTERVAL;VALUE=DURATION:PT1H
X-Robots-Tag:noindex
X-PUBLISHED-TTL:PT1H
BEGIN:VTIMEZONE
TZID:America/Chicago
BEGIN:DAYLIGHT
TZOFFSETFROM:-0600
TZOFFSETTO:-0500
TZNAME:CDT
DTSTART:20250309T080000
END:DAYLIGHT
BEGIN:STANDARD
TZOFFSETFROM:-0500
TZOFFSETTO:-0600
TZNAME:CST
DTSTART:20251102T070000
END:STANDARD
BEGIN:DAYLIGHT
TZOFFSETFROM:-0600
TZOFFSETTO:-0500
TZNAME:CDT
DTSTART:20260308T080000
END:DAYLIGHT
BEGIN:STANDARD
TZOFFSETFROM:-0500
TZOFFSETTO:-0600
TZNAME:CST
DTSTART:20261101T070000
END:STANDARD
BEGIN:DAYLIGHT
TZOFFSETFROM:-0600
TZOFFSETTO:-0500
TZNAME:CDT
DTSTART:20270314T080000
END:DAYLIGHT
BEGIN:STANDARD
TZOFFSETFROM:-0500
TZOFFSETTO:-0600
TZNAME:CST
DTSTART:20271107T070000
END:STANDARD
END:VTIMEZONE
BEGIN:VEVENT
DTSTART;TZID=America/Chicago:20261223T081500
DTEND;TZID=America/Chicago:20261223T090000
DTSTAMP:20260425T195309
CREATED:20200527T202728Z
LAST-MODIFIED:20200527T202728Z
UID:192303-1798013700-1798016400@www.ymcashoals.org
SUMMARY:Y Dance (Leslie)
DESCRIPTION:
URL:https://www.ymcashoals.org/event/y-dance-leslie/2026-12-23/
LOCATION:YMCA of the Shoals\, 2121 Helton Drive\, Florence\, AL\, 35630\, United States
CATEGORIES:Group Exercise (GXR),Schedules
GEO:34.8324379;-87.6683435
X-APPLE-STRUCTURED-LOCATION;VALUE=URI;X-ADDRESS=YMCA of the Shoals 2121 Helton Drive Florence AL 35630 United States;X-APPLE-RADIUS=500;X-TITLE=2121 Helton Drive:geo:-87.6683435,34.8324379
END:VEVENT
BEGIN:VEVENT
DTSTART;TZID=America/Chicago:20261223T083000
DTEND;TZID=America/Chicago:20261223T091500
DTSTAMP:20260425T195309
CREATED:20240829T190838Z
LAST-MODIFIED:20251130T040306Z
UID:189038-1798014600-1798017300@www.ymcashoals.org
SUMMARY:Joints in Motion (8:30am)
DESCRIPTION:
URL:https://www.ymcashoals.org/event/joints-in-motion-3/2026-12-23/
LOCATION:YMCA of the Shoals\, 2121 Helton Drive\, Florence\, AL\, 35630\, United States
CATEGORIES:Leisure Pool Schedule,Schedules
GEO:34.8324379;-87.6683435
X-APPLE-STRUCTURED-LOCATION;VALUE=URI;X-ADDRESS=YMCA of the Shoals 2121 Helton Drive Florence AL 35630 United States;X-APPLE-RADIUS=500;X-TITLE=2121 Helton Drive:geo:-87.6683435,34.8324379
END:VEVENT
BEGIN:VEVENT
DTSTART;TZID=America/Chicago:20261223T090000
DTEND;TZID=America/Chicago:20261223T100000
DTSTAMP:20260425T195309
CREATED:20210104T201024Z
LAST-MODIFIED:20210104T201024Z
UID:196914-1798016400-1798020000@www.ymcashoals.org
SUMMARY:Karate
DESCRIPTION:
URL:https://www.ymcashoals.org/event/karate/2026-12-23/
LOCATION:YMCA of the Shoals\, 2121 Helton Drive\, Florence\, AL\, 35630\, United States
CATEGORIES:Karate - Tang Soo Do,Schedules
GEO:34.8324379;-87.6683435
X-APPLE-STRUCTURED-LOCATION;VALUE=URI;X-ADDRESS=YMCA of the Shoals 2121 Helton Drive Florence AL 35630 United States;X-APPLE-RADIUS=500;X-TITLE=2121 Helton Drive:geo:-87.6683435,34.8324379
END:VEVENT
BEGIN:VEVENT
DTSTART;TZID=America/Chicago:20261223T090000
DTEND;TZID=America/Chicago:20261223T100000
DTSTAMP:20260425T195309
CREATED:20250530T134131Z
LAST-MODIFIED:20260107T141234Z
UID:196733-1798016400-1798020000@www.ymcashoals.org
SUMMARY:Karate (Court B)
DESCRIPTION:
URL:https://www.ymcashoals.org/event/karate-2/2026-12-23/
LOCATION:YMCA of the Shoals\, 2121 Helton Drive\, Florence\, AL\, 35630\, United States
CATEGORIES:Gym Courts A & B,Schedules
GEO:34.8324379;-87.6683435
X-APPLE-STRUCTURED-LOCATION;VALUE=URI;X-ADDRESS=YMCA of the Shoals 2121 Helton Drive Florence AL 35630 United States;X-APPLE-RADIUS=500;X-TITLE=2121 Helton Drive:geo:-87.6683435,34.8324379
END:VEVENT
BEGIN:VEVENT
DTSTART;TZID=America/Chicago:20261223T091000
DTEND;TZID=America/Chicago:20261223T095500
DTSTAMP:20260425T195309
CREATED:20230227T142651Z
LAST-MODIFIED:20230227T142651Z
UID:191607-1798017000-1798019700@www.ymcashoals.org
SUMMARY:Les Mills RPM (Lauren)
DESCRIPTION:
URL:https://www.ymcashoals.org/event/les-mills-rpm-katie/2026-12-23/
LOCATION:YMCA of the Shoals\, 2121 Helton Drive\, Florence\, AL\, 35630\, United States
CATEGORIES:Cycle Fusion (GXR2),Schedules
GEO:34.8324379;-87.6683435
X-APPLE-STRUCTURED-LOCATION;VALUE=URI;X-ADDRESS=YMCA of the Shoals 2121 Helton Drive Florence AL 35630 United States;X-APPLE-RADIUS=500;X-TITLE=2121 Helton Drive:geo:-87.6683435,34.8324379
END:VEVENT
BEGIN:VEVENT
DTSTART;TZID=America/Chicago:20261223T091000
DTEND;TZID=America/Chicago:20261223T100000
DTSTAMP:20260425T195309
CREATED:20250224T204815Z
LAST-MODIFIED:20250224T204815Z
UID:191808-1798017000-1798020000@www.ymcashoals.org
SUMMARY:Y Gold (Lana)
DESCRIPTION:
URL:https://www.ymcashoals.org/event/y-gold-marilyn-2/2026-12-23/
LOCATION:YMCA of the Shoals\, 2121 Helton Drive\, Florence\, AL\, 35630\, United States
CATEGORIES:Schedules,Spirit/Mind/Body (GXR3)
GEO:34.8324379;-87.6683435
X-APPLE-STRUCTURED-LOCATION;VALUE=URI;X-ADDRESS=YMCA of the Shoals 2121 Helton Drive Florence AL 35630 United States;X-APPLE-RADIUS=500;X-TITLE=2121 Helton Drive:geo:-87.6683435,34.8324379
END:VEVENT
BEGIN:VEVENT
DTSTART;TZID=America/Chicago:20261223T091000
DTEND;TZID=America/Chicago:20261223T100000
DTSTAMP:20260425T195309
CREATED:20260123T135158Z
LAST-MODIFIED:20260123T135158Z
UID:198563-1798017000-1798020000@www.ymcashoals.org
SUMMARY:Y Barre (Casey)
DESCRIPTION:
URL:https://www.ymcashoals.org/event/y-barre-casey/2026-12-23/
LOCATION:YMCA of the Shoals\, 2121 Helton Drive\, Florence\, AL\, 35630\, United States
CATEGORIES:Group Exercise (GXR),Schedules
GEO:34.8324379;-87.6683435
X-APPLE-STRUCTURED-LOCATION;VALUE=URI;X-ADDRESS=YMCA of the Shoals 2121 Helton Drive Florence AL 35630 United States;X-APPLE-RADIUS=500;X-TITLE=2121 Helton Drive:geo:-87.6683435,34.8324379
END:VEVENT
BEGIN:VEVENT
DTSTART;TZID=America/Chicago:20261223T100000
DTEND;TZID=America/Chicago:20261223T150000
DTSTAMP:20260425T195309
CREATED:20260106T211429Z
LAST-MODIFIED:20260106T211429Z
UID:194012-1798020000-1798038000@www.ymcashoals.org
SUMMARY:Open Play (Court B)
DESCRIPTION:
URL:https://www.ymcashoals.org/event/open-play-court-b-19/2026-12-23/
LOCATION:YMCA of the Shoals\, 2121 Helton Drive\, Florence\, AL\, 35630\, United States
CATEGORIES:Gym Courts A & B,Schedules
GEO:34.8324379;-87.6683435
X-APPLE-STRUCTURED-LOCATION;VALUE=URI;X-ADDRESS=YMCA of the Shoals 2121 Helton Drive Florence AL 35630 United States;X-APPLE-RADIUS=500;X-TITLE=2121 Helton Drive:geo:-87.6683435,34.8324379
END:VEVENT
BEGIN:VEVENT
DTSTART;TZID=America/Chicago:20261223T101000
DTEND;TZID=America/Chicago:20261223T110000
DTSTAMP:20260425T195309
CREATED:20250224T205431Z
LAST-MODIFIED:20260325T182529Z
UID:188411-1798020600-1798023600@www.ymcashoals.org
SUMMARY:Muscle Works (Teri)
DESCRIPTION:
URL:https://www.ymcashoals.org/event/muscle-works-teri-2/2026-12-23/
LOCATION:YMCA of the Shoals\, 2121 Helton Drive\, Florence\, AL\, 35630\, United States
CATEGORIES:Group Exercise (GXR),Schedules
GEO:34.8324379;-87.6683435
X-APPLE-STRUCTURED-LOCATION;VALUE=URI;X-ADDRESS=YMCA of the Shoals 2121 Helton Drive Florence AL 35630 United States;X-APPLE-RADIUS=500;X-TITLE=2121 Helton Drive:geo:-87.6683435,34.8324379
END:VEVENT
BEGIN:VEVENT
DTSTART;TZID=America/Chicago:20261223T101500
DTEND;TZID=America/Chicago:20261223T110000
DTSTAMP:20260425T195309
CREATED:20250806T155946Z
LAST-MODIFIED:20251130T033714Z
UID:188414-1798020900-1798023600@www.ymcashoals.org
SUMMARY:Working in the Deep
DESCRIPTION:2 lanes available
URL:https://www.ymcashoals.org/event/working-in-the-deep-6/2026-12-23/
LOCATION:YMCA of the Shoals\, 2121 Helton Drive\, Florence\, AL\, 35630\, United States
CATEGORIES:Lap Pool,Lap Pool Schedule,Schedules
GEO:34.8324379;-87.6683435
X-APPLE-STRUCTURED-LOCATION;VALUE=URI;X-ADDRESS=YMCA of the Shoals 2121 Helton Drive Florence AL 35630 United States;X-APPLE-RADIUS=500;X-TITLE=2121 Helton Drive:geo:-87.6683435,34.8324379
END:VEVENT
BEGIN:VEVENT
DTSTART;TZID=America/Chicago:20261223T103000
DTEND;TZID=America/Chicago:20261223T103000
DTSTAMP:20260425T195309
CREATED:20250425T163255Z
LAST-MODIFIED:20250425T163255Z
UID:188412-1798021800-1798021800@www.ymcashoals.org
SUMMARY:Rock Steady Cycle (Steve)
DESCRIPTION:
URL:https://www.ymcashoals.org/event/rock-steady-cycle-steve/2026-12-23/
LOCATION:YMCA of the Shoals\, 2121 Helton Drive\, Florence\, AL\, 35630\, United States
CATEGORIES:Cycle Fusion (GXR2),Schedules
GEO:34.8324379;-87.6683435
X-APPLE-STRUCTURED-LOCATION;VALUE=URI;X-ADDRESS=YMCA of the Shoals 2121 Helton Drive Florence AL 35630 United States;X-APPLE-RADIUS=500;X-TITLE=2121 Helton Drive:geo:-87.6683435,34.8324379
END:VEVENT
BEGIN:VEVENT
DTSTART;TZID=America/Chicago:20261223T110000
DTEND;TZID=America/Chicago:20261223T120000
DTSTAMP:20260425T195309
CREATED:20221103T151028Z
LAST-MODIFIED:20260107T031343Z
UID:196265-1798023600-1798027200@www.ymcashoals.org
SUMMARY:Volleyball Fun Aerobics Class
DESCRIPTION:A fun\, energetic class where participants are encouraged to promote the Y’s core values: Caring\, Honesty\, Respect and Responsibility through good sportsmanship and fair conduct for all.
URL:https://www.ymcashoals.org/event/volleyball-fun-aerobics-class-alisa/2026-12-23/
LOCATION:YMCA of the Shoals\, 2121 Helton Drive\, Florence\, AL\, 35630\, United States
CATEGORIES:Leisure Pool Schedule,Schedules
GEO:34.8324379;-87.6683435
X-APPLE-STRUCTURED-LOCATION;VALUE=URI;X-ADDRESS=YMCA of the Shoals 2121 Helton Drive Florence AL 35630 United States;X-APPLE-RADIUS=500;X-TITLE=2121 Helton Drive:geo:-87.6683435,34.8324379
END:VEVENT
BEGIN:VEVENT
DTSTART;TZID=America/Chicago:20261223T110000
DTEND;TZID=America/Chicago:20261223T123000
DTSTAMP:20260425T195309
CREATED:20250425T164620Z
LAST-MODIFIED:20250425T164620Z
UID:188413-1798023600-1798029000@www.ymcashoals.org
SUMMARY:Rock Steady (Sara)
DESCRIPTION:
URL:https://www.ymcashoals.org/event/rock-steady-sara/2026-12-23/
LOCATION:YMCA of the Shoals\, 2121 Helton Drive\, Florence\, AL\, 35630\, United States
CATEGORIES:Group Exercise (GXR),Schedules
GEO:34.8324379;-87.6683435
X-APPLE-STRUCTURED-LOCATION;VALUE=URI;X-ADDRESS=YMCA of the Shoals 2121 Helton Drive Florence AL 35630 United States;X-APPLE-RADIUS=500;X-TITLE=2121 Helton Drive:geo:-87.6683435,34.8324379
END:VEVENT
BEGIN:VEVENT
DTSTART;TZID=America/Chicago:20261223T150000
DTEND;TZID=America/Chicago:20261223T154500
DTSTAMP:20260425T195309
CREATED:20260106T210545Z
LAST-MODIFIED:20260106T210545Z
UID:193294-1798038000-1798040700@www.ymcashoals.org
SUMMARY:BASC (Court B)
DESCRIPTION:
URL:https://www.ymcashoals.org/event/basc-court-b/2026-12-23/
LOCATION:YMCA of the Shoals\, 2121 Helton Drive\, Florence\, AL\, 35630\, United States
CATEGORIES:Gym Courts A & B,Schedules
GEO:34.8324379;-87.6683435
X-APPLE-STRUCTURED-LOCATION;VALUE=URI;X-ADDRESS=YMCA of the Shoals 2121 Helton Drive Florence AL 35630 United States;X-APPLE-RADIUS=500;X-TITLE=2121 Helton Drive:geo:-87.6683435,34.8324379
END:VEVENT
BEGIN:VEVENT
DTSTART;TZID=America/Chicago:20261223T160000
DTEND;TZID=America/Chicago:20261223T204500
DTSTAMP:20260425T195309
CREATED:20260106T212515Z
LAST-MODIFIED:20260106T212515Z
UID:194949-1798041600-1798058700@www.ymcashoals.org
SUMMARY:Open Play Court A
DESCRIPTION:
URL:https://www.ymcashoals.org/event/open-play-court-a-16/2026-12-23/
LOCATION:YMCA of the Shoals\, 2121 Helton Drive\, Florence\, AL\, 35630\, United States
CATEGORIES:Gym Courts A & B,Schedules
GEO:34.8324379;-87.6683435
X-APPLE-STRUCTURED-LOCATION;VALUE=URI;X-ADDRESS=YMCA of the Shoals 2121 Helton Drive Florence AL 35630 United States;X-APPLE-RADIUS=500;X-TITLE=2121 Helton Drive:geo:-87.6683435,34.8324379
END:VEVENT
BEGIN:VEVENT
DTSTART;TZID=America/Chicago:20261223T161500
DTEND;TZID=America/Chicago:20261223T170000
DTSTAMP:20260425T195309
CREATED:20210330T134516Z
LAST-MODIFIED:20210330T134516Z
UID:188409-1798042500-1798045200@www.ymcashoals.org
SUMMARY:Muscle Works (Emilie)
DESCRIPTION:
URL:https://www.ymcashoals.org/event/muscle-works-emilie/2026-12-23/
LOCATION:YMCA of the Shoals\, 2121 Helton Drive\, Florence\, AL\, 35630\, United States
CATEGORIES:Group Exercise (GXR),Schedules
GEO:34.8324379;-87.6683435
X-APPLE-STRUCTURED-LOCATION;VALUE=URI;X-ADDRESS=YMCA of the Shoals 2121 Helton Drive Florence AL 35630 United States;X-APPLE-RADIUS=500;X-TITLE=2121 Helton Drive:geo:-87.6683435,34.8324379
END:VEVENT
BEGIN:VEVENT
DTSTART;TZID=America/Chicago:20261223T163000
DTEND;TZID=America/Chicago:20261223T173000
DTSTAMP:20260425T195309
CREATED:20220201T142504Z
LAST-MODIFIED:20220201T142504Z
UID:197361-1798043400-1798047000@www.ymcashoals.org
SUMMARY:Child Karate
DESCRIPTION:
URL:https://www.ymcashoals.org/event/child-karate-2/2026-12-23/
LOCATION:YMCA of the Shoals\, 2121 Helton Drive\, Florence\, AL\, 35630\, United States
CATEGORIES:Karate - Tang Soo Do,Schedules
GEO:34.8324379;-87.6683435
X-APPLE-STRUCTURED-LOCATION;VALUE=URI;X-ADDRESS=YMCA of the Shoals 2121 Helton Drive Florence AL 35630 United States;X-APPLE-RADIUS=500;X-TITLE=2121 Helton Drive:geo:-87.6683435,34.8324379
END:VEVENT
BEGIN:VEVENT
DTSTART;TZID=America/Chicago:20261223T173000
DTEND;TZID=America/Chicago:20261223T181000
DTSTAMP:20260425T195309
CREATED:20260107T025818Z
LAST-MODIFIED:20260107T025818Z
UID:195922-1798047000-1798049400@www.ymcashoals.org
SUMMARY:After Work Water Workout
DESCRIPTION:2 Lanes available
URL:https://www.ymcashoals.org/event/after-work-water-workout/2026-12-23/
LOCATION:YMCA of the Shoals\, 2121 Helton Drive\, Florence\, AL\, 35630\, United States
CATEGORIES:Lap Pool,Lap Pool Schedule,Schedules
GEO:34.8324379;-87.6683435
X-APPLE-STRUCTURED-LOCATION;VALUE=URI;X-ADDRESS=YMCA of the Shoals 2121 Helton Drive Florence AL 35630 United States;X-APPLE-RADIUS=500;X-TITLE=2121 Helton Drive:geo:-87.6683435,34.8324379
END:VEVENT
BEGIN:VEVENT
DTSTART;TZID=America/Chicago:20261223T173000
DTEND;TZID=America/Chicago:20261223T183000
DTSTAMP:20260425T195309
CREATED:20241029T202516Z
LAST-MODIFIED:20241029T202516Z
UID:192716-1798047000-1798050600@www.ymcashoals.org
SUMMARY:Cardio Hip Hop (Ladarius)
DESCRIPTION:
URL:https://www.ymcashoals.org/event/cardio-hip-hop-ladarius-4/2026-12-23/
LOCATION:YMCA of the Shoals\, 2121 Helton Drive\, Florence\, AL\, 35630\, United States
CATEGORIES:Group Exercise (GXR),Schedules
GEO:34.8324379;-87.6683435
X-APPLE-STRUCTURED-LOCATION;VALUE=URI;X-ADDRESS=YMCA of the Shoals 2121 Helton Drive Florence AL 35630 United States;X-APPLE-RADIUS=500;X-TITLE=2121 Helton Drive:geo:-87.6683435,34.8324379
END:VEVENT
BEGIN:VEVENT
DTSTART;TZID=America/Chicago:20261223T181500
DTEND;TZID=America/Chicago:20261223T193000
DTSTAMP:20260425T195309
CREATED:20220201T142626Z
LAST-MODIFIED:20220201T142626Z
UID:196680-1798049700-1798054200@www.ymcashoals.org
SUMMARY:Adult Karate
DESCRIPTION:
URL:https://www.ymcashoals.org/event/adult-karate-3/2026-12-23/
LOCATION:YMCA of the Shoals\, 2121 Helton Drive\, Florence\, AL\, 35630\, United States
CATEGORIES:Karate - Tang Soo Do,Schedules
GEO:34.8324379;-87.6683435
X-APPLE-STRUCTURED-LOCATION;VALUE=URI;X-ADDRESS=YMCA of the Shoals 2121 Helton Drive Florence AL 35630 United States;X-APPLE-RADIUS=500;X-TITLE=2121 Helton Drive:geo:-87.6683435,34.8324379
END:VEVENT
BEGIN:VEVENT
DTSTART;TZID=America/Chicago:20261223T203000
DTEND;TZID=America/Chicago:20261223T210000
DTSTAMP:20260425T195309
CREATED:20260106T210635Z
LAST-MODIFIED:20260106T210635Z
UID:193413-1798057800-1798059600@www.ymcashoals.org
SUMMARY:Open Play (Court B)
DESCRIPTION:
URL:https://www.ymcashoals.org/event/open-play-court-b-17/2026-12-23/
LOCATION:YMCA of the Shoals\, 2121 Helton Drive\, Florence\, AL\, 35630\, United States
CATEGORIES:Gym Courts A & B,Schedules
GEO:34.8324379;-87.6683435
X-APPLE-STRUCTURED-LOCATION;VALUE=URI;X-ADDRESS=YMCA of the Shoals 2121 Helton Drive Florence AL 35630 United States;X-APPLE-RADIUS=500;X-TITLE=2121 Helton Drive:geo:-87.6683435,34.8324379
END:VEVENT
BEGIN:VEVENT
DTSTART;TZID=America/Chicago:20261224T050000
DTEND;TZID=America/Chicago:20261224T100000
DTSTAMP:20260425T195309
CREATED:20260106T212627Z
LAST-MODIFIED:20260106T212627Z
UID:195071-1798088400-1798106400@www.ymcashoals.org
SUMMARY:Open Play Court A
DESCRIPTION:
URL:https://www.ymcashoals.org/event/open-play-court-a-17/2026-12-24/
LOCATION:YMCA of the Shoals\, 2121 Helton Drive\, Florence\, AL\, 35630\, United States
CATEGORIES:Gym Courts A & B,Schedules
GEO:34.8324379;-87.6683435
X-APPLE-STRUCTURED-LOCATION;VALUE=URI;X-ADDRESS=YMCA of the Shoals 2121 Helton Drive Florence AL 35630 United States;X-APPLE-RADIUS=500;X-TITLE=2121 Helton Drive:geo:-87.6683435,34.8324379
END:VEVENT
BEGIN:VEVENT
DTSTART;TZID=America/Chicago:20261224T051500
DTEND;TZID=America/Chicago:20261224T060000
DTSTAMP:20260425T195309
CREATED:20221128T211203Z
LAST-MODIFIED:20221128T211203Z
UID:188415-1798089300-1798092000@www.ymcashoals.org
SUMMARY:Muscle Works (Emilie)
DESCRIPTION:
URL:https://www.ymcashoals.org/event/muscle-works-emilie-3/2026-12-24/
LOCATION:YMCA of the Shoals\, 2121 Helton Drive\, Florence\, AL\, 35630\, United States
CATEGORIES:Group Exercise (GXR),Schedules
GEO:34.8324379;-87.6683435
X-APPLE-STRUCTURED-LOCATION;VALUE=URI;X-ADDRESS=YMCA of the Shoals 2121 Helton Drive Florence AL 35630 United States;X-APPLE-RADIUS=500;X-TITLE=2121 Helton Drive:geo:-87.6683435,34.8324379
END:VEVENT
BEGIN:VEVENT
DTSTART;TZID=America/Chicago:20261224T080000
DTEND;TZID=America/Chicago:20261224T085000
DTSTAMP:20260425T195309
CREATED:20230227T143730Z
LAST-MODIFIED:20230227T143730Z
UID:199441-1798099200-1798102200@www.ymcashoals.org
SUMMARY:Step & Strength (Angela V.)
DESCRIPTION:
URL:https://www.ymcashoals.org/event/fusion-fit-angela-v/2026-12-24/
LOCATION:YMCA of the Shoals\, 2121 Helton Drive\, Florence\, AL\, 35630\, United States
CATEGORIES:Schedules,Spirit/Mind/Body (GXR3)
GEO:34.8324379;-87.6683435
X-APPLE-STRUCTURED-LOCATION;VALUE=URI;X-ADDRESS=YMCA of the Shoals 2121 Helton Drive Florence AL 35630 United States;X-APPLE-RADIUS=500;X-TITLE=2121 Helton Drive:geo:-87.6683435,34.8324379
END:VEVENT
BEGIN:VEVENT
DTSTART;TZID=America/Chicago:20261224T080000
DTEND;TZID=America/Chicago:20261224T085000
DTSTAMP:20260425T195309
CREATED:20230227T143730Z
LAST-MODIFIED:20230227T143730Z
UID:200098-1798099200-1798102200@www.ymcashoals.org
SUMMARY:Step & Strength (Angela V.)
DESCRIPTION:
URL:https://www.ymcashoals.org/event/fusion-fit-angela-v/2026-12-24/
LOCATION:YMCA of the Shoals\, 2121 Helton Drive\, Florence\, AL\, 35630\, United States
CATEGORIES:Schedules,Spirit/Mind/Body (GXR3)
GEO:34.8324379;-87.6683435
X-APPLE-STRUCTURED-LOCATION;VALUE=URI;X-ADDRESS=YMCA of the Shoals 2121 Helton Drive Florence AL 35630 United States;X-APPLE-RADIUS=500;X-TITLE=2121 Helton Drive:geo:-87.6683435,34.8324379
END:VEVENT
BEGIN:VEVENT
DTSTART;TZID=America/Chicago:20261224T081000
DTEND;TZID=America/Chicago:20261224T090000
DTSTAMP:20260425T195309
CREATED:20240424T190848Z
LAST-MODIFIED:20240424T190848Z
UID:188416-1798099800-1798102800@www.ymcashoals.org
SUMMARY:Body Pump (Christy)
DESCRIPTION:
URL:https://www.ymcashoals.org/event/body-pump-christy/2026-12-24/
LOCATION:YMCA of the Shoals\, 2121 Helton Drive\, Florence\, AL\, 35630\, United States
CATEGORIES:Group Exercise (GXR),Schedules
GEO:34.8324379;-87.6683435
X-APPLE-STRUCTURED-LOCATION;VALUE=URI;X-ADDRESS=YMCA of the Shoals 2121 Helton Drive Florence AL 35630 United States;X-APPLE-RADIUS=500;X-TITLE=2121 Helton Drive:geo:-87.6683435,34.8324379
END:VEVENT
BEGIN:VEVENT
DTSTART;TZID=America/Chicago:20261224T083000
DTEND;TZID=America/Chicago:20261224T091500
DTSTAMP:20260425T195309
CREATED:20240829T190838Z
LAST-MODIFIED:20240829T190838Z
UID:190855-1798101000-1798103700@www.ymcashoals.org
SUMMARY:Joints in Motion (8:30am)
DESCRIPTION:
URL:https://www.ymcashoals.org/event/joints-in-motion-3/2026-12-24/
LOCATION:YMCA of the Shoals\, 2121 Helton Drive\, Florence\, AL\, 35630\, United States
CATEGORIES:Leisure Pool Schedule,Schedules
GEO:34.8324379;-87.6683435
X-APPLE-STRUCTURED-LOCATION;VALUE=URI;X-ADDRESS=YMCA of the Shoals 2121 Helton Drive Florence AL 35630 United States;X-APPLE-RADIUS=500;X-TITLE=2121 Helton Drive:geo:-87.6683435,34.8324379
END:VEVENT
BEGIN:VEVENT
DTSTART;TZID=America/Chicago:20261224T100000
DTEND;TZID=America/Chicago:20261224T120000
DTSTAMP:20260425T195309
CREATED:20260106T211109Z
LAST-MODIFIED:20260106T211109Z
UID:193711-1798106400-1798113600@www.ymcashoals.org
SUMMARY:Pickleball (Courts A&B)
DESCRIPTION:
URL:https://www.ymcashoals.org/event/pickleball-courts-ab/2026-12-24/
LOCATION:YMCA of the Shoals\, 2121 Helton Drive\, Florence\, AL\, 35630\, United States
CATEGORIES:Gym Courts A & B,Schedules
GEO:34.8324379;-87.6683435
X-APPLE-STRUCTURED-LOCATION;VALUE=URI;X-ADDRESS=YMCA of the Shoals 2121 Helton Drive Florence AL 35630 United States;X-APPLE-RADIUS=500;X-TITLE=2121 Helton Drive:geo:-87.6683435,34.8324379
END:VEVENT
BEGIN:VEVENT
DTSTART;TZID=America/Chicago:20261224T101000
DTEND;TZID=America/Chicago:20261224T110000
DTSTAMP:20260425T195309
CREATED:20250224T205516Z
LAST-MODIFIED:20250224T205516Z
UID:188418-1798107000-1798110000@www.ymcashoals.org
SUMMARY:Muscle Works (Angela D.)
DESCRIPTION:
URL:https://www.ymcashoals.org/event/muscle-works-angela-d-4/2026-12-24/
LOCATION:YMCA of the Shoals\, 2121 Helton Drive\, Florence\, AL\, 35630\, United States
CATEGORIES:Group Exercise (GXR),Schedules
GEO:34.8324379;-87.6683435
X-APPLE-STRUCTURED-LOCATION;VALUE=URI;X-ADDRESS=YMCA of the Shoals 2121 Helton Drive Florence AL 35630 United States;X-APPLE-RADIUS=500;X-TITLE=2121 Helton Drive:geo:-87.6683435,34.8324379
END:VEVENT
BEGIN:VEVENT
DTSTART;TZID=America/Chicago:20261224T101500
DTEND;TZID=America/Chicago:20261224T110000
DTSTAMP:20260425T195309
CREATED:20241029T201628Z
LAST-MODIFIED:20241029T201628Z
UID:197531-1798107300-1798110000@www.ymcashoals.org
SUMMARY:Yoga In Chairs (Sheila)
DESCRIPTION:
URL:https://www.ymcashoals.org/event/yoga-in-chairs-sheila/2026-12-24/
LOCATION:YMCA of the Shoals\, 2121 Helton Drive\, Florence\, AL\, 35630\, United States
CATEGORIES:Schedules,Spirit/Mind/Body (GXR3)
GEO:34.8324379;-87.6683435
X-APPLE-STRUCTURED-LOCATION;VALUE=URI;X-ADDRESS=YMCA of the Shoals 2121 Helton Drive Florence AL 35630 United States;X-APPLE-RADIUS=500;X-TITLE=2121 Helton Drive:geo:-87.6683435,34.8324379
END:VEVENT
END:VCALENDAR