BEGIN:VCALENDAR
VERSION:2.0
PRODID:-//YMCA of the Shoals - ECPv6.15.20//NONSGML v1.0//EN
CALSCALE:GREGORIAN
METHOD:PUBLISH
X-WR-CALNAME:YMCA of the Shoals
X-ORIGINAL-URL:https://www.ymcashoals.org
X-WR-CALDESC:Events for YMCA of the Shoals
REFRESH-INTERVAL;VALUE=DURATION:PT1H
X-Robots-Tag:noindex
X-PUBLISHED-TTL:PT1H
BEGIN:VTIMEZONE
TZID:America/Chicago
BEGIN:DAYLIGHT
TZOFFSETFROM:-0600
TZOFFSETTO:-0500
TZNAME:CDT
DTSTART:20190310T080000
END:DAYLIGHT
BEGIN:STANDARD
TZOFFSETFROM:-0500
TZOFFSETTO:-0600
TZNAME:CST
DTSTART:20191103T070000
END:STANDARD
BEGIN:DAYLIGHT
TZOFFSETFROM:-0600
TZOFFSETTO:-0500
TZNAME:CDT
DTSTART:20200308T080000
END:DAYLIGHT
BEGIN:STANDARD
TZOFFSETFROM:-0500
TZOFFSETTO:-0600
TZNAME:CST
DTSTART:20201101T070000
END:STANDARD
BEGIN:DAYLIGHT
TZOFFSETFROM:-0600
TZOFFSETTO:-0500
TZNAME:CDT
DTSTART:20210314T080000
END:DAYLIGHT
BEGIN:STANDARD
TZOFFSETFROM:-0500
TZOFFSETTO:-0600
TZNAME:CST
DTSTART:20211107T070000
END:STANDARD
END:VTIMEZONE
BEGIN:VEVENT
DTSTART;TZID=America/Chicago:20200701T103000
DTEND;TZID=America/Chicago:20200701T113000
DTSTAMP:20260425T082032
CREATED:20200626T164745Z
LAST-MODIFIED:20200826T185110Z
UID:104692-1593599400-1593603000@www.ymcashoals.org
SUMMARY:Beg/Inter Yoga (Shanan)
DESCRIPTION:Classes meet at 610 Fairground Rd. location.
URL:https://www.ymcashoals.org/event/beg-inter-yoga-shanan/2020-07-01/
LOCATION:YMCA of the Shoals\, 2121 Helton Drive\, Florence\, AL\, 35630\, United States
CATEGORIES:Schedules
GEO:34.8324379;-87.6683435
X-APPLE-STRUCTURED-LOCATION;VALUE=URI;X-ADDRESS=YMCA of the Shoals 2121 Helton Drive Florence AL 35630 United States;X-APPLE-RADIUS=500;X-TITLE=2121 Helton Drive:geo:-87.6683435,34.8324379
END:VEVENT
BEGIN:VEVENT
DTSTART;TZID=America/Chicago:20200606T100000
DTEND;TZID=America/Chicago:20200606T110000
DTSTAMP:20260425T082032
CREATED:20200527T200959Z
LAST-MODIFIED:20200626T173700Z
UID:102619-1591437600-1591441200@www.ymcashoals.org
SUMMARY:Muscle Works (Melissa G.)
DESCRIPTION:
URL:https://www.ymcashoals.org/event/muscle-works-melissa-g/2020-06-06/
LOCATION:YMCA of the Shoals\, 2121 Helton Drive\, Florence\, AL\, 35630\, United States
CATEGORIES:Group Exercise (GXR),Schedules
GEO:34.8324379;-87.6683435
X-APPLE-STRUCTURED-LOCATION;VALUE=URI;X-ADDRESS=YMCA of the Shoals 2121 Helton Drive Florence AL 35630 United States;X-APPLE-RADIUS=500;X-TITLE=2121 Helton Drive:geo:-87.6683435,34.8324379
END:VEVENT
BEGIN:VEVENT
DTSTART;TZID=America/Chicago:20200606T080000
DTEND;TZID=America/Chicago:20200606T170000
DTSTAMP:20260425T082032
CREATED:20200527T212755Z
LAST-MODIFIED:20200626T162715Z
UID:102997-1591430400-1591462800@www.ymcashoals.org
SUMMARY:Yoga (Shanan/Jan)
DESCRIPTION:
URL:https://www.ymcashoals.org/event/yoga-shanan-jan/2020-06-06/
LOCATION:YMCA of the Shoals\, 2121 Helton Drive\, Florence\, AL\, 35630\, United States
CATEGORIES:Schedules
GEO:34.8324379;-87.6683435
X-APPLE-STRUCTURED-LOCATION;VALUE=URI;X-ADDRESS=YMCA of the Shoals 2121 Helton Drive Florence AL 35630 United States;X-APPLE-RADIUS=500;X-TITLE=2121 Helton Drive:geo:-87.6683435,34.8324379
END:VEVENT
BEGIN:VEVENT
DTSTART;TZID=America/Chicago:20200605T120000
DTEND;TZID=America/Chicago:20200605T124500
DTSTAMP:20260425T082032
CREATED:20200527T201701Z
LAST-MODIFIED:20200527T201701Z
UID:102661-1591358400-1591361100@www.ymcashoals.org
SUMMARY:RPM (Melissa P.)
DESCRIPTION:
URL:https://www.ymcashoals.org/event/rpm-melissa-p/2020-06-05/
LOCATION:YMCA of the Shoals\, 2121 Helton Drive\, Florence\, AL\, 35630\, United States
CATEGORIES:Group Exercise (GXR),Schedules
GEO:34.8324379;-87.6683435
X-APPLE-STRUCTURED-LOCATION;VALUE=URI;X-ADDRESS=YMCA of the Shoals 2121 Helton Drive Florence AL 35630 United States;X-APPLE-RADIUS=500;X-TITLE=2121 Helton Drive:geo:-87.6683435,34.8324379
END:VEVENT
BEGIN:VEVENT
DTSTART;TZID=America/Chicago:20200605T081500
DTEND;TZID=America/Chicago:20200605T090000
DTSTAMP:20260425T082032
CREATED:20200527T200545Z
LAST-MODIFIED:20200626T175203Z
UID:102565-1591344900-1591347600@www.ymcashoals.org
SUMMARY:Y Dance (Katie C.)
DESCRIPTION:
URL:https://www.ymcashoals.org/event/y-dance-katie-c/2020-06-05/
LOCATION:YMCA of the Shoals\, 2121 Helton Drive\, Florence\, AL\, 35630\, United States
CATEGORIES:Group Exercise (GXR),Schedules
GEO:34.8324379;-87.6683435
X-APPLE-STRUCTURED-LOCATION;VALUE=URI;X-ADDRESS=YMCA of the Shoals 2121 Helton Drive Florence AL 35630 United States;X-APPLE-RADIUS=500;X-TITLE=2121 Helton Drive:geo:-87.6683435,34.8324379
END:VEVENT
BEGIN:VEVENT
DTSTART;TZID=America/Chicago:20200605T063000
DTEND;TZID=America/Chicago:20200605T071500
DTSTAMP:20260425T082032
CREATED:20200527T200433Z
LAST-MODIFIED:20200826T194935Z
UID:102551-1591338600-1591341300@www.ymcashoals.org
SUMMARY:RPM (Katie T.)
DESCRIPTION:
URL:https://www.ymcashoals.org/event/rpm-katie-t/2020-06-05/
LOCATION:YMCA of the Shoals\, 2121 Helton Drive\, Florence\, AL\, 35630\, United States
CATEGORIES:Group Exercise (GXR),Schedules
GEO:34.8324379;-87.6683435
X-APPLE-STRUCTURED-LOCATION;VALUE=URI;X-ADDRESS=YMCA of the Shoals 2121 Helton Drive Florence AL 35630 United States;X-APPLE-RADIUS=500;X-TITLE=2121 Helton Drive:geo:-87.6683435,34.8324379
END:VEVENT
BEGIN:VEVENT
DTSTART;TZID=America/Chicago:20200604T173000
DTEND;TZID=America/Chicago:20200604T181500
DTSTAMP:20260425T082032
CREATED:20200527T202254Z
LAST-MODIFIED:20200626T175052Z
UID:102719-1591291800-1591294500@www.ymcashoals.org
SUMMARY:Y Dance (Casey)
DESCRIPTION:
URL:https://www.ymcashoals.org/event/zumba-casey/2020-06-04/
LOCATION:YMCA of the Shoals\, 2121 Helton Drive\, Florence\, AL\, 35630\, United States
CATEGORIES:Group Exercise (GXR),Schedules
GEO:34.8324379;-87.6683435
X-APPLE-STRUCTURED-LOCATION;VALUE=URI;X-ADDRESS=YMCA of the Shoals 2121 Helton Drive Florence AL 35630 United States;X-APPLE-RADIUS=500;X-TITLE=2121 Helton Drive:geo:-87.6683435,34.8324379
END:VEVENT
BEGIN:VEVENT
DTSTART;TZID=America/Chicago:20200604T103000
DTEND;TZID=America/Chicago:20200604T111500
DTSTAMP:20260425T082032
CREATED:20200527T213157Z
LAST-MODIFIED:20200626T162455Z
UID:103051-1591266600-1591269300@www.ymcashoals.org
SUMMARY:Yoga (Jan)
DESCRIPTION:
URL:https://www.ymcashoals.org/event/yoga-jan/2020-06-04/
LOCATION:YMCA of the Shoals\, 2121 Helton Drive\, Florence\, AL\, 35630\, United States
CATEGORIES:Schedules
GEO:34.8324379;-87.6683435
X-APPLE-STRUCTURED-LOCATION;VALUE=URI;X-ADDRESS=YMCA of the Shoals 2121 Helton Drive Florence AL 35630 United States;X-APPLE-RADIUS=500;X-TITLE=2121 Helton Drive:geo:-87.6683435,34.8324379
END:VEVENT
BEGIN:VEVENT
DTSTART;TZID=America/Chicago:20200602T173000
DTEND;TZID=America/Chicago:20200602T181500
DTSTAMP:20260425T082032
CREATED:20200529T141441Z
LAST-MODIFIED:20200826T192903Z
UID:103213-1591119000-1591121700@www.ymcashoals.org
SUMMARY:Cardio Pump (Yvette)
DESCRIPTION:
URL:https://www.ymcashoals.org/event/cardio-pump-yvette-2/2020-06-02/
LOCATION:YMCA of the Shoals\, 2121 Helton Drive\, Florence\, AL\, 35630\, United States
CATEGORIES:Group Exercise (GXR),Schedules
GEO:34.8324379;-87.6683435
X-APPLE-STRUCTURED-LOCATION;VALUE=URI;X-ADDRESS=YMCA of the Shoals 2121 Helton Drive Florence AL 35630 United States;X-APPLE-RADIUS=500;X-TITLE=2121 Helton Drive:geo:-87.6683435,34.8324379
END:VEVENT
BEGIN:VEVENT
DTSTART;TZID=America/Chicago:20200602T170000
DTEND;TZID=America/Chicago:20200602T180000
DTSTAMP:20260425T082032
CREATED:20200527T203513Z
LAST-MODIFIED:20200527T203513Z
UID:102887-1591117200-1591120800@www.ymcashoals.org
SUMMARY:Cardio Pump (Yvette)
DESCRIPTION:
URL:https://www.ymcashoals.org/event/cardio-pump-yvette/2020-06-02/
LOCATION:YMCA of the Shoals\, 2121 Helton Drive\, Florence\, AL\, 35630\, United States
CATEGORIES:Group Exercise (GXR),Schedules
GEO:34.8324379;-87.6683435
X-APPLE-STRUCTURED-LOCATION;VALUE=URI;X-ADDRESS=YMCA of the Shoals 2121 Helton Drive Florence AL 35630 United States;X-APPLE-RADIUS=500;X-TITLE=2121 Helton Drive:geo:-87.6683435,34.8324379
END:VEVENT
BEGIN:VEVENT
DTSTART;TZID=America/Chicago:20200602T103000
DTEND;TZID=America/Chicago:20200602T111500
DTSTAMP:20260425T082032
CREATED:20200527T212955Z
LAST-MODIFIED:20200626T162134Z
UID:103011-1591093800-1591096500@www.ymcashoals.org
SUMMARY:Yoga (Shanan)
DESCRIPTION:
URL:https://www.ymcashoals.org/event/yoga-shanan/2020-06-02/
LOCATION:YMCA of the Shoals\, 2121 Helton Drive\, Florence\, AL\, 35630\, United States
CATEGORIES:Schedules
GEO:34.8324379;-87.6683435
X-APPLE-STRUCTURED-LOCATION;VALUE=URI;X-ADDRESS=YMCA of the Shoals 2121 Helton Drive Florence AL 35630 United States;X-APPLE-RADIUS=500;X-TITLE=2121 Helton Drive:geo:-87.6683435,34.8324379
END:VEVENT
BEGIN:VEVENT
DTSTART;TZID=America/Chicago:20200602T093000
DTEND;TZID=America/Chicago:20200602T103000
DTSTAMP:20260425T082032
CREATED:20200527T203153Z
LAST-MODIFIED:20200826T193625Z
UID:102846-1591090200-1591093800@www.ymcashoals.org
SUMMARY:PiYo (Leslie)
DESCRIPTION:
URL:https://www.ymcashoals.org/event/piyo-leslie/2020-06-02/
LOCATION:YMCA of the Shoals\, 2121 Helton Drive\, Florence\, AL\, 35630\, United States
CATEGORIES:Group Exercise (GXR),Schedules
GEO:34.8324379;-87.6683435
X-APPLE-STRUCTURED-LOCATION;VALUE=URI;X-ADDRESS=YMCA of the Shoals 2121 Helton Drive Florence AL 35630 United States;X-APPLE-RADIUS=500;X-TITLE=2121 Helton Drive:geo:-87.6683435,34.8324379
END:VEVENT
BEGIN:VEVENT
DTSTART;TZID=America/Chicago:20200602T081500
DTEND;TZID=America/Chicago:20200602T090000
DTSTAMP:20260425T082032
CREATED:20200527T200100Z
LAST-MODIFIED:20211026T194352Z
UID:102523-1591085700-1591088400@www.ymcashoals.org
SUMMARY:RPM (Amy)
DESCRIPTION:
URL:https://www.ymcashoals.org/event/rpm-amy/2020-06-02/
LOCATION:YMCA of the Shoals\, 2121 Helton Drive\, Florence\, AL\, 35630\, United States
CATEGORIES:Cycle Fusion (GXR2),Schedules
GEO:34.8324379;-87.6683435
X-APPLE-STRUCTURED-LOCATION;VALUE=URI;X-ADDRESS=YMCA of the Shoals 2121 Helton Drive Florence AL 35630 United States;X-APPLE-RADIUS=500;X-TITLE=2121 Helton Drive:geo:-87.6683435,34.8324379
END:VEVENT
END:VCALENDAR