BEGIN:VCALENDAR
VERSION:2.0
PRODID:-//YMCA of the Shoals - ECPv6.15.20//NONSGML v1.0//EN
CALSCALE:GREGORIAN
METHOD:PUBLISH
X-WR-CALNAME:YMCA of the Shoals
X-ORIGINAL-URL:https://www.ymcashoals.org
X-WR-CALDESC:Events for YMCA of the Shoals
REFRESH-INTERVAL;VALUE=DURATION:PT1H
X-Robots-Tag:noindex
X-PUBLISHED-TTL:PT1H
BEGIN:VTIMEZONE
TZID:America/Chicago
BEGIN:DAYLIGHT
TZOFFSETFROM:-0600
TZOFFSETTO:-0500
TZNAME:CDT
DTSTART:20250309T080000
END:DAYLIGHT
BEGIN:STANDARD
TZOFFSETFROM:-0500
TZOFFSETTO:-0600
TZNAME:CST
DTSTART:20251102T070000
END:STANDARD
BEGIN:DAYLIGHT
TZOFFSETFROM:-0600
TZOFFSETTO:-0500
TZNAME:CDT
DTSTART:20260308T080000
END:DAYLIGHT
BEGIN:STANDARD
TZOFFSETFROM:-0500
TZOFFSETTO:-0600
TZNAME:CST
DTSTART:20261101T070000
END:STANDARD
BEGIN:DAYLIGHT
TZOFFSETFROM:-0600
TZOFFSETTO:-0500
TZNAME:CDT
DTSTART:20270314T080000
END:DAYLIGHT
BEGIN:STANDARD
TZOFFSETFROM:-0500
TZOFFSETTO:-0600
TZNAME:CST
DTSTART:20271107T070000
END:STANDARD
END:VTIMEZONE
BEGIN:VEVENT
DTSTART;TZID=America/Chicago:20261021T173000
DTEND;TZID=America/Chicago:20261021T183000
DTSTAMP:20260425T052446
CREATED:20230126T152948Z
LAST-MODIFIED:20260121T171035Z
UID:187601-1792603800-1792607400@www.ymcashoals.org
SUMMARY:Y Yoga (Rachel)
DESCRIPTION:
URL:https://www.ymcashoals.org/event/y-yoga-kayla-2/2026-10-21/
LOCATION:YMCA of the Shoals\, 2121 Helton Drive\, Florence\, AL\, 35630\, United States
CATEGORIES:Spirit/Mind/Body (GXR3)
GEO:34.8324379;-87.6683435
X-APPLE-STRUCTURED-LOCATION;VALUE=URI;X-ADDRESS=YMCA of the Shoals 2121 Helton Drive Florence AL 35630 United States;X-APPLE-RADIUS=500;X-TITLE=2121 Helton Drive:geo:-87.6683435,34.8324379
END:VEVENT
BEGIN:VEVENT
DTSTART;TZID=America/Chicago:20261022T080000
DTEND;TZID=America/Chicago:20261022T085000
DTSTAMP:20260425T052446
CREATED:20230227T143730Z
LAST-MODIFIED:20230227T143730Z
UID:199423-1792656000-1792659000@www.ymcashoals.org
SUMMARY:Step & Strength (Angela V.)
DESCRIPTION:
URL:https://www.ymcashoals.org/event/fusion-fit-angela-v/2026-10-22/
LOCATION:YMCA of the Shoals\, 2121 Helton Drive\, Florence\, AL\, 35630\, United States
CATEGORIES:Schedules,Spirit/Mind/Body (GXR3)
GEO:34.8324379;-87.6683435
X-APPLE-STRUCTURED-LOCATION;VALUE=URI;X-ADDRESS=YMCA of the Shoals 2121 Helton Drive Florence AL 35630 United States;X-APPLE-RADIUS=500;X-TITLE=2121 Helton Drive:geo:-87.6683435,34.8324379
END:VEVENT
BEGIN:VEVENT
DTSTART;TZID=America/Chicago:20261022T080000
DTEND;TZID=America/Chicago:20261022T085000
DTSTAMP:20260425T052446
CREATED:20230227T143730Z
LAST-MODIFIED:20230227T143730Z
UID:200080-1792656000-1792659000@www.ymcashoals.org
SUMMARY:Step & Strength (Angela V.)
DESCRIPTION:
URL:https://www.ymcashoals.org/event/fusion-fit-angela-v/2026-10-22/
LOCATION:YMCA of the Shoals\, 2121 Helton Drive\, Florence\, AL\, 35630\, United States
CATEGORIES:Schedules,Spirit/Mind/Body (GXR3)
GEO:34.8324379;-87.6683435
X-APPLE-STRUCTURED-LOCATION;VALUE=URI;X-ADDRESS=YMCA of the Shoals 2121 Helton Drive Florence AL 35630 United States;X-APPLE-RADIUS=500;X-TITLE=2121 Helton Drive:geo:-87.6683435,34.8324379
END:VEVENT
BEGIN:VEVENT
DTSTART;TZID=America/Chicago:20261022T101500
DTEND;TZID=America/Chicago:20261022T110000
DTSTAMP:20260425T052446
CREATED:20241029T201628Z
LAST-MODIFIED:20241029T201628Z
UID:197522-1792664100-1792666800@www.ymcashoals.org
SUMMARY:Yoga In Chairs (Sheila)
DESCRIPTION:
URL:https://www.ymcashoals.org/event/yoga-in-chairs-sheila/2026-10-22/
LOCATION:YMCA of the Shoals\, 2121 Helton Drive\, Florence\, AL\, 35630\, United States
CATEGORIES:Schedules,Spirit/Mind/Body (GXR3)
GEO:34.8324379;-87.6683435
X-APPLE-STRUCTURED-LOCATION;VALUE=URI;X-ADDRESS=YMCA of the Shoals 2121 Helton Drive Florence AL 35630 United States;X-APPLE-RADIUS=500;X-TITLE=2121 Helton Drive:geo:-87.6683435,34.8324379
END:VEVENT
BEGIN:VEVENT
DTSTART;TZID=America/Chicago:20261023T101500
DTEND;TZID=America/Chicago:20261023T110000
DTSTAMP:20260425T052446
CREATED:20241029T201628Z
LAST-MODIFIED:20260116T185746Z
UID:192079-1792750500-1792753200@www.ymcashoals.org
SUMMARY:Yoga In Chairs (Sheila)
DESCRIPTION:
URL:https://www.ymcashoals.org/event/yoga-in-chairs-sheila/2026-10-23/
LOCATION:YMCA of the Shoals\, 2121 Helton Drive\, Florence\, AL\, 35630\, United States
CATEGORIES:Schedules,Spirit/Mind/Body (GXR3)
GEO:34.8324379;-87.6683435
X-APPLE-STRUCTURED-LOCATION;VALUE=URI;X-ADDRESS=YMCA of the Shoals 2121 Helton Drive Florence AL 35630 United States;X-APPLE-RADIUS=500;X-TITLE=2121 Helton Drive:geo:-87.6683435,34.8324379
END:VEVENT
BEGIN:VEVENT
DTSTART;TZID=America/Chicago:20261023T112000
DTEND;TZID=America/Chicago:20261023T120500
DTSTAMP:20260425T052446
CREATED:20260116T190349Z
LAST-MODIFIED:20260116T190349Z
UID:197737-1792754400-1792757100@www.ymcashoals.org
SUMMARY:Strength In Chairs (Shelia)
DESCRIPTION:
URL:https://www.ymcashoals.org/event/strength-in-chairs-shelia/2026-10-23/
LOCATION:YMCA of the Shoals\, 2121 Helton Drive\, Florence\, AL\, 35630\, United States
CATEGORIES:Schedules,Spirit/Mind/Body (GXR3)
GEO:34.8324379;-87.6683435
X-APPLE-STRUCTURED-LOCATION;VALUE=URI;X-ADDRESS=YMCA of the Shoals 2121 Helton Drive Florence AL 35630 United States;X-APPLE-RADIUS=500;X-TITLE=2121 Helton Drive:geo:-87.6683435,34.8324379
END:VEVENT
BEGIN:VEVENT
DTSTART;TZID=America/Chicago:20261024T083000
DTEND;TZID=America/Chicago:20261024T093000
DTSTAMP:20260425T052446
CREATED:20260202T142159Z
LAST-MODIFIED:20260202T142159Z
UID:198799-1792830600-1792834200@www.ymcashoals.org
SUMMARY:Breathe & Bend (Megan)
DESCRIPTION:
URL:https://www.ymcashoals.org/event/breathe-bend-megan/2026-10-24/
LOCATION:YMCA of the Shoals\, 2121 Helton Drive\, Florence\, AL\, 35630\, United States
CATEGORIES:Schedules,Spirit/Mind/Body (GXR3)
GEO:34.8324379;-87.6683435
X-APPLE-STRUCTURED-LOCATION;VALUE=URI;X-ADDRESS=YMCA of the Shoals 2121 Helton Drive Florence AL 35630 United States;X-APPLE-RADIUS=500;X-TITLE=2121 Helton Drive:geo:-87.6683435,34.8324379
END:VEVENT
BEGIN:VEVENT
DTSTART;TZID=America/Chicago:20261026T081500
DTEND;TZID=America/Chicago:20261026T090000
DTSTAMP:20260425T052446
CREATED:20250627T193706Z
LAST-MODIFIED:20250627T193706Z
UID:187933-1793002500-1793005200@www.ymcashoals.org
SUMMARY:Breathe & Bend (Jennifer)
DESCRIPTION:
URL:https://www.ymcashoals.org/event/breathe-bend-jennifer/2026-10-26/
LOCATION:YMCA of the Shoals\, 2121 Helton Drive\, Florence\, AL\, 35630\, United States
CATEGORIES:Schedules,Spirit/Mind/Body (GXR3)
GEO:34.8324379;-87.6683435
X-APPLE-STRUCTURED-LOCATION;VALUE=URI;X-ADDRESS=YMCA of the Shoals 2121 Helton Drive Florence AL 35630 United States;X-APPLE-RADIUS=500;X-TITLE=2121 Helton Drive:geo:-87.6683435,34.8324379
END:VEVENT
BEGIN:VEVENT
DTSTART;TZID=America/Chicago:20261026T091000
DTEND;TZID=America/Chicago:20261026T100000
DTSTAMP:20260425T052446
CREATED:20250224T204815Z
LAST-MODIFIED:20250224T204815Z
UID:191791-1793005800-1793008800@www.ymcashoals.org
SUMMARY:Y Gold (Lana)
DESCRIPTION:
URL:https://www.ymcashoals.org/event/y-gold-marilyn-2/2026-10-26/
LOCATION:YMCA of the Shoals\, 2121 Helton Drive\, Florence\, AL\, 35630\, United States
CATEGORIES:Schedules,Spirit/Mind/Body (GXR3)
GEO:34.8324379;-87.6683435
X-APPLE-STRUCTURED-LOCATION;VALUE=URI;X-ADDRESS=YMCA of the Shoals 2121 Helton Drive Florence AL 35630 United States;X-APPLE-RADIUS=500;X-TITLE=2121 Helton Drive:geo:-87.6683435,34.8324379
END:VEVENT
BEGIN:VEVENT
DTSTART;TZID=America/Chicago:20261026T101000
DTEND;TZID=America/Chicago:20261026T110000
DTSTAMP:20260425T052446
CREATED:20250224T204900Z
LAST-MODIFIED:20250224T204900Z
UID:191853-1793009400-1793012400@www.ymcashoals.org
SUMMARY:Pilates (Julie)
DESCRIPTION:
URL:https://www.ymcashoals.org/event/pilates-julie/2026-10-26/
LOCATION:YMCA of the Shoals\, 2121 Helton Drive\, Florence\, AL\, 35630\, United States
CATEGORIES:Schedules,Spirit/Mind/Body (GXR3)
GEO:34.8324379;-87.6683435
X-APPLE-STRUCTURED-LOCATION;VALUE=URI;X-ADDRESS=YMCA of the Shoals 2121 Helton Drive Florence AL 35630 United States;X-APPLE-RADIUS=500;X-TITLE=2121 Helton Drive:geo:-87.6683435,34.8324379
END:VEVENT
BEGIN:VEVENT
DTSTART;TZID=America/Chicago:20261026T112000
DTEND;TZID=America/Chicago:20261026T120500
DTSTAMP:20260425T052446
CREATED:20221128T211550Z
LAST-MODIFIED:20221128T211550Z
UID:187928-1793013600-1793016300@www.ymcashoals.org
SUMMARY:Strength In Chairs (Melissa)
DESCRIPTION:
URL:https://www.ymcashoals.org/event/strength-in-chairs-melissa-g/2026-10-26/
LOCATION:YMCA of the Shoals\, 2121 Helton Drive\, Florence\, AL\, 35630\, United States
CATEGORIES:Schedules,Spirit/Mind/Body (GXR3)
GEO:34.8324379;-87.6683435
X-APPLE-STRUCTURED-LOCATION;VALUE=URI;X-ADDRESS=YMCA of the Shoals 2121 Helton Drive Florence AL 35630 United States;X-APPLE-RADIUS=500;X-TITLE=2121 Helton Drive:geo:-87.6683435,34.8324379
END:VEVENT
BEGIN:VEVENT
DTSTART;TZID=America/Chicago:20261027T080000
DTEND;TZID=America/Chicago:20261027T085000
DTSTAMP:20260425T052446
CREATED:20230227T143730Z
LAST-MODIFIED:20230227T143730Z
UID:199424-1793088000-1793091000@www.ymcashoals.org
SUMMARY:Step & Strength (Angela V.)
DESCRIPTION:
URL:https://www.ymcashoals.org/event/fusion-fit-angela-v/2026-10-27/
LOCATION:YMCA of the Shoals\, 2121 Helton Drive\, Florence\, AL\, 35630\, United States
CATEGORIES:Schedules,Spirit/Mind/Body (GXR3)
GEO:34.8324379;-87.6683435
X-APPLE-STRUCTURED-LOCATION;VALUE=URI;X-ADDRESS=YMCA of the Shoals 2121 Helton Drive Florence AL 35630 United States;X-APPLE-RADIUS=500;X-TITLE=2121 Helton Drive:geo:-87.6683435,34.8324379
END:VEVENT
BEGIN:VEVENT
DTSTART;TZID=America/Chicago:20261027T080000
DTEND;TZID=America/Chicago:20261027T085000
DTSTAMP:20260425T052446
CREATED:20230227T143730Z
LAST-MODIFIED:20230227T143730Z
UID:200081-1793088000-1793091000@www.ymcashoals.org
SUMMARY:Step & Strength (Angela V.)
DESCRIPTION:
URL:https://www.ymcashoals.org/event/fusion-fit-angela-v/2026-10-27/
LOCATION:YMCA of the Shoals\, 2121 Helton Drive\, Florence\, AL\, 35630\, United States
CATEGORIES:Schedules,Spirit/Mind/Body (GXR3)
GEO:34.8324379;-87.6683435
X-APPLE-STRUCTURED-LOCATION;VALUE=URI;X-ADDRESS=YMCA of the Shoals 2121 Helton Drive Florence AL 35630 United States;X-APPLE-RADIUS=500;X-TITLE=2121 Helton Drive:geo:-87.6683435,34.8324379
END:VEVENT
BEGIN:VEVENT
DTSTART;TZID=America/Chicago:20261027T101500
DTEND;TZID=America/Chicago:20261027T110000
DTSTAMP:20260425T052446
CREATED:20211227T172519Z
LAST-MODIFIED:20211227T172519Z
UID:187952-1793096100-1793098800@www.ymcashoals.org
SUMMARY:Yoga in Chairs (Ryan L.)
DESCRIPTION:
URL:https://www.ymcashoals.org/event/yoga-in-chairs-ryan-l-3/2026-10-27/
LOCATION:YMCA of the Shoals\, 2121 Helton Drive\, Florence\, AL\, 35630\, United States
CATEGORIES:Schedules,Spirit/Mind/Body (GXR3)
GEO:34.8324379;-87.6683435
X-APPLE-STRUCTURED-LOCATION;VALUE=URI;X-ADDRESS=YMCA of the Shoals 2121 Helton Drive Florence AL 35630 United States;X-APPLE-RADIUS=500;X-TITLE=2121 Helton Drive:geo:-87.6683435,34.8324379
END:VEVENT
BEGIN:VEVENT
DTSTART;TZID=America/Chicago:20261027T173000
DTEND;TZID=America/Chicago:20261027T183000
DTSTAMP:20260425T052446
CREATED:20260123T134730Z
LAST-MODIFIED:20260123T134805Z
UID:198343-1793122200-1793125800@www.ymcashoals.org
SUMMARY:Barre (Racheal)
DESCRIPTION:
URL:https://www.ymcashoals.org/event/198304/2026-10-27/
LOCATION:YMCA of the Shoals\, 2121 Helton Drive\, Florence\, AL\, 35630\, United States
CATEGORIES:Schedules,Spirit/Mind/Body (GXR3)
GEO:34.8324379;-87.6683435
X-APPLE-STRUCTURED-LOCATION;VALUE=URI;X-ADDRESS=YMCA of the Shoals 2121 Helton Drive Florence AL 35630 United States;X-APPLE-RADIUS=500;X-TITLE=2121 Helton Drive:geo:-87.6683435,34.8324379
END:VEVENT
BEGIN:VEVENT
DTSTART;TZID=America/Chicago:20261028T091000
DTEND;TZID=America/Chicago:20261028T100000
DTSTAMP:20260425T052446
CREATED:20250224T204815Z
LAST-MODIFIED:20250224T204815Z
UID:191792-1793178600-1793181600@www.ymcashoals.org
SUMMARY:Y Gold (Lana)
DESCRIPTION:
URL:https://www.ymcashoals.org/event/y-gold-marilyn-2/2026-10-28/
LOCATION:YMCA of the Shoals\, 2121 Helton Drive\, Florence\, AL\, 35630\, United States
CATEGORIES:Schedules,Spirit/Mind/Body (GXR3)
GEO:34.8324379;-87.6683435
X-APPLE-STRUCTURED-LOCATION;VALUE=URI;X-ADDRESS=YMCA of the Shoals 2121 Helton Drive Florence AL 35630 United States;X-APPLE-RADIUS=500;X-TITLE=2121 Helton Drive:geo:-87.6683435,34.8324379
END:VEVENT
BEGIN:VEVENT
DTSTART;TZID=America/Chicago:20261028T112000
DTEND;TZID=America/Chicago:20261028T120500
DTSTAMP:20260425T052446
CREATED:20221128T211550Z
LAST-MODIFIED:20221128T211550Z
UID:187960-1793186400-1793189100@www.ymcashoals.org
SUMMARY:Strength In Chairs (Melissa)
DESCRIPTION:
URL:https://www.ymcashoals.org/event/strength-in-chairs-melissa-g/2026-10-28/
LOCATION:YMCA of the Shoals\, 2121 Helton Drive\, Florence\, AL\, 35630\, United States
CATEGORIES:Schedules,Spirit/Mind/Body (GXR3)
GEO:34.8324379;-87.6683435
X-APPLE-STRUCTURED-LOCATION;VALUE=URI;X-ADDRESS=YMCA of the Shoals 2121 Helton Drive Florence AL 35630 United States;X-APPLE-RADIUS=500;X-TITLE=2121 Helton Drive:geo:-87.6683435,34.8324379
END:VEVENT
BEGIN:VEVENT
DTSTART;TZID=America/Chicago:20261028T173000
DTEND;TZID=America/Chicago:20261028T183000
DTSTAMP:20260425T052446
CREATED:20230126T152948Z
LAST-MODIFIED:20260121T171035Z
UID:187961-1793208600-1793212200@www.ymcashoals.org
SUMMARY:Y Yoga (Rachel)
DESCRIPTION:
URL:https://www.ymcashoals.org/event/y-yoga-kayla-2/2026-10-28/
LOCATION:YMCA of the Shoals\, 2121 Helton Drive\, Florence\, AL\, 35630\, United States
CATEGORIES:Spirit/Mind/Body (GXR3)
GEO:34.8324379;-87.6683435
X-APPLE-STRUCTURED-LOCATION;VALUE=URI;X-ADDRESS=YMCA of the Shoals 2121 Helton Drive Florence AL 35630 United States;X-APPLE-RADIUS=500;X-TITLE=2121 Helton Drive:geo:-87.6683435,34.8324379
END:VEVENT
BEGIN:VEVENT
DTSTART;TZID=America/Chicago:20261029T080000
DTEND;TZID=America/Chicago:20261029T085000
DTSTAMP:20260425T052446
CREATED:20230227T143730Z
LAST-MODIFIED:20230227T143730Z
UID:199425-1793260800-1793263800@www.ymcashoals.org
SUMMARY:Step & Strength (Angela V.)
DESCRIPTION:
URL:https://www.ymcashoals.org/event/fusion-fit-angela-v/2026-10-29/
LOCATION:YMCA of the Shoals\, 2121 Helton Drive\, Florence\, AL\, 35630\, United States
CATEGORIES:Schedules,Spirit/Mind/Body (GXR3)
GEO:34.8324379;-87.6683435
X-APPLE-STRUCTURED-LOCATION;VALUE=URI;X-ADDRESS=YMCA of the Shoals 2121 Helton Drive Florence AL 35630 United States;X-APPLE-RADIUS=500;X-TITLE=2121 Helton Drive:geo:-87.6683435,34.8324379
END:VEVENT
BEGIN:VEVENT
DTSTART;TZID=America/Chicago:20261029T080000
DTEND;TZID=America/Chicago:20261029T085000
DTSTAMP:20260425T052446
CREATED:20230227T143730Z
LAST-MODIFIED:20230227T143730Z
UID:200082-1793260800-1793263800@www.ymcashoals.org
SUMMARY:Step & Strength (Angela V.)
DESCRIPTION:
URL:https://www.ymcashoals.org/event/fusion-fit-angela-v/2026-10-29/
LOCATION:YMCA of the Shoals\, 2121 Helton Drive\, Florence\, AL\, 35630\, United States
CATEGORIES:Schedules,Spirit/Mind/Body (GXR3)
GEO:34.8324379;-87.6683435
X-APPLE-STRUCTURED-LOCATION;VALUE=URI;X-ADDRESS=YMCA of the Shoals 2121 Helton Drive Florence AL 35630 United States;X-APPLE-RADIUS=500;X-TITLE=2121 Helton Drive:geo:-87.6683435,34.8324379
END:VEVENT
BEGIN:VEVENT
DTSTART;TZID=America/Chicago:20261029T101500
DTEND;TZID=America/Chicago:20261029T110000
DTSTAMP:20260425T052446
CREATED:20241029T201628Z
LAST-MODIFIED:20241029T201628Z
UID:197523-1793268900-1793271600@www.ymcashoals.org
SUMMARY:Yoga In Chairs (Sheila)
DESCRIPTION:
URL:https://www.ymcashoals.org/event/yoga-in-chairs-sheila/2026-10-29/
LOCATION:YMCA of the Shoals\, 2121 Helton Drive\, Florence\, AL\, 35630\, United States
CATEGORIES:Schedules,Spirit/Mind/Body (GXR3)
GEO:34.8324379;-87.6683435
X-APPLE-STRUCTURED-LOCATION;VALUE=URI;X-ADDRESS=YMCA of the Shoals 2121 Helton Drive Florence AL 35630 United States;X-APPLE-RADIUS=500;X-TITLE=2121 Helton Drive:geo:-87.6683435,34.8324379
END:VEVENT
BEGIN:VEVENT
DTSTART;TZID=America/Chicago:20261030T101500
DTEND;TZID=America/Chicago:20261030T110000
DTSTAMP:20260425T052446
CREATED:20241029T201628Z
LAST-MODIFIED:20260116T185746Z
UID:192080-1793355300-1793358000@www.ymcashoals.org
SUMMARY:Yoga In Chairs (Sheila)
DESCRIPTION:
URL:https://www.ymcashoals.org/event/yoga-in-chairs-sheila/2026-10-30/
LOCATION:YMCA of the Shoals\, 2121 Helton Drive\, Florence\, AL\, 35630\, United States
CATEGORIES:Schedules,Spirit/Mind/Body (GXR3)
GEO:34.8324379;-87.6683435
X-APPLE-STRUCTURED-LOCATION;VALUE=URI;X-ADDRESS=YMCA of the Shoals 2121 Helton Drive Florence AL 35630 United States;X-APPLE-RADIUS=500;X-TITLE=2121 Helton Drive:geo:-87.6683435,34.8324379
END:VEVENT
BEGIN:VEVENT
DTSTART;TZID=America/Chicago:20261030T112000
DTEND;TZID=America/Chicago:20261030T120500
DTSTAMP:20260425T052446
CREATED:20260116T190349Z
LAST-MODIFIED:20260116T190349Z
UID:197738-1793359200-1793361900@www.ymcashoals.org
SUMMARY:Strength In Chairs (Shelia)
DESCRIPTION:
URL:https://www.ymcashoals.org/event/strength-in-chairs-shelia/2026-10-30/
LOCATION:YMCA of the Shoals\, 2121 Helton Drive\, Florence\, AL\, 35630\, United States
CATEGORIES:Schedules,Spirit/Mind/Body (GXR3)
GEO:34.8324379;-87.6683435
X-APPLE-STRUCTURED-LOCATION;VALUE=URI;X-ADDRESS=YMCA of the Shoals 2121 Helton Drive Florence AL 35630 United States;X-APPLE-RADIUS=500;X-TITLE=2121 Helton Drive:geo:-87.6683435,34.8324379
END:VEVENT
BEGIN:VEVENT
DTSTART;TZID=America/Chicago:20261031T083000
DTEND;TZID=America/Chicago:20261031T093000
DTSTAMP:20260425T052446
CREATED:20260202T142159Z
LAST-MODIFIED:20260202T142159Z
UID:198800-1793435400-1793439000@www.ymcashoals.org
SUMMARY:Breathe & Bend (Megan)
DESCRIPTION:
URL:https://www.ymcashoals.org/event/breathe-bend-megan/2026-10-31/
LOCATION:YMCA of the Shoals\, 2121 Helton Drive\, Florence\, AL\, 35630\, United States
CATEGORIES:Schedules,Spirit/Mind/Body (GXR3)
GEO:34.8324379;-87.6683435
X-APPLE-STRUCTURED-LOCATION;VALUE=URI;X-ADDRESS=YMCA of the Shoals 2121 Helton Drive Florence AL 35630 United States;X-APPLE-RADIUS=500;X-TITLE=2121 Helton Drive:geo:-87.6683435,34.8324379
END:VEVENT
BEGIN:VEVENT
DTSTART;TZID=America/Chicago:20261102T081500
DTEND;TZID=America/Chicago:20261102T090000
DTSTAMP:20260425T052446
CREATED:20250627T193706Z
LAST-MODIFIED:20250627T193706Z
UID:187990-1793607300-1793610000@www.ymcashoals.org
SUMMARY:Breathe & Bend (Jennifer)
DESCRIPTION:
URL:https://www.ymcashoals.org/event/breathe-bend-jennifer/2026-11-02/
LOCATION:YMCA of the Shoals\, 2121 Helton Drive\, Florence\, AL\, 35630\, United States
CATEGORIES:Schedules,Spirit/Mind/Body (GXR3)
GEO:34.8324379;-87.6683435
X-APPLE-STRUCTURED-LOCATION;VALUE=URI;X-ADDRESS=YMCA of the Shoals 2121 Helton Drive Florence AL 35630 United States;X-APPLE-RADIUS=500;X-TITLE=2121 Helton Drive:geo:-87.6683435,34.8324379
END:VEVENT
BEGIN:VEVENT
DTSTART;TZID=America/Chicago:20261102T091000
DTEND;TZID=America/Chicago:20261102T100000
DTSTAMP:20260425T052446
CREATED:20250224T204815Z
LAST-MODIFIED:20250224T204815Z
UID:191793-1793610600-1793613600@www.ymcashoals.org
SUMMARY:Y Gold (Lana)
DESCRIPTION:
URL:https://www.ymcashoals.org/event/y-gold-marilyn-2/2026-11-02/
LOCATION:YMCA of the Shoals\, 2121 Helton Drive\, Florence\, AL\, 35630\, United States
CATEGORIES:Schedules,Spirit/Mind/Body (GXR3)
GEO:34.8324379;-87.6683435
X-APPLE-STRUCTURED-LOCATION;VALUE=URI;X-ADDRESS=YMCA of the Shoals 2121 Helton Drive Florence AL 35630 United States;X-APPLE-RADIUS=500;X-TITLE=2121 Helton Drive:geo:-87.6683435,34.8324379
END:VEVENT
BEGIN:VEVENT
DTSTART;TZID=America/Chicago:20261102T101000
DTEND;TZID=America/Chicago:20261102T110000
DTSTAMP:20260425T052446
CREATED:20250224T204900Z
LAST-MODIFIED:20250224T204900Z
UID:191854-1793614200-1793617200@www.ymcashoals.org
SUMMARY:Pilates (Julie)
DESCRIPTION:
URL:https://www.ymcashoals.org/event/pilates-julie/2026-11-02/
LOCATION:YMCA of the Shoals\, 2121 Helton Drive\, Florence\, AL\, 35630\, United States
CATEGORIES:Schedules,Spirit/Mind/Body (GXR3)
GEO:34.8324379;-87.6683435
X-APPLE-STRUCTURED-LOCATION;VALUE=URI;X-ADDRESS=YMCA of the Shoals 2121 Helton Drive Florence AL 35630 United States;X-APPLE-RADIUS=500;X-TITLE=2121 Helton Drive:geo:-87.6683435,34.8324379
END:VEVENT
BEGIN:VEVENT
DTSTART;TZID=America/Chicago:20261102T112000
DTEND;TZID=America/Chicago:20261102T120500
DTSTAMP:20260425T052446
CREATED:20221128T211550Z
LAST-MODIFIED:20221128T211550Z
UID:187985-1793618400-1793621100@www.ymcashoals.org
SUMMARY:Strength In Chairs (Melissa)
DESCRIPTION:
URL:https://www.ymcashoals.org/event/strength-in-chairs-melissa-g/2026-11-02/
LOCATION:YMCA of the Shoals\, 2121 Helton Drive\, Florence\, AL\, 35630\, United States
CATEGORIES:Schedules,Spirit/Mind/Body (GXR3)
GEO:34.8324379;-87.6683435
X-APPLE-STRUCTURED-LOCATION;VALUE=URI;X-ADDRESS=YMCA of the Shoals 2121 Helton Drive Florence AL 35630 United States;X-APPLE-RADIUS=500;X-TITLE=2121 Helton Drive:geo:-87.6683435,34.8324379
END:VEVENT
BEGIN:VEVENT
DTSTART;TZID=America/Chicago:20261103T080000
DTEND;TZID=America/Chicago:20261103T085000
DTSTAMP:20260425T052446
CREATED:20230227T143730Z
LAST-MODIFIED:20230227T143730Z
UID:199426-1793692800-1793695800@www.ymcashoals.org
SUMMARY:Step & Strength (Angela V.)
DESCRIPTION:
URL:https://www.ymcashoals.org/event/fusion-fit-angela-v/2026-11-03/
LOCATION:YMCA of the Shoals\, 2121 Helton Drive\, Florence\, AL\, 35630\, United States
CATEGORIES:Schedules,Spirit/Mind/Body (GXR3)
GEO:34.8324379;-87.6683435
X-APPLE-STRUCTURED-LOCATION;VALUE=URI;X-ADDRESS=YMCA of the Shoals 2121 Helton Drive Florence AL 35630 United States;X-APPLE-RADIUS=500;X-TITLE=2121 Helton Drive:geo:-87.6683435,34.8324379
END:VEVENT
BEGIN:VEVENT
DTSTART;TZID=America/Chicago:20261103T080000
DTEND;TZID=America/Chicago:20261103T085000
DTSTAMP:20260425T052446
CREATED:20230227T143730Z
LAST-MODIFIED:20230227T143730Z
UID:200083-1793692800-1793695800@www.ymcashoals.org
SUMMARY:Step & Strength (Angela V.)
DESCRIPTION:
URL:https://www.ymcashoals.org/event/fusion-fit-angela-v/2026-11-03/
LOCATION:YMCA of the Shoals\, 2121 Helton Drive\, Florence\, AL\, 35630\, United States
CATEGORIES:Schedules,Spirit/Mind/Body (GXR3)
GEO:34.8324379;-87.6683435
X-APPLE-STRUCTURED-LOCATION;VALUE=URI;X-ADDRESS=YMCA of the Shoals 2121 Helton Drive Florence AL 35630 United States;X-APPLE-RADIUS=500;X-TITLE=2121 Helton Drive:geo:-87.6683435,34.8324379
END:VEVENT
END:VCALENDAR