BEGIN:VCALENDAR
VERSION:2.0
PRODID:-//YMCA of the Shoals - ECPv6.15.20//NONSGML v1.0//EN
CALSCALE:GREGORIAN
METHOD:PUBLISH
X-WR-CALNAME:YMCA of the Shoals
X-ORIGINAL-URL:https://www.ymcashoals.org
X-WR-CALDESC:Events for YMCA of the Shoals
REFRESH-INTERVAL;VALUE=DURATION:PT1H
X-Robots-Tag:noindex
X-PUBLISHED-TTL:PT1H
BEGIN:VTIMEZONE
TZID:America/Chicago
BEGIN:DAYLIGHT
TZOFFSETFROM:-0600
TZOFFSETTO:-0500
TZNAME:CDT
DTSTART:20260308T080000
END:DAYLIGHT
BEGIN:STANDARD
TZOFFSETFROM:-0500
TZOFFSETTO:-0600
TZNAME:CST
DTSTART:20261101T070000
END:STANDARD
BEGIN:DAYLIGHT
TZOFFSETFROM:-0600
TZOFFSETTO:-0500
TZNAME:CDT
DTSTART:20270314T080000
END:DAYLIGHT
BEGIN:STANDARD
TZOFFSETFROM:-0500
TZOFFSETTO:-0600
TZNAME:CST
DTSTART:20271107T070000
END:STANDARD
BEGIN:DAYLIGHT
TZOFFSETFROM:-0600
TZOFFSETTO:-0500
TZNAME:CDT
DTSTART:20280312T080000
END:DAYLIGHT
BEGIN:STANDARD
TZOFFSETFROM:-0500
TZOFFSETTO:-0600
TZNAME:CST
DTSTART:20281105T070000
END:STANDARD
END:VTIMEZONE
BEGIN:VEVENT
DTSTART;TZID=America/Chicago:20270106T163000
DTEND;TZID=America/Chicago:20270106T173000
DTSTAMP:20260424T114038
CREATED:20220201T142504Z
LAST-MODIFIED:20220201T142504Z
UID:197365-1799253000-1799256600@www.ymcashoals.org
SUMMARY:Child Karate
DESCRIPTION:
URL:https://www.ymcashoals.org/event/child-karate-2/2027-01-06/
LOCATION:YMCA of the Shoals\, 2121 Helton Drive\, Florence\, AL\, 35630\, United States
CATEGORIES:Karate - Tang Soo Do,Schedules
GEO:34.8324379;-87.6683435
X-APPLE-STRUCTURED-LOCATION;VALUE=URI;X-ADDRESS=YMCA of the Shoals 2121 Helton Drive Florence AL 35630 United States;X-APPLE-RADIUS=500;X-TITLE=2121 Helton Drive:geo:-87.6683435,34.8324379
END:VEVENT
BEGIN:VEVENT
DTSTART;TZID=America/Chicago:20270106T173000
DTEND;TZID=America/Chicago:20270106T183000
DTSTAMP:20260424T114038
CREATED:20241029T202516Z
LAST-MODIFIED:20241029T202516Z
UID:192722-1799256600-1799260200@www.ymcashoals.org
SUMMARY:Cardio Hip Hop (Ladarius)
DESCRIPTION:
URL:https://www.ymcashoals.org/event/cardio-hip-hop-ladarius-4/2027-01-06/
LOCATION:YMCA of the Shoals\, 2121 Helton Drive\, Florence\, AL\, 35630\, United States
CATEGORIES:Group Exercise (GXR),Schedules
GEO:34.8324379;-87.6683435
X-APPLE-STRUCTURED-LOCATION;VALUE=URI;X-ADDRESS=YMCA of the Shoals 2121 Helton Drive Florence AL 35630 United States;X-APPLE-RADIUS=500;X-TITLE=2121 Helton Drive:geo:-87.6683435,34.8324379
END:VEVENT
BEGIN:VEVENT
DTSTART;TZID=America/Chicago:20270106T181500
DTEND;TZID=America/Chicago:20270106T193000
DTSTAMP:20260424T114038
CREATED:20220201T142626Z
LAST-MODIFIED:20220201T142626Z
UID:196684-1799259300-1799263800@www.ymcashoals.org
SUMMARY:Adult Karate
DESCRIPTION:
URL:https://www.ymcashoals.org/event/adult-karate-3/2027-01-06/
LOCATION:YMCA of the Shoals\, 2121 Helton Drive\, Florence\, AL\, 35630\, United States
CATEGORIES:Karate - Tang Soo Do,Schedules
GEO:34.8324379;-87.6683435
X-APPLE-STRUCTURED-LOCATION;VALUE=URI;X-ADDRESS=YMCA of the Shoals 2121 Helton Drive Florence AL 35630 United States;X-APPLE-RADIUS=500;X-TITLE=2121 Helton Drive:geo:-87.6683435,34.8324379
END:VEVENT
BEGIN:VEVENT
DTSTART;TZID=America/Chicago:20270106T203000
DTEND;TZID=America/Chicago:20270106T210000
DTSTAMP:20260424T114038
CREATED:20260106T210635Z
LAST-MODIFIED:20260106T210635Z
UID:193417-1799267400-1799269200@www.ymcashoals.org
SUMMARY:Open Play (Court B)
DESCRIPTION:
URL:https://www.ymcashoals.org/event/open-play-court-b-17/2027-01-06/
LOCATION:YMCA of the Shoals\, 2121 Helton Drive\, Florence\, AL\, 35630\, United States
CATEGORIES:Gym Courts A & B,Schedules
GEO:34.8324379;-87.6683435
X-APPLE-STRUCTURED-LOCATION;VALUE=URI;X-ADDRESS=YMCA of the Shoals 2121 Helton Drive Florence AL 35630 United States;X-APPLE-RADIUS=500;X-TITLE=2121 Helton Drive:geo:-87.6683435,34.8324379
END:VEVENT
BEGIN:VEVENT
DTSTART;TZID=America/Chicago:20270107T050000
DTEND;TZID=America/Chicago:20270107T100000
DTSTAMP:20260424T114038
CREATED:20260106T212627Z
LAST-MODIFIED:20260106T212627Z
UID:195075-1799298000-1799316000@www.ymcashoals.org
SUMMARY:Open Play Court A
DESCRIPTION:
URL:https://www.ymcashoals.org/event/open-play-court-a-17/2027-01-07/
LOCATION:YMCA of the Shoals\, 2121 Helton Drive\, Florence\, AL\, 35630\, United States
CATEGORIES:Gym Courts A & B,Schedules
GEO:34.8324379;-87.6683435
X-APPLE-STRUCTURED-LOCATION;VALUE=URI;X-ADDRESS=YMCA of the Shoals 2121 Helton Drive Florence AL 35630 United States;X-APPLE-RADIUS=500;X-TITLE=2121 Helton Drive:geo:-87.6683435,34.8324379
END:VEVENT
BEGIN:VEVENT
DTSTART;TZID=America/Chicago:20270107T080000
DTEND;TZID=America/Chicago:20270107T085000
DTSTAMP:20260424T114038
CREATED:20230227T143730Z
LAST-MODIFIED:20230227T143730Z
UID:200102-1799308800-1799311800@www.ymcashoals.org
SUMMARY:Step & Strength (Angela V.)
DESCRIPTION:
URL:https://www.ymcashoals.org/event/fusion-fit-angela-v/2027-01-07/
LOCATION:YMCA of the Shoals\, 2121 Helton Drive\, Florence\, AL\, 35630\, United States
CATEGORIES:Schedules,Spirit/Mind/Body (GXR3)
GEO:34.8324379;-87.6683435
X-APPLE-STRUCTURED-LOCATION;VALUE=URI;X-ADDRESS=YMCA of the Shoals 2121 Helton Drive Florence AL 35630 United States;X-APPLE-RADIUS=500;X-TITLE=2121 Helton Drive:geo:-87.6683435,34.8324379
END:VEVENT
BEGIN:VEVENT
DTSTART;TZID=America/Chicago:20270107T080000
DTEND;TZID=America/Chicago:20270107T085000
DTSTAMP:20260424T114038
CREATED:20230227T143730Z
LAST-MODIFIED:20230227T143730Z
UID:199445-1799308800-1799311800@www.ymcashoals.org
SUMMARY:Step & Strength (Angela V.)
DESCRIPTION:
URL:https://www.ymcashoals.org/event/fusion-fit-angela-v/2027-01-07/
LOCATION:YMCA of the Shoals\, 2121 Helton Drive\, Florence\, AL\, 35630\, United States
CATEGORIES:Schedules,Spirit/Mind/Body (GXR3)
GEO:34.8324379;-87.6683435
X-APPLE-STRUCTURED-LOCATION;VALUE=URI;X-ADDRESS=YMCA of the Shoals 2121 Helton Drive Florence AL 35630 United States;X-APPLE-RADIUS=500;X-TITLE=2121 Helton Drive:geo:-87.6683435,34.8324379
END:VEVENT
BEGIN:VEVENT
DTSTART;TZID=America/Chicago:20270107T081000
DTEND;TZID=America/Chicago:20270107T090000
DTSTAMP:20260424T114038
CREATED:20240424T190848Z
LAST-MODIFIED:20240424T190848Z
UID:191433-1799309400-1799312400@www.ymcashoals.org
SUMMARY:Body Pump (Christy)
DESCRIPTION:
URL:https://www.ymcashoals.org/event/body-pump-christy/2027-01-07/
LOCATION:YMCA of the Shoals\, 2121 Helton Drive\, Florence\, AL\, 35630\, United States
CATEGORIES:Group Exercise (GXR),Schedules
GEO:34.8324379;-87.6683435
X-APPLE-STRUCTURED-LOCATION;VALUE=URI;X-ADDRESS=YMCA of the Shoals 2121 Helton Drive Florence AL 35630 United States;X-APPLE-RADIUS=500;X-TITLE=2121 Helton Drive:geo:-87.6683435,34.8324379
END:VEVENT
BEGIN:VEVENT
DTSTART;TZID=America/Chicago:20270107T100000
DTEND;TZID=America/Chicago:20270107T120000
DTSTAMP:20260424T114038
CREATED:20260106T211109Z
LAST-MODIFIED:20260106T211109Z
UID:193715-1799316000-1799323200@www.ymcashoals.org
SUMMARY:Pickleball (Courts A&B)
DESCRIPTION:
URL:https://www.ymcashoals.org/event/pickleball-courts-ab/2027-01-07/
LOCATION:YMCA of the Shoals\, 2121 Helton Drive\, Florence\, AL\, 35630\, United States
CATEGORIES:Gym Courts A & B,Schedules
GEO:34.8324379;-87.6683435
X-APPLE-STRUCTURED-LOCATION;VALUE=URI;X-ADDRESS=YMCA of the Shoals 2121 Helton Drive Florence AL 35630 United States;X-APPLE-RADIUS=500;X-TITLE=2121 Helton Drive:geo:-87.6683435,34.8324379
END:VEVENT
BEGIN:VEVENT
DTSTART;TZID=America/Chicago:20270107T120000
DTEND;TZID=America/Chicago:20270107T150000
DTSTAMP:20260424T114038
CREATED:20260106T211231Z
LAST-MODIFIED:20260106T211231Z
UID:193830-1799323200-1799334000@www.ymcashoals.org
SUMMARY:Open Play (Court B)
DESCRIPTION:
URL:https://www.ymcashoals.org/event/open-play-court-b-18/2027-01-07/
LOCATION:YMCA of the Shoals\, 2121 Helton Drive\, Florence\, AL\, 35630\, United States
CATEGORIES:Gym Courts A & B,Schedules
GEO:34.8324379;-87.6683435
X-APPLE-STRUCTURED-LOCATION;VALUE=URI;X-ADDRESS=YMCA of the Shoals 2121 Helton Drive Florence AL 35630 United States;X-APPLE-RADIUS=500;X-TITLE=2121 Helton Drive:geo:-87.6683435,34.8324379
END:VEVENT
BEGIN:VEVENT
DTSTART;TZID=America/Chicago:20270107T120000
DTEND;TZID=America/Chicago:20270107T150000
DTSTAMP:20260424T114038
CREATED:20260106T212716Z
LAST-MODIFIED:20260106T212716Z
UID:195190-1799323200-1799334000@www.ymcashoals.org
SUMMARY:Open Play Court A
DESCRIPTION:
URL:https://www.ymcashoals.org/event/open-play-court-a-18/2027-01-07/
LOCATION:YMCA of the Shoals\, 2121 Helton Drive\, Florence\, AL\, 35630\, United States
CATEGORIES:Gym Courts A & B,Schedules
GEO:34.8324379;-87.6683435
X-APPLE-STRUCTURED-LOCATION;VALUE=URI;X-ADDRESS=YMCA of the Shoals 2121 Helton Drive Florence AL 35630 United States;X-APPLE-RADIUS=500;X-TITLE=2121 Helton Drive:geo:-87.6683435,34.8324379
END:VEVENT
BEGIN:VEVENT
DTSTART;TZID=America/Chicago:20270107T121500
DTEND;TZID=America/Chicago:20270107T130000
DTSTAMP:20260424T114038
CREATED:20250224T205211Z
LAST-MODIFIED:20250224T205211Z
UID:192537-1799324100-1799326800@www.ymcashoals.org
SUMMARY:Body & Balance (Teri)
DESCRIPTION:
URL:https://www.ymcashoals.org/event/body-balance-teri-2/2027-01-07/
LOCATION:YMCA of the Shoals\, 2121 Helton Drive\, Florence\, AL\, 35630\, United States
CATEGORIES:Group Exercise (GXR),Schedules
GEO:34.8324379;-87.6683435
X-APPLE-STRUCTURED-LOCATION;VALUE=URI;X-ADDRESS=YMCA of the Shoals 2121 Helton Drive Florence AL 35630 United States;X-APPLE-RADIUS=500;X-TITLE=2121 Helton Drive:geo:-87.6683435,34.8324379
END:VEVENT
BEGIN:VEVENT
DTSTART;TZID=America/Chicago:20270107T154500
DTEND;TZID=America/Chicago:20270107T174500
DTSTAMP:20260424T114038
CREATED:20250117T194708Z
LAST-MODIFIED:20250117T194708Z
UID:193952-1799336700-1799343900@www.ymcashoals.org
SUMMARY:Gymnastics
DESCRIPTION:*Based on child’s age. Must register in advance. One session per week\, per child.
URL:https://www.ymcashoals.org/event/gymnastics/2027-01-07/
LOCATION:YMCA of the Shoals\, 2121 Helton Drive\, Florence\, AL\, 35630\, United States
CATEGORIES:Gymnastics,Schedules
GEO:34.8324379;-87.6683435
X-APPLE-STRUCTURED-LOCATION;VALUE=URI;X-ADDRESS=YMCA of the Shoals 2121 Helton Drive Florence AL 35630 United States;X-APPLE-RADIUS=500;X-TITLE=2121 Helton Drive:geo:-87.6683435,34.8324379
END:VEVENT
BEGIN:VEVENT
DTSTART;TZID=America/Chicago:20270107T160000
DTEND;TZID=America/Chicago:20270107T180000
DTSTAMP:20260424T114038
CREATED:20260106T212752Z
LAST-MODIFIED:20260106T212752Z
UID:195305-1799337600-1799344800@www.ymcashoals.org
SUMMARY:Open Play Court A
DESCRIPTION:
URL:https://www.ymcashoals.org/event/open-play-court-a-19/2027-01-07/
LOCATION:YMCA of the Shoals\, 2121 Helton Drive\, Florence\, AL\, 35630\, United States
CATEGORIES:Gym Courts A & B,Schedules
GEO:34.8324379;-87.6683435
X-APPLE-STRUCTURED-LOCATION;VALUE=URI;X-ADDRESS=YMCA of the Shoals 2121 Helton Drive Florence AL 35630 United States;X-APPLE-RADIUS=500;X-TITLE=2121 Helton Drive:geo:-87.6683435,34.8324379
END:VEVENT
BEGIN:VEVENT
DTSTART;TZID=America/Chicago:20270107T173000
DTEND;TZID=America/Chicago:20270107T183000
DTSTAMP:20260424T114038
CREATED:20250103T141445Z
LAST-MODIFIED:20250103T141445Z
UID:191432-1799343000-1799346600@www.ymcashoals.org
SUMMARY:Muscle Works (Angela V.)
DESCRIPTION:
URL:https://www.ymcashoals.org/event/muscle-works-angela-v-2/2027-01-07/
LOCATION:YMCA of the Shoals\, 2121 Helton Drive\, Florence\, AL\, 35630\, United States
CATEGORIES:Group Exercise (GXR),Schedules
GEO:34.8324379;-87.6683435
X-APPLE-STRUCTURED-LOCATION;VALUE=URI;X-ADDRESS=YMCA of the Shoals 2121 Helton Drive Florence AL 35630 United States;X-APPLE-RADIUS=500;X-TITLE=2121 Helton Drive:geo:-87.6683435,34.8324379
END:VEVENT
BEGIN:VEVENT
DTSTART;TZID=America/Chicago:20270107T183000
DTEND;TZID=America/Chicago:20270107T203000
DTSTAMP:20260424T114038
CREATED:20250530T132458Z
LAST-MODIFIED:20250530T132458Z
UID:193600-1799346600-1799353800@www.ymcashoals.org
SUMMARY:PICKLEBALL - Court A & B
DESCRIPTION:
URL:https://www.ymcashoals.org/event/pickleball-court-a-8/2027-01-07/
LOCATION:YMCA of the Shoals\, 2121 Helton Drive\, Florence\, AL\, 35630\, United States
CATEGORIES:Gym Courts A & B,Schedules
GEO:34.8324379;-87.6683435
X-APPLE-STRUCTURED-LOCATION;VALUE=URI;X-ADDRESS=YMCA of the Shoals 2121 Helton Drive Florence AL 35630 United States;X-APPLE-RADIUS=500;X-TITLE=2121 Helton Drive:geo:-87.6683435,34.8324379
END:VEVENT
BEGIN:VEVENT
DTSTART;TZID=America/Chicago:20270108T050000
DTEND;TZID=America/Chicago:20270108T150000
DTSTAMP:20260424T114038
CREATED:20260106T211524Z
LAST-MODIFIED:20260106T211524Z
UID:194072-1799384400-1799420400@www.ymcashoals.org
SUMMARY:Open Play (Court B)
DESCRIPTION:
URL:https://www.ymcashoals.org/event/open-play-court-b-20/2027-01-08/
LOCATION:YMCA of the Shoals\, 2121 Helton Drive\, Florence\, AL\, 35630\, United States
CATEGORIES:Gym Courts A & B,Schedules
GEO:34.8324379;-87.6683435
X-APPLE-STRUCTURED-LOCATION;VALUE=URI;X-ADDRESS=YMCA of the Shoals 2121 Helton Drive Florence AL 35630 United States;X-APPLE-RADIUS=500;X-TITLE=2121 Helton Drive:geo:-87.6683435,34.8324379
END:VEVENT
BEGIN:VEVENT
DTSTART;TZID=America/Chicago:20270108T050000
DTEND;TZID=America/Chicago:20270108T150000
DTSTAMP:20260424T114038
CREATED:20260106T212322Z
LAST-MODIFIED:20260106T212322Z
UID:194532-1799384400-1799420400@www.ymcashoals.org
SUMMARY:Open Play Court A
DESCRIPTION:
URL:https://www.ymcashoals.org/event/open-play-court-a-15/2027-01-08/
LOCATION:YMCA of the Shoals\, 2121 Helton Drive\, Florence\, AL\, 35630\, United States
CATEGORIES:Gym Courts A & B,Schedules
GEO:34.8324379;-87.6683435
X-APPLE-STRUCTURED-LOCATION;VALUE=URI;X-ADDRESS=YMCA of the Shoals 2121 Helton Drive Florence AL 35630 United States;X-APPLE-RADIUS=500;X-TITLE=2121 Helton Drive:geo:-87.6683435,34.8324379
END:VEVENT
BEGIN:VEVENT
DTSTART;TZID=America/Chicago:20270108T051500
DTEND;TZID=America/Chicago:20270108T060000
DTSTAMP:20260424T114038
CREATED:20240524T154629Z
LAST-MODIFIED:20240524T154629Z
UID:191434-1799385300-1799388000@www.ymcashoals.org
SUMMARY:Y Cycle (Sara)
DESCRIPTION:
URL:https://www.ymcashoals.org/event/y-cycle-sara-4/2027-01-08/
LOCATION:YMCA of the Shoals\, 2121 Helton Drive\, Florence\, AL\, 35630\, United States
CATEGORIES:Cycle Fusion (GXR2),Schedules
GEO:34.8324379;-87.6683435
X-APPLE-STRUCTURED-LOCATION;VALUE=URI;X-ADDRESS=YMCA of the Shoals 2121 Helton Drive Florence AL 35630 United States;X-APPLE-RADIUS=500;X-TITLE=2121 Helton Drive:geo:-87.6683435,34.8324379
END:VEVENT
BEGIN:VEVENT
DTSTART;TZID=America/Chicago:20270108T081500
DTEND;TZID=America/Chicago:20270108T090000
DTSTAMP:20260424T114038
CREATED:20211201T212911Z
LAST-MODIFIED:20211201T212911Z
UID:192369-1799396100-1799398800@www.ymcashoals.org
SUMMARY:Y Dance (Casey)
DESCRIPTION:
URL:https://www.ymcashoals.org/event/y-dance-casey-2/2027-01-08/
LOCATION:YMCA of the Shoals\, 2121 Helton Drive\, Florence\, AL\, 35630\, United States
CATEGORIES:Group Exercise (GXR),Schedules
GEO:34.8324379;-87.6683435
X-APPLE-STRUCTURED-LOCATION;VALUE=URI;X-ADDRESS=YMCA of the Shoals 2121 Helton Drive Florence AL 35630 United States;X-APPLE-RADIUS=500;X-TITLE=2121 Helton Drive:geo:-87.6683435,34.8324379
END:VEVENT
BEGIN:VEVENT
DTSTART;TZID=America/Chicago:20270108T081500
DTEND;TZID=America/Chicago:20270108T090500
DTSTAMP:20260424T114038
CREATED:20230227T142823Z
LAST-MODIFIED:20230227T142823Z
UID:200005-1799396100-1799399100@www.ymcashoals.org
SUMMARY:Les Mills RPM+Pilates (Christy)
DESCRIPTION:
URL:https://www.ymcashoals.org/event/les-mills-rpmcore-melissa-p/2027-01-08/
LOCATION:YMCA of the Shoals\, 2121 Helton Drive\, Florence\, AL\, 35630\, United States
CATEGORIES:Cycle Fusion (GXR2),Schedules
GEO:34.8324379;-87.6683435
X-APPLE-STRUCTURED-LOCATION;VALUE=URI;X-ADDRESS=YMCA of the Shoals 2121 Helton Drive Florence AL 35630 United States;X-APPLE-RADIUS=500;X-TITLE=2121 Helton Drive:geo:-87.6683435,34.8324379
END:VEVENT
BEGIN:VEVENT
DTSTART;TZID=America/Chicago:20270108T081500
DTEND;TZID=America/Chicago:20270108T090500
DTSTAMP:20260424T114038
CREATED:20230227T142823Z
LAST-MODIFIED:20230227T142823Z
UID:199348-1799396100-1799399100@www.ymcashoals.org
SUMMARY:Les Mills RPM+Pilates (Christy)
DESCRIPTION:
URL:https://www.ymcashoals.org/event/les-mills-rpmcore-melissa-p/2027-01-08/
LOCATION:YMCA of the Shoals\, 2121 Helton Drive\, Florence\, AL\, 35630\, United States
CATEGORIES:Cycle Fusion (GXR2),Schedules
GEO:34.8324379;-87.6683435
X-APPLE-STRUCTURED-LOCATION;VALUE=URI;X-ADDRESS=YMCA of the Shoals 2121 Helton Drive Florence AL 35630 United States;X-APPLE-RADIUS=500;X-TITLE=2121 Helton Drive:geo:-87.6683435,34.8324379
END:VEVENT
BEGIN:VEVENT
DTSTART;TZID=America/Chicago:20270108T091000
DTEND;TZID=America/Chicago:20270108T100000
DTSTAMP:20260424T114038
CREATED:20260116T191004Z
LAST-MODIFIED:20260116T191004Z
UID:197922-1799399400-1799402400@www.ymcashoals.org
SUMMARY:Breathe & Bend (Amy)
DESCRIPTION:
URL:https://www.ymcashoals.org/event/breathe-bend-amy-4/2027-01-08/
LOCATION:YMCA of the Shoals\, 2121 Helton Drive\, Florence\, AL\, 35630\, United States
CATEGORIES:Group Exercise (GXR),Schedules
GEO:34.8324379;-87.6683435
X-APPLE-STRUCTURED-LOCATION;VALUE=URI;X-ADDRESS=YMCA of the Shoals 2121 Helton Drive Florence AL 35630 United States;X-APPLE-RADIUS=500;X-TITLE=2121 Helton Drive:geo:-87.6683435,34.8324379
END:VEVENT
BEGIN:VEVENT
DTSTART;TZID=America/Chicago:20270108T112000
DTEND;TZID=America/Chicago:20270108T120500
DTSTAMP:20260424T114038
CREATED:20260116T190349Z
LAST-MODIFIED:20260116T190349Z
UID:197748-1799407200-1799409900@www.ymcashoals.org
SUMMARY:Strength In Chairs (Shelia)
DESCRIPTION:
URL:https://www.ymcashoals.org/event/strength-in-chairs-shelia/2027-01-08/
LOCATION:YMCA of the Shoals\, 2121 Helton Drive\, Florence\, AL\, 35630\, United States
CATEGORIES:Schedules,Spirit/Mind/Body (GXR3)
GEO:34.8324379;-87.6683435
X-APPLE-STRUCTURED-LOCATION;VALUE=URI;X-ADDRESS=YMCA of the Shoals 2121 Helton Drive Florence AL 35630 United States;X-APPLE-RADIUS=500;X-TITLE=2121 Helton Drive:geo:-87.6683435,34.8324379
END:VEVENT
BEGIN:VEVENT
DTSTART;TZID=America/Chicago:20270108T150000
DTEND;TZID=America/Chicago:20270108T154500
DTSTAMP:20260424T114038
CREATED:20260106T210545Z
LAST-MODIFIED:20260106T210545Z
UID:193301-1799420400-1799423100@www.ymcashoals.org
SUMMARY:BASC (Court B)
DESCRIPTION:
URL:https://www.ymcashoals.org/event/basc-court-b/2027-01-08/
LOCATION:YMCA of the Shoals\, 2121 Helton Drive\, Florence\, AL\, 35630\, United States
CATEGORIES:Gym Courts A & B,Schedules
GEO:34.8324379;-87.6683435
X-APPLE-STRUCTURED-LOCATION;VALUE=URI;X-ADDRESS=YMCA of the Shoals 2121 Helton Drive Florence AL 35630 United States;X-APPLE-RADIUS=500;X-TITLE=2121 Helton Drive:geo:-87.6683435,34.8324379
END:VEVENT
BEGIN:VEVENT
DTSTART;TZID=America/Chicago:20270108T160000
DTEND;TZID=America/Chicago:20270108T204500
DTSTAMP:20260424T114038
CREATED:20260106T212515Z
LAST-MODIFIED:20260106T212515Z
UID:194956-1799424000-1799441100@www.ymcashoals.org
SUMMARY:Open Play Court A
DESCRIPTION:
URL:https://www.ymcashoals.org/event/open-play-court-a-16/2027-01-08/
LOCATION:YMCA of the Shoals\, 2121 Helton Drive\, Florence\, AL\, 35630\, United States
CATEGORIES:Gym Courts A & B,Schedules
GEO:34.8324379;-87.6683435
X-APPLE-STRUCTURED-LOCATION;VALUE=URI;X-ADDRESS=YMCA of the Shoals 2121 Helton Drive Florence AL 35630 United States;X-APPLE-RADIUS=500;X-TITLE=2121 Helton Drive:geo:-87.6683435,34.8324379
END:VEVENT
BEGIN:VEVENT
DTSTART;TZID=America/Chicago:20270108T163000
DTEND;TZID=America/Chicago:20270108T210000
DTSTAMP:20260424T114038
CREATED:20250530T135048Z
LAST-MODIFIED:20250530T135048Z
UID:192853-1799425800-1799442000@www.ymcashoals.org
SUMMARY:Open Play - Court B
DESCRIPTION:
URL:https://www.ymcashoals.org/event/open-play-court-b-12/2027-01-08/
LOCATION:YMCA of the Shoals\, 2121 Helton Drive\, Florence\, AL\, 35630\, United States
CATEGORIES:Gym Courts A & B,Schedules
GEO:34.8324379;-87.6683435
X-APPLE-STRUCTURED-LOCATION;VALUE=URI;X-ADDRESS=YMCA of the Shoals 2121 Helton Drive Florence AL 35630 United States;X-APPLE-RADIUS=500;X-TITLE=2121 Helton Drive:geo:-87.6683435,34.8324379
END:VEVENT
BEGIN:VEVENT
DTSTART;TZID=America/Chicago:20270108T173000
DTEND;TZID=America/Chicago:20270108T183000
DTSTAMP:20260424T114038
CREATED:20241029T202516Z
LAST-MODIFIED:20241029T202516Z
UID:192723-1799429400-1799433000@www.ymcashoals.org
SUMMARY:Cardio Hip Hop (Ladarius)
DESCRIPTION:
URL:https://www.ymcashoals.org/event/cardio-hip-hop-ladarius-4/2027-01-08/
LOCATION:YMCA of the Shoals\, 2121 Helton Drive\, Florence\, AL\, 35630\, United States
CATEGORIES:Group Exercise (GXR),Schedules
GEO:34.8324379;-87.6683435
X-APPLE-STRUCTURED-LOCATION;VALUE=URI;X-ADDRESS=YMCA of the Shoals 2121 Helton Drive Florence AL 35630 United States;X-APPLE-RADIUS=500;X-TITLE=2121 Helton Drive:geo:-87.6683435,34.8324379
END:VEVENT
BEGIN:VEVENT
DTSTART;TZID=America/Chicago:20270109T060000
DTEND;TZID=America/Chicago:20270109T090000
DTSTAMP:20260424T114038
CREATED:20260106T211613Z
LAST-MODIFIED:20260106T211613Z
UID:194131-1799474400-1799485200@www.ymcashoals.org
SUMMARY:Open Play (Court B)
DESCRIPTION:
URL:https://www.ymcashoals.org/event/open-play-court-b-21/2027-01-09/
LOCATION:YMCA of the Shoals\, 2121 Helton Drive\, Florence\, AL\, 35630\, United States
CATEGORIES:Gym Courts A & B,Schedules
GEO:34.8324379;-87.6683435
X-APPLE-STRUCTURED-LOCATION;VALUE=URI;X-ADDRESS=YMCA of the Shoals 2121 Helton Drive Florence AL 35630 United States;X-APPLE-RADIUS=500;X-TITLE=2121 Helton Drive:geo:-87.6683435,34.8324379
END:VEVENT
BEGIN:VEVENT
DTSTART;TZID=America/Chicago:20270109T060000
DTEND;TZID=America/Chicago:20270109T090000
DTSTAMP:20260424T114038
CREATED:20260106T212836Z
LAST-MODIFIED:20260106T212836Z
UID:195368-1799474400-1799485200@www.ymcashoals.org
SUMMARY:Open Play Court A
DESCRIPTION:
URL:https://www.ymcashoals.org/event/open-play-court-a-20/2027-01-09/
LOCATION:YMCA of the Shoals\, 2121 Helton Drive\, Florence\, AL\, 35630\, United States
CATEGORIES:Gym Courts A & B,Schedules
GEO:34.8324379;-87.6683435
X-APPLE-STRUCTURED-LOCATION;VALUE=URI;X-ADDRESS=YMCA of the Shoals 2121 Helton Drive Florence AL 35630 United States;X-APPLE-RADIUS=500;X-TITLE=2121 Helton Drive:geo:-87.6683435,34.8324379
END:VEVENT
END:VCALENDAR