BEGIN:VCALENDAR
VERSION:2.0
PRODID:-//YMCA of the Shoals - ECPv6.15.20//NONSGML v1.0//EN
CALSCALE:GREGORIAN
METHOD:PUBLISH
X-WR-CALNAME:YMCA of the Shoals
X-ORIGINAL-URL:https://www.ymcashoals.org
X-WR-CALDESC:Events for YMCA of the Shoals
REFRESH-INTERVAL;VALUE=DURATION:PT1H
X-Robots-Tag:noindex
X-PUBLISHED-TTL:PT1H
BEGIN:VTIMEZONE
TZID:America/Chicago
BEGIN:DAYLIGHT
TZOFFSETFROM:-0600
TZOFFSETTO:-0500
TZNAME:CDT
DTSTART:20250309T080000
END:DAYLIGHT
BEGIN:STANDARD
TZOFFSETFROM:-0500
TZOFFSETTO:-0600
TZNAME:CST
DTSTART:20251102T070000
END:STANDARD
BEGIN:DAYLIGHT
TZOFFSETFROM:-0600
TZOFFSETTO:-0500
TZNAME:CDT
DTSTART:20260308T080000
END:DAYLIGHT
BEGIN:STANDARD
TZOFFSETFROM:-0500
TZOFFSETTO:-0600
TZNAME:CST
DTSTART:20261101T070000
END:STANDARD
BEGIN:DAYLIGHT
TZOFFSETFROM:-0600
TZOFFSETTO:-0500
TZNAME:CDT
DTSTART:20270314T080000
END:DAYLIGHT
BEGIN:STANDARD
TZOFFSETFROM:-0500
TZOFFSETTO:-0600
TZNAME:CST
DTSTART:20271107T070000
END:STANDARD
END:VTIMEZONE
BEGIN:VEVENT
DTSTART;TZID=America/Chicago:20260529T081500
DTEND;TZID=America/Chicago:20260529T090500
DTSTAMP:20260425T202904
CREATED:20230227T142823Z
LAST-MODIFIED:20230227T142823Z
UID:199316-1780042500-1780045500@www.ymcashoals.org
SUMMARY:Les Mills RPM+Pilates (Christy)
DESCRIPTION:
URL:https://www.ymcashoals.org/event/les-mills-rpmcore-melissa-p/2026-05-29/
LOCATION:YMCA of the Shoals\, 2121 Helton Drive\, Florence\, AL\, 35630\, United States
CATEGORIES:Cycle Fusion (GXR2),Schedules
GEO:34.8324379;-87.6683435
X-APPLE-STRUCTURED-LOCATION;VALUE=URI;X-ADDRESS=YMCA of the Shoals 2121 Helton Drive Florence AL 35630 United States;X-APPLE-RADIUS=500;X-TITLE=2121 Helton Drive:geo:-87.6683435,34.8324379
END:VEVENT
BEGIN:VEVENT
DTSTART;TZID=America/Chicago:20260529T081500
DTEND;TZID=America/Chicago:20260529T090500
DTSTAMP:20260425T202904
CREATED:20230227T142823Z
LAST-MODIFIED:20230227T142823Z
UID:199973-1780042500-1780045500@www.ymcashoals.org
SUMMARY:Les Mills RPM+Pilates (Christy)
DESCRIPTION:
URL:https://www.ymcashoals.org/event/les-mills-rpmcore-melissa-p/2026-05-29/
LOCATION:YMCA of the Shoals\, 2121 Helton Drive\, Florence\, AL\, 35630\, United States
CATEGORIES:Cycle Fusion (GXR2),Schedules
GEO:34.8324379;-87.6683435
X-APPLE-STRUCTURED-LOCATION;VALUE=URI;X-ADDRESS=YMCA of the Shoals 2121 Helton Drive Florence AL 35630 United States;X-APPLE-RADIUS=500;X-TITLE=2121 Helton Drive:geo:-87.6683435,34.8324379
END:VEVENT
BEGIN:VEVENT
DTSTART;TZID=America/Chicago:20260529T083000
DTEND;TZID=America/Chicago:20260529T091500
DTSTAMP:20260425T202904
CREATED:20240829T190838Z
LAST-MODIFIED:20251130T040259Z
UID:181419-1780043400-1780046100@www.ymcashoals.org
SUMMARY:Joints in Motion (8:30am)
DESCRIPTION:
URL:https://www.ymcashoals.org/event/joints-in-motion-3/2026-05-29/
LOCATION:YMCA of the Shoals\, 2121 Helton Drive\, Florence\, AL\, 35630\, United States
CATEGORIES:Leisure Pool Schedule,Schedules
GEO:34.8324379;-87.6683435
X-APPLE-STRUCTURED-LOCATION;VALUE=URI;X-ADDRESS=YMCA of the Shoals 2121 Helton Drive Florence AL 35630 United States;X-APPLE-RADIUS=500;X-TITLE=2121 Helton Drive:geo:-87.6683435,34.8324379
END:VEVENT
BEGIN:VEVENT
DTSTART;TZID=America/Chicago:20260529T084500
DTEND;TZID=America/Chicago:20260529T093000
DTSTAMP:20260425T202904
CREATED:20221103T150618Z
LAST-MODIFIED:20251130T035054Z
UID:190101-1780044300-1780047000@www.ymcashoals.org
SUMMARY:Deep Water Joints in Motion
DESCRIPTION:
URL:https://www.ymcashoals.org/event/deep-water-joints-in-motion-jo/2026-05-29/
LOCATION:YMCA of the Shoals\, 2121 Helton Drive\, Florence\, AL\, 35630\, United States
CATEGORIES:Leisure Pool Schedule,Schedules
GEO:34.8324379;-87.6683435
X-APPLE-STRUCTURED-LOCATION;VALUE=URI;X-ADDRESS=YMCA of the Shoals 2121 Helton Drive Florence AL 35630 United States;X-APPLE-RADIUS=500;X-TITLE=2121 Helton Drive:geo:-87.6683435,34.8324379
END:VEVENT
BEGIN:VEVENT
DTSTART;TZID=America/Chicago:20260529T091000
DTEND;TZID=America/Chicago:20260529T100000
DTSTAMP:20260425T202904
CREATED:20260116T191004Z
LAST-MODIFIED:20260116T191004Z
UID:197890-1780045800-1780048800@www.ymcashoals.org
SUMMARY:Breathe & Bend (Amy)
DESCRIPTION:
URL:https://www.ymcashoals.org/event/breathe-bend-amy-4/2026-05-29/
LOCATION:YMCA of the Shoals\, 2121 Helton Drive\, Florence\, AL\, 35630\, United States
CATEGORIES:Group Exercise (GXR),Schedules
GEO:34.8324379;-87.6683435
X-APPLE-STRUCTURED-LOCATION;VALUE=URI;X-ADDRESS=YMCA of the Shoals 2121 Helton Drive Florence AL 35630 United States;X-APPLE-RADIUS=500;X-TITLE=2121 Helton Drive:geo:-87.6683435,34.8324379
END:VEVENT
BEGIN:VEVENT
DTSTART;TZID=America/Chicago:20260529T091500
DTEND;TZID=America/Chicago:20260529T100000
DTSTAMP:20260425T202904
CREATED:20250806T155354Z
LAST-MODIFIED:20251130T035225Z
UID:184627-1780046100-1780048800@www.ymcashoals.org
SUMMARY:Y Aquadance
DESCRIPTION:2 lanes available
URL:https://www.ymcashoals.org/event/y-aquadance-2/2026-05-29/
LOCATION:YMCA of the Shoals\, 2121 Helton Drive\, Florence\, AL\, 35630\, United States
CATEGORIES:Lap Pool,Lap Pool Schedule,Schedules
GEO:34.8324379;-87.6683435
X-APPLE-STRUCTURED-LOCATION;VALUE=URI;X-ADDRESS=YMCA of the Shoals 2121 Helton Drive Florence AL 35630 United States;X-APPLE-RADIUS=500;X-TITLE=2121 Helton Drive:geo:-87.6683435,34.8324379
END:VEVENT
BEGIN:VEVENT
DTSTART;TZID=America/Chicago:20260529T101000
DTEND;TZID=America/Chicago:20260529T110000
DTSTAMP:20260425T202904
CREATED:20250224T205516Z
LAST-MODIFIED:20250806T181249Z
UID:181421-1780049400-1780052400@www.ymcashoals.org
SUMMARY:Muscle Works (Angela D.)
DESCRIPTION:
URL:https://www.ymcashoals.org/event/muscle-works-angela-d-4/2026-05-29/
LOCATION:YMCA of the Shoals\, 2121 Helton Drive\, Florence\, AL\, 35630\, United States
CATEGORIES:Group Exercise (GXR),Schedules
GEO:34.8324379;-87.6683435
X-APPLE-STRUCTURED-LOCATION;VALUE=URI;X-ADDRESS=YMCA of the Shoals 2121 Helton Drive Florence AL 35630 United States;X-APPLE-RADIUS=500;X-TITLE=2121 Helton Drive:geo:-87.6683435,34.8324379
END:VEVENT
BEGIN:VEVENT
DTSTART;TZID=America/Chicago:20260529T101500
DTEND;TZID=America/Chicago:20260529T110000
DTSTAMP:20260425T202904
CREATED:20241029T201628Z
LAST-MODIFIED:20260116T185745Z
UID:192058-1780049700-1780052400@www.ymcashoals.org
SUMMARY:Yoga In Chairs (Sheila)
DESCRIPTION:
URL:https://www.ymcashoals.org/event/yoga-in-chairs-sheila/2026-05-29/
LOCATION:YMCA of the Shoals\, 2121 Helton Drive\, Florence\, AL\, 35630\, United States
CATEGORIES:Schedules,Spirit/Mind/Body (GXR3)
GEO:34.8324379;-87.6683435
X-APPLE-STRUCTURED-LOCATION;VALUE=URI;X-ADDRESS=YMCA of the Shoals 2121 Helton Drive Florence AL 35630 United States;X-APPLE-RADIUS=500;X-TITLE=2121 Helton Drive:geo:-87.6683435,34.8324379
END:VEVENT
BEGIN:VEVENT
DTSTART;TZID=America/Chicago:20260529T101500
DTEND;TZID=America/Chicago:20260529T110000
DTSTAMP:20260425T202904
CREATED:20250806T155946Z
LAST-MODIFIED:20251130T033704Z
UID:189328-1780049700-1780052400@www.ymcashoals.org
SUMMARY:Working in the Deep
DESCRIPTION:2 lanes available
URL:https://www.ymcashoals.org/event/working-in-the-deep-6/2026-05-29/
LOCATION:YMCA of the Shoals\, 2121 Helton Drive\, Florence\, AL\, 35630\, United States
CATEGORIES:Lap Pool,Lap Pool Schedule,Schedules
GEO:34.8324379;-87.6683435
X-APPLE-STRUCTURED-LOCATION;VALUE=URI;X-ADDRESS=YMCA of the Shoals 2121 Helton Drive Florence AL 35630 United States;X-APPLE-RADIUS=500;X-TITLE=2121 Helton Drive:geo:-87.6683435,34.8324379
END:VEVENT
BEGIN:VEVENT
DTSTART;TZID=America/Chicago:20260529T110000
DTEND;TZID=America/Chicago:20260529T120000
DTSTAMP:20260425T202904
CREATED:20221103T151028Z
LAST-MODIFIED:20260107T031339Z
UID:196176-1780052400-1780056000@www.ymcashoals.org
SUMMARY:Volleyball Fun Aerobics Class
DESCRIPTION:A fun\, energetic class where participants are encouraged to promote the Y’s core values: Caring\, Honesty\, Respect and Responsibility through good sportsmanship and fair conduct for all.
URL:https://www.ymcashoals.org/event/volleyball-fun-aerobics-class-alisa/2026-05-29/
LOCATION:YMCA of the Shoals\, 2121 Helton Drive\, Florence\, AL\, 35630\, United States
CATEGORIES:Leisure Pool Schedule,Schedules
GEO:34.8324379;-87.6683435
X-APPLE-STRUCTURED-LOCATION;VALUE=URI;X-ADDRESS=YMCA of the Shoals 2121 Helton Drive Florence AL 35630 United States;X-APPLE-RADIUS=500;X-TITLE=2121 Helton Drive:geo:-87.6683435,34.8324379
END:VEVENT
BEGIN:VEVENT
DTSTART;TZID=America/Chicago:20260529T112000
DTEND;TZID=America/Chicago:20260529T120500
DTSTAMP:20260425T202904
CREATED:20260116T190349Z
LAST-MODIFIED:20260116T190349Z
UID:197716-1780053600-1780056300@www.ymcashoals.org
SUMMARY:Strength In Chairs (Shelia)
DESCRIPTION:
URL:https://www.ymcashoals.org/event/strength-in-chairs-shelia/2026-05-29/
LOCATION:YMCA of the Shoals\, 2121 Helton Drive\, Florence\, AL\, 35630\, United States
CATEGORIES:Schedules,Spirit/Mind/Body (GXR3)
GEO:34.8324379;-87.6683435
X-APPLE-STRUCTURED-LOCATION;VALUE=URI;X-ADDRESS=YMCA of the Shoals 2121 Helton Drive Florence AL 35630 United States;X-APPLE-RADIUS=500;X-TITLE=2121 Helton Drive:geo:-87.6683435,34.8324379
END:VEVENT
BEGIN:VEVENT
DTSTART;TZID=America/Chicago:20260529T150000
DTEND;TZID=America/Chicago:20260529T154500
DTSTAMP:20260425T202904
CREATED:20260106T210545Z
LAST-MODIFIED:20260106T210545Z
UID:193205-1780066800-1780069500@www.ymcashoals.org
SUMMARY:BASC (Court B)
DESCRIPTION:
URL:https://www.ymcashoals.org/event/basc-court-b/2026-05-29/
LOCATION:YMCA of the Shoals\, 2121 Helton Drive\, Florence\, AL\, 35630\, United States
CATEGORIES:Gym Courts A & B,Schedules
GEO:34.8324379;-87.6683435
X-APPLE-STRUCTURED-LOCATION;VALUE=URI;X-ADDRESS=YMCA of the Shoals 2121 Helton Drive Florence AL 35630 United States;X-APPLE-RADIUS=500;X-TITLE=2121 Helton Drive:geo:-87.6683435,34.8324379
END:VEVENT
BEGIN:VEVENT
DTSTART;TZID=America/Chicago:20260529T150000
DTEND;TZID=America/Chicago:20260529T160000
DTSTAMP:20260425T202904
CREATED:20260106T212417Z
LAST-MODIFIED:20260106T212417Z
UID:194650-1780066800-1780070400@www.ymcashoals.org
SUMMARY:BASC Court A
DESCRIPTION:
URL:https://www.ymcashoals.org/event/basc-court-a/2026-05-29/
LOCATION:YMCA of the Shoals\, 2121 Helton Drive\, Florence\, AL\, 35630\, United States
CATEGORIES:Gym Courts A & B,Schedules
GEO:34.8324379;-87.6683435
X-APPLE-STRUCTURED-LOCATION;VALUE=URI;X-ADDRESS=YMCA of the Shoals 2121 Helton Drive Florence AL 35630 United States;X-APPLE-RADIUS=500;X-TITLE=2121 Helton Drive:geo:-87.6683435,34.8324379
END:VEVENT
BEGIN:VEVENT
DTSTART;TZID=America/Chicago:20260529T160000
DTEND;TZID=America/Chicago:20260529T204500
DTSTAMP:20260425T202904
CREATED:20260106T212515Z
LAST-MODIFIED:20260106T212515Z
UID:194860-1780070400-1780087500@www.ymcashoals.org
SUMMARY:Open Play Court A
DESCRIPTION:
URL:https://www.ymcashoals.org/event/open-play-court-a-16/2026-05-29/
LOCATION:YMCA of the Shoals\, 2121 Helton Drive\, Florence\, AL\, 35630\, United States
CATEGORIES:Gym Courts A & B,Schedules
GEO:34.8324379;-87.6683435
X-APPLE-STRUCTURED-LOCATION;VALUE=URI;X-ADDRESS=YMCA of the Shoals 2121 Helton Drive Florence AL 35630 United States;X-APPLE-RADIUS=500;X-TITLE=2121 Helton Drive:geo:-87.6683435,34.8324379
END:VEVENT
BEGIN:VEVENT
DTSTART;TZID=America/Chicago:20260529T163000
DTEND;TZID=America/Chicago:20260529T210000
DTSTAMP:20260425T202904
CREATED:20250530T135048Z
LAST-MODIFIED:20250530T135048Z
UID:192821-1780072200-1780088400@www.ymcashoals.org
SUMMARY:Open Play - Court B
DESCRIPTION:
URL:https://www.ymcashoals.org/event/open-play-court-b-12/2026-05-29/
LOCATION:YMCA of the Shoals\, 2121 Helton Drive\, Florence\, AL\, 35630\, United States
CATEGORIES:Gym Courts A & B,Schedules
GEO:34.8324379;-87.6683435
X-APPLE-STRUCTURED-LOCATION;VALUE=URI;X-ADDRESS=YMCA of the Shoals 2121 Helton Drive Florence AL 35630 United States;X-APPLE-RADIUS=500;X-TITLE=2121 Helton Drive:geo:-87.6683435,34.8324379
END:VEVENT
BEGIN:VEVENT
DTSTART;TZID=America/Chicago:20260529T173000
DTEND;TZID=America/Chicago:20260529T183000
DTSTAMP:20260425T202904
CREATED:20241029T202516Z
LAST-MODIFIED:20241029T202516Z
UID:192627-1780075800-1780079400@www.ymcashoals.org
SUMMARY:Cardio Hip Hop (Ladarius)
DESCRIPTION:
URL:https://www.ymcashoals.org/event/cardio-hip-hop-ladarius-4/2026-05-29/
LOCATION:YMCA of the Shoals\, 2121 Helton Drive\, Florence\, AL\, 35630\, United States
CATEGORIES:Group Exercise (GXR),Schedules
GEO:34.8324379;-87.6683435
X-APPLE-STRUCTURED-LOCATION;VALUE=URI;X-ADDRESS=YMCA of the Shoals 2121 Helton Drive Florence AL 35630 United States;X-APPLE-RADIUS=500;X-TITLE=2121 Helton Drive:geo:-87.6683435,34.8324379
END:VEVENT
BEGIN:VEVENT
DTSTART;TZID=America/Chicago:20260530T060000
DTEND;TZID=America/Chicago:20260530T090000
DTSTAMP:20260425T202904
CREATED:20260106T211613Z
LAST-MODIFIED:20260106T211613Z
UID:194099-1780120800-1780131600@www.ymcashoals.org
SUMMARY:Open Play (Court B)
DESCRIPTION:
URL:https://www.ymcashoals.org/event/open-play-court-b-21/2026-05-30/
LOCATION:YMCA of the Shoals\, 2121 Helton Drive\, Florence\, AL\, 35630\, United States
CATEGORIES:Gym Courts A & B,Schedules
GEO:34.8324379;-87.6683435
X-APPLE-STRUCTURED-LOCATION;VALUE=URI;X-ADDRESS=YMCA of the Shoals 2121 Helton Drive Florence AL 35630 United States;X-APPLE-RADIUS=500;X-TITLE=2121 Helton Drive:geo:-87.6683435,34.8324379
END:VEVENT
BEGIN:VEVENT
DTSTART;TZID=America/Chicago:20260530T060000
DTEND;TZID=America/Chicago:20260530T090000
DTSTAMP:20260425T202904
CREATED:20260106T212836Z
LAST-MODIFIED:20260106T212836Z
UID:195336-1780120800-1780131600@www.ymcashoals.org
SUMMARY:Open Play Court A
DESCRIPTION:
URL:https://www.ymcashoals.org/event/open-play-court-a-20/2026-05-30/
LOCATION:YMCA of the Shoals\, 2121 Helton Drive\, Florence\, AL\, 35630\, United States
CATEGORIES:Gym Courts A & B,Schedules
GEO:34.8324379;-87.6683435
X-APPLE-STRUCTURED-LOCATION;VALUE=URI;X-ADDRESS=YMCA of the Shoals 2121 Helton Drive Florence AL 35630 United States;X-APPLE-RADIUS=500;X-TITLE=2121 Helton Drive:geo:-87.6683435,34.8324379
END:VEVENT
BEGIN:VEVENT
DTSTART;TZID=America/Chicago:20260530T073000
DTEND;TZID=America/Chicago:20260530T081500
DTSTAMP:20260425T202904
CREATED:20260123T134932Z
LAST-MODIFIED:20260123T134932Z
UID:198432-1780126200-1780128900@www.ymcashoals.org
SUMMARY:Y Cycle (Alternating)
DESCRIPTION:
URL:https://www.ymcashoals.org/event/y-cycle-alternating-2/2026-05-30/
LOCATION:YMCA of the Shoals\, 2121 Helton Drive\, Florence\, AL\, 35630\, United States
CATEGORIES:Cycle Fusion (GXR2),Schedules
GEO:34.8324379;-87.6683435
X-APPLE-STRUCTURED-LOCATION;VALUE=URI;X-ADDRESS=YMCA of the Shoals 2121 Helton Drive Florence AL 35630 United States;X-APPLE-RADIUS=500;X-TITLE=2121 Helton Drive:geo:-87.6683435,34.8324379
END:VEVENT
BEGIN:VEVENT
DTSTART;TZID=America/Chicago:20260530T080000
DTEND;TZID=America/Chicago:20260530T084500
DTSTAMP:20260425T202904
CREATED:20200527T203028Z
LAST-MODIFIED:20200527T203028Z
UID:181422-1780128000-1780130700@www.ymcashoals.org
SUMMARY:Y HITT (Lisa)
DESCRIPTION:
URL:https://www.ymcashoals.org/event/y-hitt-lisa-2/2026-05-30/
LOCATION:YMCA of the Shoals\, 2121 Helton Drive\, Florence\, AL\, 35630\, United States
CATEGORIES:Group Exercise (GXR),Schedules
GEO:34.8324379;-87.6683435
X-APPLE-STRUCTURED-LOCATION;VALUE=URI;X-ADDRESS=YMCA of the Shoals 2121 Helton Drive Florence AL 35630 United States;X-APPLE-RADIUS=500;X-TITLE=2121 Helton Drive:geo:-87.6683435,34.8324379
END:VEVENT
BEGIN:VEVENT
DTSTART;TZID=America/Chicago:20260530T083000
DTEND;TZID=America/Chicago:20260530T093000
DTSTAMP:20260425T202904
CREATED:20260202T142159Z
LAST-MODIFIED:20260202T142159Z
UID:198778-1780129800-1780133400@www.ymcashoals.org
SUMMARY:Breathe & Bend (Megan)
DESCRIPTION:
URL:https://www.ymcashoals.org/event/breathe-bend-megan/2026-05-30/
LOCATION:YMCA of the Shoals\, 2121 Helton Drive\, Florence\, AL\, 35630\, United States
CATEGORIES:Schedules,Spirit/Mind/Body (GXR3)
GEO:34.8324379;-87.6683435
X-APPLE-STRUCTURED-LOCATION;VALUE=URI;X-ADDRESS=YMCA of the Shoals 2121 Helton Drive Florence AL 35630 United States;X-APPLE-RADIUS=500;X-TITLE=2121 Helton Drive:geo:-87.6683435,34.8324379
END:VEVENT
BEGIN:VEVENT
DTSTART;TZID=America/Chicago:20260530T090000
DTEND;TZID=America/Chicago:20260530T094000
DTSTAMP:20260425T202904
CREATED:20250905T194439Z
LAST-MODIFIED:20251130T034303Z
UID:188449-1780131600-1780134000@www.ymcashoals.org
SUMMARY:Swim Basics Level 3 - Saturdays
DESCRIPTION:Students learn personal water safety and achieve basic swimming competency by learning two benchmark skills: Swim\, float\, swim and Jump\, push\, turn\, grab. These skills are taught through fun games and confidence building experiences. (Intermediate level)\nStudents develop intermediate self-rescue skills at longer distances. In addition to swim on front\, swim on back and introduction to treading water.
URL:https://www.ymcashoals.org/event/swim-basics-level-3-intermediate/2026-05-30/
LOCATION:YMCA of the Shoals\, 2121 Helton Drive\, Florence\, AL\, 35630\, United States
CATEGORIES:Leisure Pool Schedule,Schedules,Swim Lessons
GEO:34.8324379;-87.6683435
X-APPLE-STRUCTURED-LOCATION;VALUE=URI;X-ADDRESS=YMCA of the Shoals 2121 Helton Drive Florence AL 35630 United States;X-APPLE-RADIUS=500;X-TITLE=2121 Helton Drive:geo:-87.6683435,34.8324379
END:VEVENT
BEGIN:VEVENT
DTSTART;TZID=America/Chicago:20260530T090000
DTEND;TZID=America/Chicago:20260530T095000
DTSTAMP:20260425T202904
CREATED:20210201T154320Z
LAST-MODIFIED:20210201T154320Z
UID:199801-1780131600-1780134600@www.ymcashoals.org
SUMMARY:Y Dance (Alternating)
DESCRIPTION:
URL:https://www.ymcashoals.org/event/y-dance-alternating/2026-05-30/
LOCATION:YMCA of the Shoals\, 2121 Helton Drive\, Florence\, AL\, 35630\, United States
CATEGORIES:Group Exercise (GXR),Schedules
GEO:34.8324379;-87.6683435
X-APPLE-STRUCTURED-LOCATION;VALUE=URI;X-ADDRESS=YMCA of the Shoals 2121 Helton Drive Florence AL 35630 United States;X-APPLE-RADIUS=500;X-TITLE=2121 Helton Drive:geo:-87.6683435,34.8324379
END:VEVENT
BEGIN:VEVENT
DTSTART;TZID=America/Chicago:20260530T090000
DTEND;TZID=America/Chicago:20260530T095000
DTSTAMP:20260425T202904
CREATED:20210201T154320Z
LAST-MODIFIED:20210201T154320Z
UID:199866-1780131600-1780134600@www.ymcashoals.org
SUMMARY:Y Dance (Alternating)
DESCRIPTION:
URL:https://www.ymcashoals.org/event/y-dance-alternating/2026-05-30/
LOCATION:YMCA of the Shoals\, 2121 Helton Drive\, Florence\, AL\, 35630\, United States
CATEGORIES:Group Exercise (GXR),Schedules
GEO:34.8324379;-87.6683435
X-APPLE-STRUCTURED-LOCATION;VALUE=URI;X-ADDRESS=YMCA of the Shoals 2121 Helton Drive Florence AL 35630 United States;X-APPLE-RADIUS=500;X-TITLE=2121 Helton Drive:geo:-87.6683435,34.8324379
END:VEVENT
BEGIN:VEVENT
DTSTART;TZID=America/Chicago:20260530T090000
DTEND;TZID=America/Chicago:20260530T120000
DTSTAMP:20260425T202904
CREATED:20250530T132734Z
LAST-MODIFIED:20250530T132734Z
UID:194276-1780131600-1780142400@www.ymcashoals.org
SUMMARY:PICKLEBALL - Court A & B
DESCRIPTION:
URL:https://www.ymcashoals.org/event/pickleball-court-a-11/2026-05-30/
LOCATION:YMCA of the Shoals\, 2121 Helton Drive\, Florence\, AL\, 35630\, United States
CATEGORIES:Gym Courts A & B,Schedules
GEO:34.8324379;-87.6683435
X-APPLE-STRUCTURED-LOCATION;VALUE=URI;X-ADDRESS=YMCA of the Shoals 2121 Helton Drive Florence AL 35630 United States;X-APPLE-RADIUS=500;X-TITLE=2121 Helton Drive:geo:-87.6683435,34.8324379
END:VEVENT
BEGIN:VEVENT
DTSTART;TZID=America/Chicago:20260530T091500
DTEND;TZID=America/Chicago:20260530T100000
DTSTAMP:20260425T202904
CREATED:20250806T155252Z
LAST-MODIFIED:20250806T155252Z
UID:189843-1780132500-1780135200@www.ymcashoals.org
SUMMARY:Water Workout
DESCRIPTION:2 lanes available
URL:https://www.ymcashoals.org/event/water-workout-4/2026-05-30/
LOCATION:YMCA of the Shoals\, 2121 Helton Drive\, Florence\, AL\, 35630\, United States
CATEGORIES:Lap Pool,Lap Pool Schedule,Schedules
GEO:34.8324379;-87.6683435
X-APPLE-STRUCTURED-LOCATION;VALUE=URI;X-ADDRESS=YMCA of the Shoals 2121 Helton Drive Florence AL 35630 United States;X-APPLE-RADIUS=500;X-TITLE=2121 Helton Drive:geo:-87.6683435,34.8324379
END:VEVENT
BEGIN:VEVENT
DTSTART;TZID=America/Chicago:20260530T095000
DTEND;TZID=America/Chicago:20260530T103000
DTSTAMP:20260425T202904
CREATED:20240312T031918Z
LAST-MODIFIED:20240312T031918Z
UID:188648-1780134600-1780137000@www.ymcashoals.org
SUMMARY:Swim Basics Level 2 (5yr+) -Saturdays
DESCRIPTION:Students learn personal water safety and achieve basic swimming competency by learning two benchmark skills:  Swim\, float\, swim and jump\, push\, turn\, grab. These skills are taught through fun games and confidence building experiences.
URL:https://www.ymcashoals.org/event/swim-basics-level-1-2-school-age-6yr-saturdays/2026-05-30/
LOCATION:YMCA of the Shoals\, 2121 Helton Drive\, Florence\, AL\, 35630\, United States
CATEGORIES:Leisure Pool Schedule,Schedules,Swim Lessons
GEO:34.8324379;-87.6683435
X-APPLE-STRUCTURED-LOCATION;VALUE=URI;X-ADDRESS=YMCA of the Shoals 2121 Helton Drive Florence AL 35630 United States;X-APPLE-RADIUS=500;X-TITLE=2121 Helton Drive:geo:-87.6683435,34.8324379
END:VEVENT
BEGIN:VEVENT
DTSTART;TZID=America/Chicago:20260530T100000
DTEND;TZID=America/Chicago:20260530T105000
DTSTAMP:20260425T202904
CREATED:20210201T154659Z
LAST-MODIFIED:20210201T154659Z
UID:199921-1780135200-1780138200@www.ymcashoals.org
SUMMARY:Muscle Works (Alternating)
DESCRIPTION:
URL:https://www.ymcashoals.org/event/muscle-works-alternating-2/2026-05-30/
LOCATION:YMCA of the Shoals\, 2121 Helton Drive\, Florence\, AL\, 35630\, United States
CATEGORIES:Group Exercise (GXR),Schedules
GEO:34.8324379;-87.6683435
X-APPLE-STRUCTURED-LOCATION;VALUE=URI;X-ADDRESS=YMCA of the Shoals 2121 Helton Drive Florence AL 35630 United States;X-APPLE-RADIUS=500;X-TITLE=2121 Helton Drive:geo:-87.6683435,34.8324379
END:VEVENT
BEGIN:VEVENT
DTSTART;TZID=America/Chicago:20260530T100000
DTEND;TZID=America/Chicago:20260530T105000
DTSTAMP:20260425T202904
CREATED:20210201T154659Z
LAST-MODIFIED:20260325T181259Z
UID:199503-1780135200-1780138200@www.ymcashoals.org
SUMMARY:Muscle Works (Alternating)
DESCRIPTION:
URL:https://www.ymcashoals.org/event/muscle-works-alternating-2/2026-05-30/
LOCATION:YMCA of the Shoals\, 2121 Helton Drive\, Florence\, AL\, 35630\, United States
CATEGORIES:Group Exercise (GXR),Schedules
GEO:34.8324379;-87.6683435
X-APPLE-STRUCTURED-LOCATION;VALUE=URI;X-ADDRESS=YMCA of the Shoals 2121 Helton Drive Florence AL 35630 United States;X-APPLE-RADIUS=500;X-TITLE=2121 Helton Drive:geo:-87.6683435,34.8324379
END:VEVENT
BEGIN:VEVENT
DTSTART;TZID=America/Chicago:20260530T104000
DTEND;TZID=America/Chicago:20260530T111000
DTSTAMP:20260425T202904
CREATED:20240312T033701Z
LAST-MODIFIED:20260109T141029Z
UID:188548-1780137600-1780139400@www.ymcashoals.org
SUMMARY:Mom\, Pop & tot Swim Lessons (6m-3yr) -Saturdays
DESCRIPTION:Accompanied by a parent or guardian\, infants and toddlers learn to be comfortable in the water and develop swim readiness skills through fun and confidence building experiences. Parents/Guardians will learn about water safety\, drowning prevention and the importance of supervision. \nParent/Guardian must remain in water with child at all times. SWIM DIAPERS REQUIRED UNLESS POTTY TRAINED.
URL:https://www.ymcashoals.org/event/mom-pop-tot-swim-lessons-6m-3yr-saturdays-2/2026-05-30/
LOCATION:YMCA of the Shoals\, 2121 Helton Drive\, Florence\, AL\, 35630\, United States
CATEGORIES:Leisure Pool Schedule,Schedules,Swim Lessons
GEO:34.8324379;-87.6683435
X-APPLE-STRUCTURED-LOCATION;VALUE=URI;X-ADDRESS=YMCA of the Shoals 2121 Helton Drive Florence AL 35630 United States;X-APPLE-RADIUS=500;X-TITLE=2121 Helton Drive:geo:-87.6683435,34.8324379
END:VEVENT
END:VCALENDAR