BEGIN:VCALENDAR
VERSION:2.0
PRODID:-//YMCA of the Shoals - ECPv6.15.20//NONSGML v1.0//EN
CALSCALE:GREGORIAN
METHOD:PUBLISH
X-ORIGINAL-URL:https://www.ymcashoals.org
X-WR-CALDESC:Events for YMCA of the Shoals
REFRESH-INTERVAL;VALUE=DURATION:PT1H
X-Robots-Tag:noindex
X-PUBLISHED-TTL:PT1H
BEGIN:VTIMEZONE
TZID:America/Chicago
BEGIN:DAYLIGHT
TZOFFSETFROM:-0600
TZOFFSETTO:-0500
TZNAME:CDT
DTSTART:20250309T080000
END:DAYLIGHT
BEGIN:STANDARD
TZOFFSETFROM:-0500
TZOFFSETTO:-0600
TZNAME:CST
DTSTART:20251102T070000
END:STANDARD
BEGIN:DAYLIGHT
TZOFFSETFROM:-0600
TZOFFSETTO:-0500
TZNAME:CDT
DTSTART:20260308T080000
END:DAYLIGHT
BEGIN:STANDARD
TZOFFSETFROM:-0500
TZOFFSETTO:-0600
TZNAME:CST
DTSTART:20261101T070000
END:STANDARD
BEGIN:DAYLIGHT
TZOFFSETFROM:-0600
TZOFFSETTO:-0500
TZNAME:CDT
DTSTART:20270314T080000
END:DAYLIGHT
BEGIN:STANDARD
TZOFFSETFROM:-0500
TZOFFSETTO:-0600
TZNAME:CST
DTSTART:20271107T070000
END:STANDARD
END:VTIMEZONE
BEGIN:VEVENT
DTSTART;TZID=America/Chicago:20260418T120000
DTEND;TZID=America/Chicago:20260418T173000
DTSTAMP:20260425T165820
CREATED:20260106T212915Z
LAST-MODIFIED:20260106T212915Z
UID:195388-1776513600-1776533400@www.ymcashoals.org
SUMMARY:Open Play Court A
DESCRIPTION:
URL:https://www.ymcashoals.org/event/open-play-court-a-21/2026-04-18/
LOCATION:YMCA of the Shoals\, 2121 Helton Drive\, Florence\, AL\, 35630\, United States
CATEGORIES:Gym Courts A & B,Schedules
GEO:34.8324379;-87.6683435
X-APPLE-STRUCTURED-LOCATION;VALUE=URI;X-ADDRESS=YMCA of the Shoals 2121 Helton Drive Florence AL 35630 United States;X-APPLE-RADIUS=500;X-TITLE=2121 Helton Drive:geo:-87.6683435,34.8324379
END:VEVENT
BEGIN:VEVENT
DTSTART;TZID=America/Chicago:20260419T130000
DTEND;TZID=America/Chicago:20260419T163000
DTSTAMP:20260425T165820
CREATED:20240829T194957Z
LAST-MODIFIED:20240829T194957Z
UID:180556-1776603600-1776616200@www.ymcashoals.org
SUMMARY:Open Swim
DESCRIPTION:
URL:https://www.ymcashoals.org/event/open-swim/2026-04-19/
LOCATION:YMCA of the Shoals\, 2121 Helton Drive\, Florence\, AL\, 35630\, United States
CATEGORIES:Lap Pool Schedule,Leisure Pool Schedule,Schedules
GEO:34.8324379;-87.6683435
X-APPLE-STRUCTURED-LOCATION;VALUE=URI;X-ADDRESS=YMCA of the Shoals 2121 Helton Drive Florence AL 35630 United States;X-APPLE-RADIUS=500;X-TITLE=2121 Helton Drive:geo:-87.6683435,34.8324379
END:VEVENT
BEGIN:VEVENT
DTSTART;TZID=America/Chicago:20260419T130000
DTEND;TZID=America/Chicago:20260419T163000
DTSTAMP:20260425T165820
CREATED:20260106T213029Z
LAST-MODIFIED:20260106T213029Z
UID:195446-1776603600-1776616200@www.ymcashoals.org
SUMMARY:All Day Cross Court Play Court A
DESCRIPTION:
URL:https://www.ymcashoals.org/event/all-day-cross-court-play-court-a-4/2026-04-19/
LOCATION:YMCA of the Shoals\, 2121 Helton Drive\, Florence\, AL\, 35630\, United States
CATEGORIES:Gym Courts A & B,Schedules
GEO:34.8324379;-87.6683435
X-APPLE-STRUCTURED-LOCATION;VALUE=URI;X-ADDRESS=YMCA of the Shoals 2121 Helton Drive Florence AL 35630 United States;X-APPLE-RADIUS=500;X-TITLE=2121 Helton Drive:geo:-87.6683435,34.8324379
END:VEVENT
BEGIN:VEVENT
DTSTART;TZID=America/Chicago:20260419T130000
DTEND;TZID=America/Chicago:20260419T173000
DTSTAMP:20260425T165820
CREATED:20260106T211731Z
LAST-MODIFIED:20260106T211731Z
UID:194209-1776603600-1776619800@www.ymcashoals.org
SUMMARY:Open Play (Court B)
DESCRIPTION:
URL:https://www.ymcashoals.org/event/open-play-court-b-23/2026-04-19/
LOCATION:YMCA of the Shoals\, 2121 Helton Drive\, Florence\, AL\, 35630\, United States
CATEGORIES:Gym Courts A & B,Schedules
GEO:34.8324379;-87.6683435
X-APPLE-STRUCTURED-LOCATION;VALUE=URI;X-ADDRESS=YMCA of the Shoals 2121 Helton Drive Florence AL 35630 United States;X-APPLE-RADIUS=500;X-TITLE=2121 Helton Drive:geo:-87.6683435,34.8324379
END:VEVENT
BEGIN:VEVENT
DTSTART;TZID=America/Chicago:20260419T143000
DTEND;TZID=America/Chicago:20260419T153000
DTSTAMP:20260425T165820
CREATED:20241029T203137Z
LAST-MODIFIED:20241029T203137Z
UID:192755-1776609000-1776612600@www.ymcashoals.org
SUMMARY:Cardio Hip Hop (Ladarius)
DESCRIPTION:
URL:https://www.ymcashoals.org/event/cardio-hip-hop-ladarius-2/2026-04-19/
LOCATION:YMCA of the Shoals\, 2121 Helton Drive\, Florence\, AL\, 35630\, United States
CATEGORIES:Group Exercise (GXR),Schedules
GEO:34.8324379;-87.6683435
X-APPLE-STRUCTURED-LOCATION;VALUE=URI;X-ADDRESS=YMCA of the Shoals 2121 Helton Drive Florence AL 35630 United States;X-APPLE-RADIUS=500;X-TITLE=2121 Helton Drive:geo:-87.6683435,34.8324379
END:VEVENT
BEGIN:VEVENT
DTSTART;TZID=America/Chicago:20260420T050000
DTEND;TZID=America/Chicago:20260420T090000
DTSTAMP:20260425T165820
CREATED:20250530T134044Z
LAST-MODIFIED:20250530T134044Z
UID:183155-1776661200-1776675600@www.ymcashoals.org
SUMMARY:Open Play - Court B
DESCRIPTION:
URL:https://www.ymcashoals.org/event/open-play-court-b-4/2026-04-20/
LOCATION:YMCA of the Shoals\, 2121 Helton Drive\, Florence\, AL\, 35630\, United States
CATEGORIES:Gym Courts A & B,Schedules
GEO:34.8324379;-87.6683435
X-APPLE-STRUCTURED-LOCATION;VALUE=URI;X-ADDRESS=YMCA of the Shoals 2121 Helton Drive Florence AL 35630 United States;X-APPLE-RADIUS=500;X-TITLE=2121 Helton Drive:geo:-87.6683435,34.8324379
END:VEVENT
BEGIN:VEVENT
DTSTART;TZID=America/Chicago:20260420T050000
DTEND;TZID=America/Chicago:20260420T150000
DTSTAMP:20260425T165820
CREATED:20260106T212322Z
LAST-MODIFIED:20260106T212322Z
UID:194419-1776661200-1776697200@www.ymcashoals.org
SUMMARY:Open Play Court A
DESCRIPTION:
URL:https://www.ymcashoals.org/event/open-play-court-a-15/2026-04-20/
LOCATION:YMCA of the Shoals\, 2121 Helton Drive\, Florence\, AL\, 35630\, United States
CATEGORIES:Gym Courts A & B,Schedules
GEO:34.8324379;-87.6683435
X-APPLE-STRUCTURED-LOCATION;VALUE=URI;X-ADDRESS=YMCA of the Shoals 2121 Helton Drive Florence AL 35630 United States;X-APPLE-RADIUS=500;X-TITLE=2121 Helton Drive:geo:-87.6683435,34.8324379
END:VEVENT
BEGIN:VEVENT
DTSTART;TZID=America/Chicago:20260420T051500
DTEND;TZID=America/Chicago:20260420T060000
DTSTAMP:20260425T165820
CREATED:20240524T154629Z
LAST-MODIFIED:20240524T154629Z
UID:180562-1776662100-1776664800@www.ymcashoals.org
SUMMARY:Y Cycle (Sara)
DESCRIPTION:
URL:https://www.ymcashoals.org/event/y-cycle-sara-4/2026-04-20/
LOCATION:YMCA of the Shoals\, 2121 Helton Drive\, Florence\, AL\, 35630\, United States
CATEGORIES:Cycle Fusion (GXR2),Schedules
GEO:34.8324379;-87.6683435
X-APPLE-STRUCTURED-LOCATION;VALUE=URI;X-ADDRESS=YMCA of the Shoals 2121 Helton Drive Florence AL 35630 United States;X-APPLE-RADIUS=500;X-TITLE=2121 Helton Drive:geo:-87.6683435,34.8324379
END:VEVENT
BEGIN:VEVENT
DTSTART;TZID=America/Chicago:20260420T051500
DTEND;TZID=America/Chicago:20260420T060000
DTSTAMP:20260425T165820
CREATED:20250224T205113Z
LAST-MODIFIED:20250224T205113Z
UID:192119-1776662100-1776664800@www.ymcashoals.org
SUMMARY:Kickboxing (Kimberly)
DESCRIPTION:
URL:https://www.ymcashoals.org/event/kickboxing-elle/2026-04-20/
LOCATION:YMCA of the Shoals\, 2121 Helton Drive\, Florence\, AL\, 35630\, United States
CATEGORIES:Group Exercise (GXR),Schedules
GEO:34.8324379;-87.6683435
X-APPLE-STRUCTURED-LOCATION;VALUE=URI;X-ADDRESS=YMCA of the Shoals 2121 Helton Drive Florence AL 35630 United States;X-APPLE-RADIUS=500;X-TITLE=2121 Helton Drive:geo:-87.6683435,34.8324379
END:VEVENT
BEGIN:VEVENT
DTSTART;TZID=America/Chicago:20260420T053000
DTEND;TZID=America/Chicago:20260420T090000
DTSTAMP:20260425T165820
CREATED:20240829T194042Z
LAST-MODIFIED:20260109T141557Z
UID:180565-1776663000-1776675600@www.ymcashoals.org
SUMMARY:All 6 Lanes Available
DESCRIPTION:
URL:https://www.ymcashoals.org/event/all-6-lanes-available-8/2026-04-20/
LOCATION:YMCA of the Shoals\, 2121 Helton Drive\, Florence\, AL\, 35630\, United States
CATEGORIES:Lap Pool,Lap Pool Schedule,Schedules
GEO:34.8324379;-87.6683435
X-APPLE-STRUCTURED-LOCATION;VALUE=URI;X-ADDRESS=YMCA of the Shoals 2121 Helton Drive Florence AL 35630 United States;X-APPLE-RADIUS=500;X-TITLE=2121 Helton Drive:geo:-87.6683435,34.8324379
END:VEVENT
BEGIN:VEVENT
DTSTART;TZID=America/Chicago:20260420T073000
DTEND;TZID=America/Chicago:20260420T081500
DTSTAMP:20260425T165820
CREATED:20231004T205906Z
LAST-MODIFIED:20251202T233256Z
UID:191053-1776670200-1776672900@www.ymcashoals.org
SUMMARY:Joints in Motion (7:30)
DESCRIPTION:
URL:https://www.ymcashoals.org/event/joints-in-motion-2/2026-04-20/
LOCATION:YMCA of the Shoals\, 2121 Helton Drive\, Florence\, AL\, 35630\, United States
CATEGORIES:Leisure Pool Schedule,Schedules
GEO:34.8324379;-87.6683435
X-APPLE-STRUCTURED-LOCATION;VALUE=URI;X-ADDRESS=YMCA of the Shoals 2121 Helton Drive Florence AL 35630 United States;X-APPLE-RADIUS=500;X-TITLE=2121 Helton Drive:geo:-87.6683435,34.8324379
END:VEVENT
BEGIN:VEVENT
DTSTART;TZID=America/Chicago:20260420T081500
DTEND;TZID=America/Chicago:20260420T090000
DTSTAMP:20260425T165820
CREATED:20200527T202728Z
LAST-MODIFIED:20200527T202728Z
UID:192232-1776672900-1776675600@www.ymcashoals.org
SUMMARY:Y Dance (Leslie)
DESCRIPTION:
URL:https://www.ymcashoals.org/event/y-dance-leslie/2026-04-20/
LOCATION:YMCA of the Shoals\, 2121 Helton Drive\, Florence\, AL\, 35630\, United States
CATEGORIES:Group Exercise (GXR),Schedules
GEO:34.8324379;-87.6683435
X-APPLE-STRUCTURED-LOCATION;VALUE=URI;X-ADDRESS=YMCA of the Shoals 2121 Helton Drive Florence AL 35630 United States;X-APPLE-RADIUS=500;X-TITLE=2121 Helton Drive:geo:-87.6683435,34.8324379
END:VEVENT
BEGIN:VEVENT
DTSTART;TZID=America/Chicago:20260420T081500
DTEND;TZID=America/Chicago:20260420T090000
DTSTAMP:20260425T165820
CREATED:20250627T193706Z
LAST-MODIFIED:20250627T193706Z
UID:183418-1776672900-1776675600@www.ymcashoals.org
SUMMARY:Breathe & Bend (Jennifer)
DESCRIPTION:
URL:https://www.ymcashoals.org/event/breathe-bend-jennifer/2026-04-20/
LOCATION:YMCA of the Shoals\, 2121 Helton Drive\, Florence\, AL\, 35630\, United States
CATEGORIES:Schedules,Spirit/Mind/Body (GXR3)
GEO:34.8324379;-87.6683435
X-APPLE-STRUCTURED-LOCATION;VALUE=URI;X-ADDRESS=YMCA of the Shoals 2121 Helton Drive Florence AL 35630 United States;X-APPLE-RADIUS=500;X-TITLE=2121 Helton Drive:geo:-87.6683435,34.8324379
END:VEVENT
BEGIN:VEVENT
DTSTART;TZID=America/Chicago:20260420T083000
DTEND;TZID=America/Chicago:20260420T091500
DTSTAMP:20260425T165820
CREATED:20240829T190838Z
LAST-MODIFIED:20251130T040258Z
UID:180564-1776673800-1776676500@www.ymcashoals.org
SUMMARY:Joints in Motion (8:30am)
DESCRIPTION:
URL:https://www.ymcashoals.org/event/joints-in-motion-3/2026-04-20/
LOCATION:YMCA of the Shoals\, 2121 Helton Drive\, Florence\, AL\, 35630\, United States
CATEGORIES:Leisure Pool Schedule,Schedules
GEO:34.8324379;-87.6683435
X-APPLE-STRUCTURED-LOCATION;VALUE=URI;X-ADDRESS=YMCA of the Shoals 2121 Helton Drive Florence AL 35630 United States;X-APPLE-RADIUS=500;X-TITLE=2121 Helton Drive:geo:-87.6683435,34.8324379
END:VEVENT
BEGIN:VEVENT
DTSTART;TZID=America/Chicago:20260420T084500
DTEND;TZID=America/Chicago:20260420T093000
DTSTAMP:20260425T165820
CREATED:20221103T150618Z
LAST-MODIFIED:20251130T035053Z
UID:190084-1776674700-1776677400@www.ymcashoals.org
SUMMARY:Deep Water Joints in Motion
DESCRIPTION:
URL:https://www.ymcashoals.org/event/deep-water-joints-in-motion-jo/2026-04-20/
LOCATION:YMCA of the Shoals\, 2121 Helton Drive\, Florence\, AL\, 35630\, United States
CATEGORIES:Leisure Pool Schedule,Schedules
GEO:34.8324379;-87.6683435
X-APPLE-STRUCTURED-LOCATION;VALUE=URI;X-ADDRESS=YMCA of the Shoals 2121 Helton Drive Florence AL 35630 United States;X-APPLE-RADIUS=500;X-TITLE=2121 Helton Drive:geo:-87.6683435,34.8324379
END:VEVENT
BEGIN:VEVENT
DTSTART;TZID=America/Chicago:20260420T090000
DTEND;TZID=America/Chicago:20260420T100000
DTSTAMP:20260425T165820
CREATED:20210104T201024Z
LAST-MODIFIED:20210104T201024Z
UID:196843-1776675600-1776679200@www.ymcashoals.org
SUMMARY:Karate
DESCRIPTION:
URL:https://www.ymcashoals.org/event/karate/2026-04-20/
LOCATION:YMCA of the Shoals\, 2121 Helton Drive\, Florence\, AL\, 35630\, United States
CATEGORIES:Karate - Tang Soo Do,Schedules
GEO:34.8324379;-87.6683435
X-APPLE-STRUCTURED-LOCATION;VALUE=URI;X-ADDRESS=YMCA of the Shoals 2121 Helton Drive Florence AL 35630 United States;X-APPLE-RADIUS=500;X-TITLE=2121 Helton Drive:geo:-87.6683435,34.8324379
END:VEVENT
BEGIN:VEVENT
DTSTART;TZID=America/Chicago:20260420T090000
DTEND;TZID=America/Chicago:20260420T100000
DTSTAMP:20260425T165820
CREATED:20250530T134131Z
LAST-MODIFIED:20260107T141231Z
UID:183083-1776675600-1776679200@www.ymcashoals.org
SUMMARY:Karate (Court B)
DESCRIPTION:
URL:https://www.ymcashoals.org/event/karate-2/2026-04-20/
LOCATION:YMCA of the Shoals\, 2121 Helton Drive\, Florence\, AL\, 35630\, United States
CATEGORIES:Gym Courts A & B,Schedules
GEO:34.8324379;-87.6683435
X-APPLE-STRUCTURED-LOCATION;VALUE=URI;X-ADDRESS=YMCA of the Shoals 2121 Helton Drive Florence AL 35630 United States;X-APPLE-RADIUS=500;X-TITLE=2121 Helton Drive:geo:-87.6683435,34.8324379
END:VEVENT
BEGIN:VEVENT
DTSTART;TZID=America/Chicago:20260420T091000
DTEND;TZID=America/Chicago:20260420T095500
DTSTAMP:20260425T165820
CREATED:20230227T142651Z
LAST-MODIFIED:20230227T142651Z
UID:191536-1776676200-1776678900@www.ymcashoals.org
SUMMARY:Les Mills RPM (Lauren)
DESCRIPTION:
URL:https://www.ymcashoals.org/event/les-mills-rpm-katie/2026-04-20/
LOCATION:YMCA of the Shoals\, 2121 Helton Drive\, Florence\, AL\, 35630\, United States
CATEGORIES:Cycle Fusion (GXR2),Schedules
GEO:34.8324379;-87.6683435
X-APPLE-STRUCTURED-LOCATION;VALUE=URI;X-ADDRESS=YMCA of the Shoals 2121 Helton Drive Florence AL 35630 United States;X-APPLE-RADIUS=500;X-TITLE=2121 Helton Drive:geo:-87.6683435,34.8324379
END:VEVENT
BEGIN:VEVENT
DTSTART;TZID=America/Chicago:20260420T091000
DTEND;TZID=America/Chicago:20260420T100000
DTSTAMP:20260425T165820
CREATED:20250224T204815Z
LAST-MODIFIED:20250224T204815Z
UID:191737-1776676200-1776679200@www.ymcashoals.org
SUMMARY:Y Gold (Lana)
DESCRIPTION:
URL:https://www.ymcashoals.org/event/y-gold-marilyn-2/2026-04-20/
LOCATION:YMCA of the Shoals\, 2121 Helton Drive\, Florence\, AL\, 35630\, United States
CATEGORIES:Schedules,Spirit/Mind/Body (GXR3)
GEO:34.8324379;-87.6683435
X-APPLE-STRUCTURED-LOCATION;VALUE=URI;X-ADDRESS=YMCA of the Shoals 2121 Helton Drive Florence AL 35630 United States;X-APPLE-RADIUS=500;X-TITLE=2121 Helton Drive:geo:-87.6683435,34.8324379
END:VEVENT
BEGIN:VEVENT
DTSTART;TZID=America/Chicago:20260420T091000
DTEND;TZID=America/Chicago:20260420T100000
DTSTAMP:20260425T165820
CREATED:20260123T135158Z
LAST-MODIFIED:20260123T135158Z
UID:198492-1776676200-1776679200@www.ymcashoals.org
SUMMARY:Y Barre (Casey)
DESCRIPTION:
URL:https://www.ymcashoals.org/event/y-barre-casey/2026-04-20/
LOCATION:YMCA of the Shoals\, 2121 Helton Drive\, Florence\, AL\, 35630\, United States
CATEGORIES:Group Exercise (GXR),Schedules
GEO:34.8324379;-87.6683435
X-APPLE-STRUCTURED-LOCATION;VALUE=URI;X-ADDRESS=YMCA of the Shoals 2121 Helton Drive Florence AL 35630 United States;X-APPLE-RADIUS=500;X-TITLE=2121 Helton Drive:geo:-87.6683435,34.8324379
END:VEVENT
BEGIN:VEVENT
DTSTART;TZID=America/Chicago:20260420T091500
DTEND;TZID=America/Chicago:20260420T100000
DTSTAMP:20260425T165820
CREATED:20250806T155252Z
LAST-MODIFIED:20250806T155252Z
UID:189820-1776676500-1776679200@www.ymcashoals.org
SUMMARY:Water Workout
DESCRIPTION:2 lanes available
URL:https://www.ymcashoals.org/event/water-workout-4/2026-04-20/
LOCATION:YMCA of the Shoals\, 2121 Helton Drive\, Florence\, AL\, 35630\, United States
CATEGORIES:Lap Pool,Lap Pool Schedule,Schedules
GEO:34.8324379;-87.6683435
X-APPLE-STRUCTURED-LOCATION;VALUE=URI;X-ADDRESS=YMCA of the Shoals 2121 Helton Drive Florence AL 35630 United States;X-APPLE-RADIUS=500;X-TITLE=2121 Helton Drive:geo:-87.6683435,34.8324379
END:VEVENT
BEGIN:VEVENT
DTSTART;TZID=America/Chicago:20260420T100000
DTEND;TZID=America/Chicago:20260420T150000
DTSTAMP:20260425T165820
CREATED:20260106T210433Z
LAST-MODIFIED:20260106T210433Z
UID:192874-1776679200-1776697200@www.ymcashoals.org
SUMMARY:Open Play (Court B)
DESCRIPTION:
URL:https://www.ymcashoals.org/event/open-play-court-b-16/2026-04-20/
LOCATION:YMCA of the Shoals\, 2121 Helton Drive\, Florence\, AL\, 35630\, United States
CATEGORIES:Gym Courts A & B,Schedules
GEO:34.8324379;-87.6683435
X-APPLE-STRUCTURED-LOCATION;VALUE=URI;X-ADDRESS=YMCA of the Shoals 2121 Helton Drive Florence AL 35630 United States;X-APPLE-RADIUS=500;X-TITLE=2121 Helton Drive:geo:-87.6683435,34.8324379
END:VEVENT
BEGIN:VEVENT
DTSTART;TZID=America/Chicago:20260420T101000
DTEND;TZID=America/Chicago:20260420T110000
DTSTAMP:20260425T165820
CREATED:20250224T204900Z
LAST-MODIFIED:20250224T204900Z
UID:191826-1776679800-1776682800@www.ymcashoals.org
SUMMARY:Pilates (Julie)
DESCRIPTION:
URL:https://www.ymcashoals.org/event/pilates-julie/2026-04-20/
LOCATION:YMCA of the Shoals\, 2121 Helton Drive\, Florence\, AL\, 35630\, United States
CATEGORIES:Schedules,Spirit/Mind/Body (GXR3)
GEO:34.8324379;-87.6683435
X-APPLE-STRUCTURED-LOCATION;VALUE=URI;X-ADDRESS=YMCA of the Shoals 2121 Helton Drive Florence AL 35630 United States;X-APPLE-RADIUS=500;X-TITLE=2121 Helton Drive:geo:-87.6683435,34.8324379
END:VEVENT
BEGIN:VEVENT
DTSTART;TZID=America/Chicago:20260420T101000
DTEND;TZID=America/Chicago:20260420T110000
DTSTAMP:20260425T165820
CREATED:20250224T205431Z
LAST-MODIFIED:20260325T182524Z
UID:180567-1776679800-1776682800@www.ymcashoals.org
SUMMARY:Muscle Works (Teri)
DESCRIPTION:
URL:https://www.ymcashoals.org/event/muscle-works-teri-2/2026-04-20/
LOCATION:YMCA of the Shoals\, 2121 Helton Drive\, Florence\, AL\, 35630\, United States
CATEGORIES:Group Exercise (GXR),Schedules
GEO:34.8324379;-87.6683435
X-APPLE-STRUCTURED-LOCATION;VALUE=URI;X-ADDRESS=YMCA of the Shoals 2121 Helton Drive Florence AL 35630 United States;X-APPLE-RADIUS=500;X-TITLE=2121 Helton Drive:geo:-87.6683435,34.8324379
END:VEVENT
BEGIN:VEVENT
DTSTART;TZID=America/Chicago:20260420T101500
DTEND;TZID=America/Chicago:20260420T110000
DTSTAMP:20260425T165820
CREATED:20250806T155946Z
LAST-MODIFIED:20251130T033702Z
UID:189299-1776680100-1776682800@www.ymcashoals.org
SUMMARY:Working in the Deep
DESCRIPTION:2 lanes available
URL:https://www.ymcashoals.org/event/working-in-the-deep-6/2026-04-20/
LOCATION:YMCA of the Shoals\, 2121 Helton Drive\, Florence\, AL\, 35630\, United States
CATEGORIES:Lap Pool,Lap Pool Schedule,Schedules
GEO:34.8324379;-87.6683435
X-APPLE-STRUCTURED-LOCATION;VALUE=URI;X-ADDRESS=YMCA of the Shoals 2121 Helton Drive Florence AL 35630 United States;X-APPLE-RADIUS=500;X-TITLE=2121 Helton Drive:geo:-87.6683435,34.8324379
END:VEVENT
BEGIN:VEVENT
DTSTART;TZID=America/Chicago:20260420T110000
DTEND;TZID=America/Chicago:20260420T120000
DTSTAMP:20260425T165820
CREATED:20221103T151028Z
LAST-MODIFIED:20260107T031338Z
UID:196159-1776682800-1776686400@www.ymcashoals.org
SUMMARY:Volleyball Fun Aerobics Class
DESCRIPTION:A fun\, energetic class where participants are encouraged to promote the Y’s core values: Caring\, Honesty\, Respect and Responsibility through good sportsmanship and fair conduct for all.
URL:https://www.ymcashoals.org/event/volleyball-fun-aerobics-class-alisa/2026-04-20/
LOCATION:YMCA of the Shoals\, 2121 Helton Drive\, Florence\, AL\, 35630\, United States
CATEGORIES:Leisure Pool Schedule,Schedules
GEO:34.8324379;-87.6683435
X-APPLE-STRUCTURED-LOCATION;VALUE=URI;X-ADDRESS=YMCA of the Shoals 2121 Helton Drive Florence AL 35630 United States;X-APPLE-RADIUS=500;X-TITLE=2121 Helton Drive:geo:-87.6683435,34.8324379
END:VEVENT
BEGIN:VEVENT
DTSTART;TZID=America/Chicago:20260420T110000
DTEND;TZID=America/Chicago:20260420T123000
DTSTAMP:20260425T165820
CREATED:20250425T164620Z
LAST-MODIFIED:20250425T164620Z
UID:181365-1776682800-1776688200@www.ymcashoals.org
SUMMARY:Rock Steady (Sara)
DESCRIPTION:
URL:https://www.ymcashoals.org/event/rock-steady-sara/2026-04-20/
LOCATION:YMCA of the Shoals\, 2121 Helton Drive\, Florence\, AL\, 35630\, United States
CATEGORIES:Group Exercise (GXR),Schedules
GEO:34.8324379;-87.6683435
X-APPLE-STRUCTURED-LOCATION;VALUE=URI;X-ADDRESS=YMCA of the Shoals 2121 Helton Drive Florence AL 35630 United States;X-APPLE-RADIUS=500;X-TITLE=2121 Helton Drive:geo:-87.6683435,34.8324379
END:VEVENT
BEGIN:VEVENT
DTSTART;TZID=America/Chicago:20260420T112000
DTEND;TZID=America/Chicago:20260420T120500
DTSTAMP:20260425T165820
CREATED:20221128T211550Z
LAST-MODIFIED:20250806T181724Z
UID:180559-1776684000-1776686700@www.ymcashoals.org
SUMMARY:Strength In Chairs (Melissa)
DESCRIPTION:
URL:https://www.ymcashoals.org/event/strength-in-chairs-melissa-g/2026-04-20/
LOCATION:YMCA of the Shoals\, 2121 Helton Drive\, Florence\, AL\, 35630\, United States
CATEGORIES:Schedules,Spirit/Mind/Body (GXR3)
GEO:34.8324379;-87.6683435
X-APPLE-STRUCTURED-LOCATION;VALUE=URI;X-ADDRESS=YMCA of the Shoals 2121 Helton Drive Florence AL 35630 United States;X-APPLE-RADIUS=500;X-TITLE=2121 Helton Drive:geo:-87.6683435,34.8324379
END:VEVENT
BEGIN:VEVENT
DTSTART;TZID=America/Chicago:20260420T150000
DTEND;TZID=America/Chicago:20260420T154500
DTSTAMP:20260425T165820
CREATED:20260106T210545Z
LAST-MODIFIED:20260106T210545Z
UID:193188-1776697200-1776699900@www.ymcashoals.org
SUMMARY:BASC (Court B)
DESCRIPTION:
URL:https://www.ymcashoals.org/event/basc-court-b/2026-04-20/
LOCATION:YMCA of the Shoals\, 2121 Helton Drive\, Florence\, AL\, 35630\, United States
CATEGORIES:Gym Courts A & B,Schedules
GEO:34.8324379;-87.6683435
X-APPLE-STRUCTURED-LOCATION;VALUE=URI;X-ADDRESS=YMCA of the Shoals 2121 Helton Drive Florence AL 35630 United States;X-APPLE-RADIUS=500;X-TITLE=2121 Helton Drive:geo:-87.6683435,34.8324379
END:VEVENT
BEGIN:VEVENT
DTSTART;TZID=America/Chicago:20260420T150000
DTEND;TZID=America/Chicago:20260420T160000
DTSTAMP:20260425T165820
CREATED:20260106T212417Z
LAST-MODIFIED:20260106T212417Z
UID:194621-1776697200-1776700800@www.ymcashoals.org
SUMMARY:BASC Court A
DESCRIPTION:
URL:https://www.ymcashoals.org/event/basc-court-a/2026-04-20/
LOCATION:YMCA of the Shoals\, 2121 Helton Drive\, Florence\, AL\, 35630\, United States
CATEGORIES:Gym Courts A & B,Schedules
GEO:34.8324379;-87.6683435
X-APPLE-STRUCTURED-LOCATION;VALUE=URI;X-ADDRESS=YMCA of the Shoals 2121 Helton Drive Florence AL 35630 United States;X-APPLE-RADIUS=500;X-TITLE=2121 Helton Drive:geo:-87.6683435,34.8324379
END:VEVENT
END:VCALENDAR