BEGIN:VCALENDAR
VERSION:2.0
PRODID:-//YMCA of the Shoals - ECPv6.15.20//NONSGML v1.0//EN
CALSCALE:GREGORIAN
METHOD:PUBLISH
X-WR-CALNAME:YMCA of the Shoals
X-ORIGINAL-URL:https://www.ymcashoals.org
X-WR-CALDESC:Events for YMCA of the Shoals
REFRESH-INTERVAL;VALUE=DURATION:PT1H
X-Robots-Tag:noindex
X-PUBLISHED-TTL:PT1H
BEGIN:VTIMEZONE
TZID:America/Chicago
BEGIN:DAYLIGHT
TZOFFSETFROM:-0600
TZOFFSETTO:-0500
TZNAME:CDT
DTSTART:20250309T080000
END:DAYLIGHT
BEGIN:STANDARD
TZOFFSETFROM:-0500
TZOFFSETTO:-0600
TZNAME:CST
DTSTART:20251102T070000
END:STANDARD
BEGIN:DAYLIGHT
TZOFFSETFROM:-0600
TZOFFSETTO:-0500
TZNAME:CDT
DTSTART:20260308T080000
END:DAYLIGHT
BEGIN:STANDARD
TZOFFSETFROM:-0500
TZOFFSETTO:-0600
TZNAME:CST
DTSTART:20261101T070000
END:STANDARD
BEGIN:DAYLIGHT
TZOFFSETFROM:-0600
TZOFFSETTO:-0500
TZNAME:CDT
DTSTART:20270314T080000
END:DAYLIGHT
BEGIN:STANDARD
TZOFFSETFROM:-0500
TZOFFSETTO:-0600
TZNAME:CST
DTSTART:20271107T070000
END:STANDARD
END:VTIMEZONE
BEGIN:VEVENT
DTSTART;TZID=America/Chicago:20260413T091500
DTEND;TZID=America/Chicago:20260413T100000
DTSTAMP:20260425T080804
CREATED:20250806T155252Z
LAST-MODIFIED:20250806T155252Z
UID:189816-1776071700-1776074400@www.ymcashoals.org
SUMMARY:Water Workout
DESCRIPTION:2 lanes available
URL:https://www.ymcashoals.org/event/water-workout-4/2026-04-13/
LOCATION:YMCA of the Shoals\, 2121 Helton Drive\, Florence\, AL\, 35630\, United States
CATEGORIES:Lap Pool,Lap Pool Schedule,Schedules
GEO:34.8324379;-87.6683435
X-APPLE-STRUCTURED-LOCATION;VALUE=URI;X-ADDRESS=YMCA of the Shoals 2121 Helton Drive Florence AL 35630 United States;X-APPLE-RADIUS=500;X-TITLE=2121 Helton Drive:geo:-87.6683435,34.8324379
END:VEVENT
BEGIN:VEVENT
DTSTART;TZID=America/Chicago:20260413T100000
DTEND;TZID=America/Chicago:20260413T150000
DTSTAMP:20260425T080804
CREATED:20260106T210433Z
LAST-MODIFIED:20260106T210433Z
UID:192873-1776074400-1776092400@www.ymcashoals.org
SUMMARY:Open Play (Court B)
DESCRIPTION:
URL:https://www.ymcashoals.org/event/open-play-court-b-16/2026-04-13/
LOCATION:YMCA of the Shoals\, 2121 Helton Drive\, Florence\, AL\, 35630\, United States
CATEGORIES:Gym Courts A & B,Schedules
GEO:34.8324379;-87.6683435
X-APPLE-STRUCTURED-LOCATION;VALUE=URI;X-ADDRESS=YMCA of the Shoals 2121 Helton Drive Florence AL 35630 United States;X-APPLE-RADIUS=500;X-TITLE=2121 Helton Drive:geo:-87.6683435,34.8324379
END:VEVENT
BEGIN:VEVENT
DTSTART;TZID=America/Chicago:20260413T101000
DTEND;TZID=America/Chicago:20260413T110000
DTSTAMP:20260425T080804
CREATED:20250224T204900Z
LAST-MODIFIED:20250224T204900Z
UID:191825-1776075000-1776078000@www.ymcashoals.org
SUMMARY:Pilates (Julie)
DESCRIPTION:
URL:https://www.ymcashoals.org/event/pilates-julie/2026-04-13/
LOCATION:YMCA of the Shoals\, 2121 Helton Drive\, Florence\, AL\, 35630\, United States
CATEGORIES:Schedules,Spirit/Mind/Body (GXR3)
GEO:34.8324379;-87.6683435
X-APPLE-STRUCTURED-LOCATION;VALUE=URI;X-ADDRESS=YMCA of the Shoals 2121 Helton Drive Florence AL 35630 United States;X-APPLE-RADIUS=500;X-TITLE=2121 Helton Drive:geo:-87.6683435,34.8324379
END:VEVENT
BEGIN:VEVENT
DTSTART;TZID=America/Chicago:20260413T101000
DTEND;TZID=America/Chicago:20260413T110000
DTSTAMP:20260425T080804
CREATED:20250224T205431Z
LAST-MODIFIED:20260325T182524Z
UID:180525-1776075000-1776078000@www.ymcashoals.org
SUMMARY:Muscle Works (Teri)
DESCRIPTION:
URL:https://www.ymcashoals.org/event/muscle-works-teri-2/2026-04-13/
LOCATION:YMCA of the Shoals\, 2121 Helton Drive\, Florence\, AL\, 35630\, United States
CATEGORIES:Group Exercise (GXR),Schedules
GEO:34.8324379;-87.6683435
X-APPLE-STRUCTURED-LOCATION;VALUE=URI;X-ADDRESS=YMCA of the Shoals 2121 Helton Drive Florence AL 35630 United States;X-APPLE-RADIUS=500;X-TITLE=2121 Helton Drive:geo:-87.6683435,34.8324379
END:VEVENT
BEGIN:VEVENT
DTSTART;TZID=America/Chicago:20260413T101500
DTEND;TZID=America/Chicago:20260413T110000
DTSTAMP:20260425T080804
CREATED:20250806T155946Z
LAST-MODIFIED:20251130T033701Z
UID:189294-1776075300-1776078000@www.ymcashoals.org
SUMMARY:Working in the Deep
DESCRIPTION:2 lanes available
URL:https://www.ymcashoals.org/event/working-in-the-deep-6/2026-04-13/
LOCATION:YMCA of the Shoals\, 2121 Helton Drive\, Florence\, AL\, 35630\, United States
CATEGORIES:Lap Pool,Lap Pool Schedule,Schedules
GEO:34.8324379;-87.6683435
X-APPLE-STRUCTURED-LOCATION;VALUE=URI;X-ADDRESS=YMCA of the Shoals 2121 Helton Drive Florence AL 35630 United States;X-APPLE-RADIUS=500;X-TITLE=2121 Helton Drive:geo:-87.6683435,34.8324379
END:VEVENT
BEGIN:VEVENT
DTSTART;TZID=America/Chicago:20260413T110000
DTEND;TZID=America/Chicago:20260413T120000
DTSTAMP:20260425T080804
CREATED:20221103T151028Z
LAST-MODIFIED:20260107T031338Z
UID:196156-1776078000-1776081600@www.ymcashoals.org
SUMMARY:Volleyball Fun Aerobics Class
DESCRIPTION:A fun\, energetic class where participants are encouraged to promote the Y’s core values: Caring\, Honesty\, Respect and Responsibility through good sportsmanship and fair conduct for all.
URL:https://www.ymcashoals.org/event/volleyball-fun-aerobics-class-alisa/2026-04-13/
LOCATION:YMCA of the Shoals\, 2121 Helton Drive\, Florence\, AL\, 35630\, United States
CATEGORIES:Leisure Pool Schedule,Schedules
GEO:34.8324379;-87.6683435
X-APPLE-STRUCTURED-LOCATION;VALUE=URI;X-ADDRESS=YMCA of the Shoals 2121 Helton Drive Florence AL 35630 United States;X-APPLE-RADIUS=500;X-TITLE=2121 Helton Drive:geo:-87.6683435,34.8324379
END:VEVENT
BEGIN:VEVENT
DTSTART;TZID=America/Chicago:20260413T110000
DTEND;TZID=America/Chicago:20260413T123000
DTSTAMP:20260425T080804
CREATED:20250425T164620Z
LAST-MODIFIED:20250425T164620Z
UID:181363-1776078000-1776083400@www.ymcashoals.org
SUMMARY:Rock Steady (Sara)
DESCRIPTION:
URL:https://www.ymcashoals.org/event/rock-steady-sara/2026-04-13/
LOCATION:YMCA of the Shoals\, 2121 Helton Drive\, Florence\, AL\, 35630\, United States
CATEGORIES:Group Exercise (GXR),Schedules
GEO:34.8324379;-87.6683435
X-APPLE-STRUCTURED-LOCATION;VALUE=URI;X-ADDRESS=YMCA of the Shoals 2121 Helton Drive Florence AL 35630 United States;X-APPLE-RADIUS=500;X-TITLE=2121 Helton Drive:geo:-87.6683435,34.8324379
END:VEVENT
BEGIN:VEVENT
DTSTART;TZID=America/Chicago:20260413T112000
DTEND;TZID=America/Chicago:20260413T120500
DTSTAMP:20260425T080804
CREATED:20221128T211550Z
LAST-MODIFIED:20250806T181724Z
UID:180517-1776079200-1776081900@www.ymcashoals.org
SUMMARY:Strength In Chairs (Melissa)
DESCRIPTION:
URL:https://www.ymcashoals.org/event/strength-in-chairs-melissa-g/2026-04-13/
LOCATION:YMCA of the Shoals\, 2121 Helton Drive\, Florence\, AL\, 35630\, United States
CATEGORIES:Schedules,Spirit/Mind/Body (GXR3)
GEO:34.8324379;-87.6683435
X-APPLE-STRUCTURED-LOCATION;VALUE=URI;X-ADDRESS=YMCA of the Shoals 2121 Helton Drive Florence AL 35630 United States;X-APPLE-RADIUS=500;X-TITLE=2121 Helton Drive:geo:-87.6683435,34.8324379
END:VEVENT
BEGIN:VEVENT
DTSTART;TZID=America/Chicago:20260413T150000
DTEND;TZID=America/Chicago:20260413T154500
DTSTAMP:20260425T080804
CREATED:20260106T210545Z
LAST-MODIFIED:20260106T210545Z
UID:193185-1776092400-1776095100@www.ymcashoals.org
SUMMARY:BASC (Court B)
DESCRIPTION:
URL:https://www.ymcashoals.org/event/basc-court-b/2026-04-13/
LOCATION:YMCA of the Shoals\, 2121 Helton Drive\, Florence\, AL\, 35630\, United States
CATEGORIES:Gym Courts A & B,Schedules
GEO:34.8324379;-87.6683435
X-APPLE-STRUCTURED-LOCATION;VALUE=URI;X-ADDRESS=YMCA of the Shoals 2121 Helton Drive Florence AL 35630 United States;X-APPLE-RADIUS=500;X-TITLE=2121 Helton Drive:geo:-87.6683435,34.8324379
END:VEVENT
BEGIN:VEVENT
DTSTART;TZID=America/Chicago:20260413T150000
DTEND;TZID=America/Chicago:20260413T160000
DTSTAMP:20260425T080804
CREATED:20260106T212417Z
LAST-MODIFIED:20260106T212417Z
UID:194616-1776092400-1776096000@www.ymcashoals.org
SUMMARY:BASC Court A
DESCRIPTION:
URL:https://www.ymcashoals.org/event/basc-court-a/2026-04-13/
LOCATION:YMCA of the Shoals\, 2121 Helton Drive\, Florence\, AL\, 35630\, United States
CATEGORIES:Gym Courts A & B,Schedules
GEO:34.8324379;-87.6683435
X-APPLE-STRUCTURED-LOCATION;VALUE=URI;X-ADDRESS=YMCA of the Shoals 2121 Helton Drive Florence AL 35630 United States;X-APPLE-RADIUS=500;X-TITLE=2121 Helton Drive:geo:-87.6683435,34.8324379
END:VEVENT
BEGIN:VEVENT
DTSTART;TZID=America/Chicago:20260413T153000
DTEND;TZID=America/Chicago:20260413T170000
DTSTAMP:20260425T080804
CREATED:20240829T204246Z
LAST-MODIFIED:20240829T204246Z
UID:195806-1776094200-1776099600@www.ymcashoals.org
SUMMARY:Shoals Swim Club
DESCRIPTION:4 Lanes Available
URL:https://www.ymcashoals.org/event/shoals-swim-club-2/2026-04-13/
LOCATION:YMCA of the Shoals\, 2121 Helton Drive\, Florence\, AL\, 35630\, United States
CATEGORIES:Lap Pool,Lap Pool Schedule,Schedules
GEO:34.8324379;-87.6683435
X-APPLE-STRUCTURED-LOCATION;VALUE=URI;X-ADDRESS=YMCA of the Shoals 2121 Helton Drive Florence AL 35630 United States;X-APPLE-RADIUS=500;X-TITLE=2121 Helton Drive:geo:-87.6683435,34.8324379
END:VEVENT
BEGIN:VEVENT
DTSTART;TZID=America/Chicago:20260413T160000
DTEND;TZID=America/Chicago:20260413T204500
DTSTAMP:20260425T080804
CREATED:20260106T212515Z
LAST-MODIFIED:20260106T212515Z
UID:194840-1776096000-1776113100@www.ymcashoals.org
SUMMARY:Open Play Court A
DESCRIPTION:
URL:https://www.ymcashoals.org/event/open-play-court-a-16/2026-04-13/
LOCATION:YMCA of the Shoals\, 2121 Helton Drive\, Florence\, AL\, 35630\, United States
CATEGORIES:Gym Courts A & B,Schedules
GEO:34.8324379;-87.6683435
X-APPLE-STRUCTURED-LOCATION;VALUE=URI;X-ADDRESS=YMCA of the Shoals 2121 Helton Drive Florence AL 35630 United States;X-APPLE-RADIUS=500;X-TITLE=2121 Helton Drive:geo:-87.6683435,34.8324379
END:VEVENT
BEGIN:VEVENT
DTSTART;TZID=America/Chicago:20260413T161500
DTEND;TZID=America/Chicago:20260413T170000
DTSTAMP:20260425T080804
CREATED:20210330T134516Z
LAST-MODIFIED:20210330T134516Z
UID:180516-1776096900-1776099600@www.ymcashoals.org
SUMMARY:Muscle Works (Emilie)
DESCRIPTION:
URL:https://www.ymcashoals.org/event/muscle-works-emilie/2026-04-13/
LOCATION:YMCA of the Shoals\, 2121 Helton Drive\, Florence\, AL\, 35630\, United States
CATEGORIES:Group Exercise (GXR),Schedules
GEO:34.8324379;-87.6683435
X-APPLE-STRUCTURED-LOCATION;VALUE=URI;X-ADDRESS=YMCA of the Shoals 2121 Helton Drive Florence AL 35630 United States;X-APPLE-RADIUS=500;X-TITLE=2121 Helton Drive:geo:-87.6683435,34.8324379
END:VEVENT
BEGIN:VEVENT
DTSTART;TZID=America/Chicago:20260413T163000
DTEND;TZID=America/Chicago:20260413T173000
DTSTAMP:20260425T080804
CREATED:20220201T142504Z
LAST-MODIFIED:20220201T142504Z
UID:197288-1776097800-1776101400@www.ymcashoals.org
SUMMARY:Child Karate
DESCRIPTION:
URL:https://www.ymcashoals.org/event/child-karate-2/2026-04-13/
LOCATION:YMCA of the Shoals\, 2121 Helton Drive\, Florence\, AL\, 35630\, United States
CATEGORIES:Karate - Tang Soo Do,Schedules
GEO:34.8324379;-87.6683435
X-APPLE-STRUCTURED-LOCATION;VALUE=URI;X-ADDRESS=YMCA of the Shoals 2121 Helton Drive Florence AL 35630 United States;X-APPLE-RADIUS=500;X-TITLE=2121 Helton Drive:geo:-87.6683435,34.8324379
END:VEVENT
BEGIN:VEVENT
DTSTART;TZID=America/Chicago:20260413T163000
DTEND;TZID=America/Chicago:20260413T203000
DTSTAMP:20260425T080804
CREATED:20250530T134432Z
LAST-MODIFIED:20250530T134432Z
UID:183019-1776097800-1776112200@www.ymcashoals.org
SUMMARY:Karate - Court B
DESCRIPTION:
URL:https://www.ymcashoals.org/event/karate-court-b-3/2026-04-13/
LOCATION:YMCA of the Shoals\, 2121 Helton Drive\, Florence\, AL\, 35630\, United States
CATEGORIES:Gym Courts A & B,Schedules
GEO:34.8324379;-87.6683435
X-APPLE-STRUCTURED-LOCATION;VALUE=URI;X-ADDRESS=YMCA of the Shoals 2121 Helton Drive Florence AL 35630 United States;X-APPLE-RADIUS=500;X-TITLE=2121 Helton Drive:geo:-87.6683435,34.8324379
END:VEVENT
BEGIN:VEVENT
DTSTART;TZID=America/Chicago:20260413T171500
DTEND;TZID=America/Chicago:20260413T180500
DTSTAMP:20260425T080804
CREATED:20240219T164805Z
LAST-MODIFIED:20240219T164805Z
UID:188492-1776100500-1776103500@www.ymcashoals.org
SUMMARY:Porpoise Club (Advanced) Level 5-6
DESCRIPTION:Introduces students to breaststroke and butterfly and reinforces water safety through treading water and sidestroke. Students will refine stroke technique on all major competitive strokes\, learn to dive and to flip turn\, in order to prepare for swim team or any future swimming endeavors. \nParticipants MUST pass lap pool swim test prior to registering. (Acquired red band)
URL:https://www.ymcashoals.org/event/porpoise-club-advanced-level-5-6/2026-04-13/
LOCATION:YMCA of the Shoals\, 2121 Helton Drive\, Florence\, AL\, 35630\, United States
CATEGORIES:Lap Pool,Lap Pool Schedule,Schedules,Swim Lessons
GEO:34.8324379;-87.6683435
X-APPLE-STRUCTURED-LOCATION;VALUE=URI;X-ADDRESS=YMCA of the Shoals 2121 Helton Drive Florence AL 35630 United States;X-APPLE-RADIUS=500;X-TITLE=2121 Helton Drive:geo:-87.6683435,34.8324379
END:VEVENT
BEGIN:VEVENT
DTSTART;TZID=America/Chicago:20260413T173000
DTEND;TZID=America/Chicago:20260413T181000
DTSTAMP:20260425T080804
CREATED:20260107T025818Z
LAST-MODIFIED:20260107T025818Z
UID:195849-1776101400-1776103800@www.ymcashoals.org
SUMMARY:After Work Water Workout
DESCRIPTION:2 Lanes available
URL:https://www.ymcashoals.org/event/after-work-water-workout/2026-04-13/
LOCATION:YMCA of the Shoals\, 2121 Helton Drive\, Florence\, AL\, 35630\, United States
CATEGORIES:Lap Pool,Lap Pool Schedule,Schedules
GEO:34.8324379;-87.6683435
X-APPLE-STRUCTURED-LOCATION;VALUE=URI;X-ADDRESS=YMCA of the Shoals 2121 Helton Drive Florence AL 35630 United States;X-APPLE-RADIUS=500;X-TITLE=2121 Helton Drive:geo:-87.6683435,34.8324379
END:VEVENT
BEGIN:VEVENT
DTSTART;TZID=America/Chicago:20260413T173000
DTEND;TZID=America/Chicago:20260413T183000
DTSTAMP:20260425T080804
CREATED:20230501T192544Z
LAST-MODIFIED:20250806T181533Z
UID:180518-1776101400-1776105000@www.ymcashoals.org
SUMMARY:Y Yoga (Connie)
DESCRIPTION:
URL:https://www.ymcashoals.org/event/y-yoga-kayla/2026-04-13/
LOCATION:YMCA of the Shoals\, 2121 Helton Drive\, Florence\, AL\, 35630\, United States
CATEGORIES:Schedules,Spirit/Mind/Body (GXR3)
GEO:34.8324379;-87.6683435
X-APPLE-STRUCTURED-LOCATION;VALUE=URI;X-ADDRESS=YMCA of the Shoals 2121 Helton Drive Florence AL 35630 United States;X-APPLE-RADIUS=500;X-TITLE=2121 Helton Drive:geo:-87.6683435,34.8324379
END:VEVENT
BEGIN:VEVENT
DTSTART;TZID=America/Chicago:20260413T173000
DTEND;TZID=America/Chicago:20260413T183000
DTSTAMP:20260425T080804
CREATED:20240725T202653Z
LAST-MODIFIED:20240725T202653Z
UID:180521-1776101400-1776105000@www.ymcashoals.org
SUMMARY:Les Mills RPM+CORE (Melissa H.)
DESCRIPTION:
URL:https://www.ymcashoals.org/event/les-mills-rpmcore-melissa-h/2026-04-13/
LOCATION:YMCA of the Shoals\, 2121 Helton Drive\, Florence\, AL\, 35630\, United States
CATEGORIES:Cycle Fusion (GXR2),Schedules
GEO:34.8324379;-87.6683435
X-APPLE-STRUCTURED-LOCATION;VALUE=URI;X-ADDRESS=YMCA of the Shoals 2121 Helton Drive Florence AL 35630 United States;X-APPLE-RADIUS=500;X-TITLE=2121 Helton Drive:geo:-87.6683435,34.8324379
END:VEVENT
BEGIN:VEVENT
DTSTART;TZID=America/Chicago:20260413T173000
DTEND;TZID=America/Chicago:20260413T183000
DTSTAMP:20260425T080804
CREATED:20241029T202516Z
LAST-MODIFIED:20241029T202516Z
UID:192607-1776101400-1776105000@www.ymcashoals.org
SUMMARY:Cardio Hip Hop (Ladarius)
DESCRIPTION:
URL:https://www.ymcashoals.org/event/cardio-hip-hop-ladarius-4/2026-04-13/
LOCATION:YMCA of the Shoals\, 2121 Helton Drive\, Florence\, AL\, 35630\, United States
CATEGORIES:Group Exercise (GXR),Schedules
GEO:34.8324379;-87.6683435
X-APPLE-STRUCTURED-LOCATION;VALUE=URI;X-ADDRESS=YMCA of the Shoals 2121 Helton Drive Florence AL 35630 United States;X-APPLE-RADIUS=500;X-TITLE=2121 Helton Drive:geo:-87.6683435,34.8324379
END:VEVENT
BEGIN:VEVENT
DTSTART;TZID=America/Chicago:20260413T181500
DTEND;TZID=America/Chicago:20260413T193000
DTSTAMP:20260425T080804
CREATED:20220201T142626Z
LAST-MODIFIED:20220201T142626Z
UID:196607-1776104100-1776108600@www.ymcashoals.org
SUMMARY:Adult Karate
DESCRIPTION:
URL:https://www.ymcashoals.org/event/adult-karate-3/2026-04-13/
LOCATION:YMCA of the Shoals\, 2121 Helton Drive\, Florence\, AL\, 35630\, United States
CATEGORIES:Karate - Tang Soo Do,Schedules
GEO:34.8324379;-87.6683435
X-APPLE-STRUCTURED-LOCATION;VALUE=URI;X-ADDRESS=YMCA of the Shoals 2121 Helton Drive Florence AL 35630 United States;X-APPLE-RADIUS=500;X-TITLE=2121 Helton Drive:geo:-87.6683435,34.8324379
END:VEVENT
BEGIN:VEVENT
DTSTART;TZID=America/Chicago:20260413T183000
DTEND;TZID=America/Chicago:20260413T200000
DTSTAMP:20260425T080804
CREATED:20250828T020555Z
LAST-MODIFIED:20260107T030251Z
UID:195977-1776105000-1776110400@www.ymcashoals.org
SUMMARY:UNA Swim Club
DESCRIPTION:2 lanes available
URL:https://www.ymcashoals.org/event/una-swim-club/2026-04-13/
LOCATION:YMCA of the Shoals\, 2121 Helton Drive\, Florence\, AL\, 35630\, United States
CATEGORIES:Lap Pool,Lap Pool Schedule,Schedules
GEO:34.8324379;-87.6683435
X-APPLE-STRUCTURED-LOCATION;VALUE=URI;X-ADDRESS=YMCA of the Shoals 2121 Helton Drive Florence AL 35630 United States;X-APPLE-RADIUS=500;X-TITLE=2121 Helton Drive:geo:-87.6683435,34.8324379
END:VEVENT
BEGIN:VEVENT
DTSTART;TZID=America/Chicago:20260413T203000
DTEND;TZID=America/Chicago:20260413T210000
DTSTAMP:20260425T080804
CREATED:20260106T210635Z
LAST-MODIFIED:20260106T210635Z
UID:193340-1776112200-1776114000@www.ymcashoals.org
SUMMARY:Open Play (Court B)
DESCRIPTION:
URL:https://www.ymcashoals.org/event/open-play-court-b-17/2026-04-13/
LOCATION:YMCA of the Shoals\, 2121 Helton Drive\, Florence\, AL\, 35630\, United States
CATEGORIES:Gym Courts A & B,Schedules
GEO:34.8324379;-87.6683435
X-APPLE-STRUCTURED-LOCATION;VALUE=URI;X-ADDRESS=YMCA of the Shoals 2121 Helton Drive Florence AL 35630 United States;X-APPLE-RADIUS=500;X-TITLE=2121 Helton Drive:geo:-87.6683435,34.8324379
END:VEVENT
BEGIN:VEVENT
DTSTART;TZID=America/Chicago:20260414T050000
DTEND;TZID=America/Chicago:20260414T080000
DTSTAMP:20260425T080804
CREATED:20250530T134527Z
LAST-MODIFIED:20250530T134527Z
UID:182700-1776142800-1776153600@www.ymcashoals.org
SUMMARY:Open Play - Court B
DESCRIPTION:
URL:https://www.ymcashoals.org/event/open-play-court-b-9/2026-04-14/
LOCATION:YMCA of the Shoals\, 2121 Helton Drive\, Florence\, AL\, 35630\, United States
CATEGORIES:Gym Courts A & B,Schedules
GEO:34.8324379;-87.6683435
X-APPLE-STRUCTURED-LOCATION;VALUE=URI;X-ADDRESS=YMCA of the Shoals 2121 Helton Drive Florence AL 35630 United States;X-APPLE-RADIUS=500;X-TITLE=2121 Helton Drive:geo:-87.6683435,34.8324379
END:VEVENT
BEGIN:VEVENT
DTSTART;TZID=America/Chicago:20260414T050000
DTEND;TZID=America/Chicago:20260414T100000
DTSTAMP:20260425T080804
CREATED:20260106T212627Z
LAST-MODIFIED:20260106T212627Z
UID:194998-1776142800-1776160800@www.ymcashoals.org
SUMMARY:Open Play Court A
DESCRIPTION:
URL:https://www.ymcashoals.org/event/open-play-court-a-17/2026-04-14/
LOCATION:YMCA of the Shoals\, 2121 Helton Drive\, Florence\, AL\, 35630\, United States
CATEGORIES:Gym Courts A & B,Schedules
GEO:34.8324379;-87.6683435
X-APPLE-STRUCTURED-LOCATION;VALUE=URI;X-ADDRESS=YMCA of the Shoals 2121 Helton Drive Florence AL 35630 United States;X-APPLE-RADIUS=500;X-TITLE=2121 Helton Drive:geo:-87.6683435,34.8324379
END:VEVENT
BEGIN:VEVENT
DTSTART;TZID=America/Chicago:20260414T051500
DTEND;TZID=America/Chicago:20260414T060000
DTSTAMP:20260425T080804
CREATED:20201104T172041Z
LAST-MODIFIED:20201104T172041Z
UID:180526-1776143700-1776146400@www.ymcashoals.org
SUMMARY:Muscle Works (Lisa)
DESCRIPTION:
URL:https://www.ymcashoals.org/event/muscle-works-colette/2026-04-14/
LOCATION:YMCA of the Shoals\, 2121 Helton Drive\, Florence\, AL\, 35630\, United States
CATEGORIES:Group Exercise (GXR),Schedules
GEO:34.8324379;-87.6683435
X-APPLE-STRUCTURED-LOCATION;VALUE=URI;X-ADDRESS=YMCA of the Shoals 2121 Helton Drive Florence AL 35630 United States;X-APPLE-RADIUS=500;X-TITLE=2121 Helton Drive:geo:-87.6683435,34.8324379
END:VEVENT
BEGIN:VEVENT
DTSTART;TZID=America/Chicago:20260414T053000
DTEND;TZID=America/Chicago:20260414T090000
DTSTAMP:20260425T080804
CREATED:20240829T194042Z
LAST-MODIFIED:20260109T141557Z
UID:180531-1776144600-1776157200@www.ymcashoals.org
SUMMARY:All 6 Lanes Available
DESCRIPTION:
URL:https://www.ymcashoals.org/event/all-6-lanes-available-8/2026-04-14/
LOCATION:YMCA of the Shoals\, 2121 Helton Drive\, Florence\, AL\, 35630\, United States
CATEGORIES:Lap Pool,Lap Pool Schedule,Schedules
GEO:34.8324379;-87.6683435
X-APPLE-STRUCTURED-LOCATION;VALUE=URI;X-ADDRESS=YMCA of the Shoals 2121 Helton Drive Florence AL 35630 United States;X-APPLE-RADIUS=500;X-TITLE=2121 Helton Drive:geo:-87.6683435,34.8324379
END:VEVENT
BEGIN:VEVENT
DTSTART;TZID=America/Chicago:20260414T080000
DTEND;TZID=America/Chicago:20260414T085000
DTSTAMP:20260425T080804
CREATED:20230227T143730Z
LAST-MODIFIED:20230227T143730Z
UID:199368-1776153600-1776156600@www.ymcashoals.org
SUMMARY:Step & Strength (Angela V.)
DESCRIPTION:
URL:https://www.ymcashoals.org/event/fusion-fit-angela-v/2026-04-14/
LOCATION:YMCA of the Shoals\, 2121 Helton Drive\, Florence\, AL\, 35630\, United States
CATEGORIES:Schedules,Spirit/Mind/Body (GXR3)
GEO:34.8324379;-87.6683435
X-APPLE-STRUCTURED-LOCATION;VALUE=URI;X-ADDRESS=YMCA of the Shoals 2121 Helton Drive Florence AL 35630 United States;X-APPLE-RADIUS=500;X-TITLE=2121 Helton Drive:geo:-87.6683435,34.8324379
END:VEVENT
BEGIN:VEVENT
DTSTART;TZID=America/Chicago:20260414T080000
DTEND;TZID=America/Chicago:20260414T085000
DTSTAMP:20260425T080804
CREATED:20230227T143730Z
LAST-MODIFIED:20230227T143730Z
UID:200025-1776153600-1776156600@www.ymcashoals.org
SUMMARY:Step & Strength (Angela V.)
DESCRIPTION:
URL:https://www.ymcashoals.org/event/fusion-fit-angela-v/2026-04-14/
LOCATION:YMCA of the Shoals\, 2121 Helton Drive\, Florence\, AL\, 35630\, United States
CATEGORIES:Schedules,Spirit/Mind/Body (GXR3)
GEO:34.8324379;-87.6683435
X-APPLE-STRUCTURED-LOCATION;VALUE=URI;X-ADDRESS=YMCA of the Shoals 2121 Helton Drive Florence AL 35630 United States;X-APPLE-RADIUS=500;X-TITLE=2121 Helton Drive:geo:-87.6683435,34.8324379
END:VEVENT
BEGIN:VEVENT
DTSTART;TZID=America/Chicago:20260414T080000
DTEND;TZID=America/Chicago:20260414T100000
DTSTAMP:20260425T080804
CREATED:20250530T134642Z
LAST-MODIFIED:20250530T134642Z
UID:182813-1776153600-1776160800@www.ymcashoals.org
SUMMARY:Rock Steady Boxing - Court B
DESCRIPTION:
URL:https://www.ymcashoals.org/event/rock-steady-boxing-court-b-2/2026-04-14/
LOCATION:YMCA of the Shoals\, 2121 Helton Drive\, Florence\, AL\, 35630\, United States
CATEGORIES:Gym Courts A & B,Schedules
GEO:34.8324379;-87.6683435
X-APPLE-STRUCTURED-LOCATION;VALUE=URI;X-ADDRESS=YMCA of the Shoals 2121 Helton Drive Florence AL 35630 United States;X-APPLE-RADIUS=500;X-TITLE=2121 Helton Drive:geo:-87.6683435,34.8324379
END:VEVENT
END:VCALENDAR