BEGIN:VCALENDAR
VERSION:2.0
PRODID:-//YMCA of the Shoals - ECPv6.15.20//NONSGML v1.0//EN
CALSCALE:GREGORIAN
METHOD:PUBLISH
X-WR-CALNAME:YMCA of the Shoals
X-ORIGINAL-URL:https://www.ymcashoals.org
X-WR-CALDESC:Events for YMCA of the Shoals
REFRESH-INTERVAL;VALUE=DURATION:PT1H
X-Robots-Tag:noindex
X-PUBLISHED-TTL:PT1H
BEGIN:VTIMEZONE
TZID:America/Chicago
BEGIN:DAYLIGHT
TZOFFSETFROM:-0600
TZOFFSETTO:-0500
TZNAME:CDT
DTSTART:20250309T080000
END:DAYLIGHT
BEGIN:STANDARD
TZOFFSETFROM:-0500
TZOFFSETTO:-0600
TZNAME:CST
DTSTART:20251102T070000
END:STANDARD
BEGIN:DAYLIGHT
TZOFFSETFROM:-0600
TZOFFSETTO:-0500
TZNAME:CDT
DTSTART:20260308T080000
END:DAYLIGHT
BEGIN:STANDARD
TZOFFSETFROM:-0500
TZOFFSETTO:-0600
TZNAME:CST
DTSTART:20261101T070000
END:STANDARD
BEGIN:DAYLIGHT
TZOFFSETFROM:-0600
TZOFFSETTO:-0500
TZNAME:CDT
DTSTART:20270314T080000
END:DAYLIGHT
BEGIN:STANDARD
TZOFFSETFROM:-0500
TZOFFSETTO:-0600
TZNAME:CST
DTSTART:20271107T070000
END:STANDARD
END:VTIMEZONE
BEGIN:VEVENT
DTSTART;TZID=America/Chicago:20260921T100000
DTEND;TZID=America/Chicago:20260921T150000
DTSTAMP:20260425T075546
CREATED:20260106T210433Z
LAST-MODIFIED:20260106T210433Z
UID:192896-1789984800-1790002800@www.ymcashoals.org
SUMMARY:Open Play (Court B)
DESCRIPTION:
URL:https://www.ymcashoals.org/event/open-play-court-b-16/2026-09-21/
LOCATION:YMCA of the Shoals\, 2121 Helton Drive\, Florence\, AL\, 35630\, United States
CATEGORIES:Gym Courts A & B,Schedules
GEO:34.8324379;-87.6683435
X-APPLE-STRUCTURED-LOCATION;VALUE=URI;X-ADDRESS=YMCA of the Shoals 2121 Helton Drive Florence AL 35630 United States;X-APPLE-RADIUS=500;X-TITLE=2121 Helton Drive:geo:-87.6683435,34.8324379
END:VEVENT
BEGIN:VEVENT
DTSTART;TZID=America/Chicago:20260921T101000
DTEND;TZID=America/Chicago:20260921T110000
DTSTAMP:20260425T075546
CREATED:20250224T204900Z
LAST-MODIFIED:20250224T204900Z
UID:191848-1789985400-1789988400@www.ymcashoals.org
SUMMARY:Pilates (Julie)
DESCRIPTION:
URL:https://www.ymcashoals.org/event/pilates-julie/2026-09-21/
LOCATION:YMCA of the Shoals\, 2121 Helton Drive\, Florence\, AL\, 35630\, United States
CATEGORIES:Schedules,Spirit/Mind/Body (GXR3)
GEO:34.8324379;-87.6683435
X-APPLE-STRUCTURED-LOCATION;VALUE=URI;X-ADDRESS=YMCA of the Shoals 2121 Helton Drive Florence AL 35630 United States;X-APPLE-RADIUS=500;X-TITLE=2121 Helton Drive:geo:-87.6683435,34.8324379
END:VEVENT
BEGIN:VEVENT
DTSTART;TZID=America/Chicago:20260921T101000
DTEND;TZID=America/Chicago:20260921T110000
DTSTAMP:20260425T075546
CREATED:20250224T205431Z
LAST-MODIFIED:20260325T182527Z
UID:186709-1789985400-1789988400@www.ymcashoals.org
SUMMARY:Muscle Works (Teri)
DESCRIPTION:
URL:https://www.ymcashoals.org/event/muscle-works-teri-2/2026-09-21/
LOCATION:YMCA of the Shoals\, 2121 Helton Drive\, Florence\, AL\, 35630\, United States
CATEGORIES:Group Exercise (GXR),Schedules
GEO:34.8324379;-87.6683435
X-APPLE-STRUCTURED-LOCATION;VALUE=URI;X-ADDRESS=YMCA of the Shoals 2121 Helton Drive Florence AL 35630 United States;X-APPLE-RADIUS=500;X-TITLE=2121 Helton Drive:geo:-87.6683435,34.8324379
END:VEVENT
BEGIN:VEVENT
DTSTART;TZID=America/Chicago:20260921T101500
DTEND;TZID=America/Chicago:20260921T110000
DTSTAMP:20260425T075546
CREATED:20250806T155946Z
LAST-MODIFIED:20251130T033709Z
UID:186713-1789985700-1789988400@www.ymcashoals.org
SUMMARY:Working in the Deep
DESCRIPTION:2 lanes available
URL:https://www.ymcashoals.org/event/working-in-the-deep-6/2026-09-21/
LOCATION:YMCA of the Shoals\, 2121 Helton Drive\, Florence\, AL\, 35630\, United States
CATEGORIES:Lap Pool,Lap Pool Schedule,Schedules
GEO:34.8324379;-87.6683435
X-APPLE-STRUCTURED-LOCATION;VALUE=URI;X-ADDRESS=YMCA of the Shoals 2121 Helton Drive Florence AL 35630 United States;X-APPLE-RADIUS=500;X-TITLE=2121 Helton Drive:geo:-87.6683435,34.8324379
END:VEVENT
BEGIN:VEVENT
DTSTART;TZID=America/Chicago:20260921T103000
DTEND;TZID=America/Chicago:20260921T103000
DTSTAMP:20260425T075546
CREATED:20250425T163255Z
LAST-MODIFIED:20250425T163255Z
UID:186710-1789986600-1789986600@www.ymcashoals.org
SUMMARY:Rock Steady Cycle (Steve)
DESCRIPTION:
URL:https://www.ymcashoals.org/event/rock-steady-cycle-steve/2026-09-21/
LOCATION:YMCA of the Shoals\, 2121 Helton Drive\, Florence\, AL\, 35630\, United States
CATEGORIES:Cycle Fusion (GXR2),Schedules
GEO:34.8324379;-87.6683435
X-APPLE-STRUCTURED-LOCATION;VALUE=URI;X-ADDRESS=YMCA of the Shoals 2121 Helton Drive Florence AL 35630 United States;X-APPLE-RADIUS=500;X-TITLE=2121 Helton Drive:geo:-87.6683435,34.8324379
END:VEVENT
BEGIN:VEVENT
DTSTART;TZID=America/Chicago:20260921T110000
DTEND;TZID=America/Chicago:20260921T120000
DTSTAMP:20260425T075546
CREATED:20221103T151028Z
LAST-MODIFIED:20260107T031341Z
UID:196225-1789988400-1789992000@www.ymcashoals.org
SUMMARY:Volleyball Fun Aerobics Class
DESCRIPTION:A fun\, energetic class where participants are encouraged to promote the Y’s core values: Caring\, Honesty\, Respect and Responsibility through good sportsmanship and fair conduct for all.
URL:https://www.ymcashoals.org/event/volleyball-fun-aerobics-class-alisa/2026-09-21/
LOCATION:YMCA of the Shoals\, 2121 Helton Drive\, Florence\, AL\, 35630\, United States
CATEGORIES:Leisure Pool Schedule,Schedules
GEO:34.8324379;-87.6683435
X-APPLE-STRUCTURED-LOCATION;VALUE=URI;X-ADDRESS=YMCA of the Shoals 2121 Helton Drive Florence AL 35630 United States;X-APPLE-RADIUS=500;X-TITLE=2121 Helton Drive:geo:-87.6683435,34.8324379
END:VEVENT
BEGIN:VEVENT
DTSTART;TZID=America/Chicago:20260921T110000
DTEND;TZID=America/Chicago:20260921T123000
DTSTAMP:20260425T075546
CREATED:20250425T164620Z
LAST-MODIFIED:20250425T164620Z
UID:186711-1789988400-1789993800@www.ymcashoals.org
SUMMARY:Rock Steady (Sara)
DESCRIPTION:
URL:https://www.ymcashoals.org/event/rock-steady-sara/2026-09-21/
LOCATION:YMCA of the Shoals\, 2121 Helton Drive\, Florence\, AL\, 35630\, United States
CATEGORIES:Group Exercise (GXR),Schedules
GEO:34.8324379;-87.6683435
X-APPLE-STRUCTURED-LOCATION;VALUE=URI;X-ADDRESS=YMCA of the Shoals 2121 Helton Drive Florence AL 35630 United States;X-APPLE-RADIUS=500;X-TITLE=2121 Helton Drive:geo:-87.6683435,34.8324379
END:VEVENT
BEGIN:VEVENT
DTSTART;TZID=America/Chicago:20260921T112000
DTEND;TZID=America/Chicago:20260921T120500
DTSTAMP:20260425T075546
CREATED:20221128T211550Z
LAST-MODIFIED:20221128T211550Z
UID:186707-1789989600-1789992300@www.ymcashoals.org
SUMMARY:Strength In Chairs (Melissa)
DESCRIPTION:
URL:https://www.ymcashoals.org/event/strength-in-chairs-melissa-g/2026-09-21/
LOCATION:YMCA of the Shoals\, 2121 Helton Drive\, Florence\, AL\, 35630\, United States
CATEGORIES:Schedules,Spirit/Mind/Body (GXR3)
GEO:34.8324379;-87.6683435
X-APPLE-STRUCTURED-LOCATION;VALUE=URI;X-ADDRESS=YMCA of the Shoals 2121 Helton Drive Florence AL 35630 United States;X-APPLE-RADIUS=500;X-TITLE=2121 Helton Drive:geo:-87.6683435,34.8324379
END:VEVENT
BEGIN:VEVENT
DTSTART;TZID=America/Chicago:20260921T150000
DTEND;TZID=America/Chicago:20260921T154500
DTSTAMP:20260425T075546
CREATED:20260106T210545Z
LAST-MODIFIED:20260106T210545Z
UID:193254-1790002800-1790005500@www.ymcashoals.org
SUMMARY:BASC (Court B)
DESCRIPTION:
URL:https://www.ymcashoals.org/event/basc-court-b/2026-09-21/
LOCATION:YMCA of the Shoals\, 2121 Helton Drive\, Florence\, AL\, 35630\, United States
CATEGORIES:Gym Courts A & B,Schedules
GEO:34.8324379;-87.6683435
X-APPLE-STRUCTURED-LOCATION;VALUE=URI;X-ADDRESS=YMCA of the Shoals 2121 Helton Drive Florence AL 35630 United States;X-APPLE-RADIUS=500;X-TITLE=2121 Helton Drive:geo:-87.6683435,34.8324379
END:VEVENT
BEGIN:VEVENT
DTSTART;TZID=America/Chicago:20260921T150000
DTEND;TZID=America/Chicago:20260921T160000
DTSTAMP:20260425T075546
CREATED:20260106T212417Z
LAST-MODIFIED:20260106T212417Z
UID:194731-1790002800-1790006400@www.ymcashoals.org
SUMMARY:BASC Court A
DESCRIPTION:
URL:https://www.ymcashoals.org/event/basc-court-a/2026-09-21/
LOCATION:YMCA of the Shoals\, 2121 Helton Drive\, Florence\, AL\, 35630\, United States
CATEGORIES:Gym Courts A & B,Schedules
GEO:34.8324379;-87.6683435
X-APPLE-STRUCTURED-LOCATION;VALUE=URI;X-ADDRESS=YMCA of the Shoals 2121 Helton Drive Florence AL 35630 United States;X-APPLE-RADIUS=500;X-TITLE=2121 Helton Drive:geo:-87.6683435,34.8324379
END:VEVENT
BEGIN:VEVENT
DTSTART;TZID=America/Chicago:20260921T160000
DTEND;TZID=America/Chicago:20260921T204500
DTSTAMP:20260425T075546
CREATED:20260106T212515Z
LAST-MODIFIED:20260106T212515Z
UID:194909-1790006400-1790023500@www.ymcashoals.org
SUMMARY:Open Play Court A
DESCRIPTION:
URL:https://www.ymcashoals.org/event/open-play-court-a-16/2026-09-21/
LOCATION:YMCA of the Shoals\, 2121 Helton Drive\, Florence\, AL\, 35630\, United States
CATEGORIES:Gym Courts A & B,Schedules
GEO:34.8324379;-87.6683435
X-APPLE-STRUCTURED-LOCATION;VALUE=URI;X-ADDRESS=YMCA of the Shoals 2121 Helton Drive Florence AL 35630 United States;X-APPLE-RADIUS=500;X-TITLE=2121 Helton Drive:geo:-87.6683435,34.8324379
END:VEVENT
BEGIN:VEVENT
DTSTART;TZID=America/Chicago:20260921T161500
DTEND;TZID=America/Chicago:20260921T170000
DTSTAMP:20260425T075546
CREATED:20210330T134516Z
LAST-MODIFIED:20210330T134516Z
UID:186705-1790007300-1790010000@www.ymcashoals.org
SUMMARY:Muscle Works (Emilie)
DESCRIPTION:
URL:https://www.ymcashoals.org/event/muscle-works-emilie/2026-09-21/
LOCATION:YMCA of the Shoals\, 2121 Helton Drive\, Florence\, AL\, 35630\, United States
CATEGORIES:Group Exercise (GXR),Schedules
GEO:34.8324379;-87.6683435
X-APPLE-STRUCTURED-LOCATION;VALUE=URI;X-ADDRESS=YMCA of the Shoals 2121 Helton Drive Florence AL 35630 United States;X-APPLE-RADIUS=500;X-TITLE=2121 Helton Drive:geo:-87.6683435,34.8324379
END:VEVENT
BEGIN:VEVENT
DTSTART;TZID=America/Chicago:20260921T163000
DTEND;TZID=America/Chicago:20260921T173000
DTSTAMP:20260425T075546
CREATED:20220201T142504Z
LAST-MODIFIED:20220201T142504Z
UID:197334-1790008200-1790011800@www.ymcashoals.org
SUMMARY:Child Karate
DESCRIPTION:
URL:https://www.ymcashoals.org/event/child-karate-2/2026-09-21/
LOCATION:YMCA of the Shoals\, 2121 Helton Drive\, Florence\, AL\, 35630\, United States
CATEGORIES:Karate - Tang Soo Do,Schedules
GEO:34.8324379;-87.6683435
X-APPLE-STRUCTURED-LOCATION;VALUE=URI;X-ADDRESS=YMCA of the Shoals 2121 Helton Drive Florence AL 35630 United States;X-APPLE-RADIUS=500;X-TITLE=2121 Helton Drive:geo:-87.6683435,34.8324379
END:VEVENT
BEGIN:VEVENT
DTSTART;TZID=America/Chicago:20260921T171500
DTEND;TZID=America/Chicago:20260921T180500
DTSTAMP:20260425T075546
CREATED:20240219T164805Z
LAST-MODIFIED:20240219T164805Z
UID:188515-1790010900-1790013900@www.ymcashoals.org
SUMMARY:Porpoise Club (Advanced) Level 5-6
DESCRIPTION:Introduces students to breaststroke and butterfly and reinforces water safety through treading water and sidestroke. Students will refine stroke technique on all major competitive strokes\, learn to dive and to flip turn\, in order to prepare for swim team or any future swimming endeavors. \nParticipants MUST pass lap pool swim test prior to registering. (Acquired red band)
URL:https://www.ymcashoals.org/event/porpoise-club-advanced-level-5-6/2026-09-21/
LOCATION:YMCA of the Shoals\, 2121 Helton Drive\, Florence\, AL\, 35630\, United States
CATEGORIES:Lap Pool,Lap Pool Schedule,Schedules,Swim Lessons
GEO:34.8324379;-87.6683435
X-APPLE-STRUCTURED-LOCATION;VALUE=URI;X-ADDRESS=YMCA of the Shoals 2121 Helton Drive Florence AL 35630 United States;X-APPLE-RADIUS=500;X-TITLE=2121 Helton Drive:geo:-87.6683435,34.8324379
END:VEVENT
BEGIN:VEVENT
DTSTART;TZID=America/Chicago:20260921T173000
DTEND;TZID=America/Chicago:20260921T181000
DTSTAMP:20260425T075546
CREATED:20260107T025818Z
LAST-MODIFIED:20260107T025818Z
UID:195895-1790011800-1790014200@www.ymcashoals.org
SUMMARY:After Work Water Workout
DESCRIPTION:2 Lanes available
URL:https://www.ymcashoals.org/event/after-work-water-workout/2026-09-21/
LOCATION:YMCA of the Shoals\, 2121 Helton Drive\, Florence\, AL\, 35630\, United States
CATEGORIES:Lap Pool,Lap Pool Schedule,Schedules
GEO:34.8324379;-87.6683435
X-APPLE-STRUCTURED-LOCATION;VALUE=URI;X-ADDRESS=YMCA of the Shoals 2121 Helton Drive Florence AL 35630 United States;X-APPLE-RADIUS=500;X-TITLE=2121 Helton Drive:geo:-87.6683435,34.8324379
END:VEVENT
BEGIN:VEVENT
DTSTART;TZID=America/Chicago:20260921T173000
DTEND;TZID=America/Chicago:20260921T183000
DTSTAMP:20260425T075546
CREATED:20241029T202516Z
LAST-MODIFIED:20241029T202516Z
UID:192676-1790011800-1790015400@www.ymcashoals.org
SUMMARY:Cardio Hip Hop (Ladarius)
DESCRIPTION:
URL:https://www.ymcashoals.org/event/cardio-hip-hop-ladarius-4/2026-09-21/
LOCATION:YMCA of the Shoals\, 2121 Helton Drive\, Florence\, AL\, 35630\, United States
CATEGORIES:Group Exercise (GXR),Schedules
GEO:34.8324379;-87.6683435
X-APPLE-STRUCTURED-LOCATION;VALUE=URI;X-ADDRESS=YMCA of the Shoals 2121 Helton Drive Florence AL 35630 United States;X-APPLE-RADIUS=500;X-TITLE=2121 Helton Drive:geo:-87.6683435,34.8324379
END:VEVENT
BEGIN:VEVENT
DTSTART;TZID=America/Chicago:20260921T181500
DTEND;TZID=America/Chicago:20260921T193000
DTSTAMP:20260425T075546
CREATED:20220201T142626Z
LAST-MODIFIED:20220201T142626Z
UID:196653-1790014500-1790019000@www.ymcashoals.org
SUMMARY:Adult Karate
DESCRIPTION:
URL:https://www.ymcashoals.org/event/adult-karate-3/2026-09-21/
LOCATION:YMCA of the Shoals\, 2121 Helton Drive\, Florence\, AL\, 35630\, United States
CATEGORIES:Karate - Tang Soo Do,Schedules
GEO:34.8324379;-87.6683435
X-APPLE-STRUCTURED-LOCATION;VALUE=URI;X-ADDRESS=YMCA of the Shoals 2121 Helton Drive Florence AL 35630 United States;X-APPLE-RADIUS=500;X-TITLE=2121 Helton Drive:geo:-87.6683435,34.8324379
END:VEVENT
BEGIN:VEVENT
DTSTART;TZID=America/Chicago:20260921T203000
DTEND;TZID=America/Chicago:20260921T210000
DTSTAMP:20260425T075546
CREATED:20260106T210635Z
LAST-MODIFIED:20260106T210635Z
UID:193386-1790022600-1790024400@www.ymcashoals.org
SUMMARY:Open Play (Court B)
DESCRIPTION:
URL:https://www.ymcashoals.org/event/open-play-court-b-17/2026-09-21/
LOCATION:YMCA of the Shoals\, 2121 Helton Drive\, Florence\, AL\, 35630\, United States
CATEGORIES:Gym Courts A & B,Schedules
GEO:34.8324379;-87.6683435
X-APPLE-STRUCTURED-LOCATION;VALUE=URI;X-ADDRESS=YMCA of the Shoals 2121 Helton Drive Florence AL 35630 United States;X-APPLE-RADIUS=500;X-TITLE=2121 Helton Drive:geo:-87.6683435,34.8324379
END:VEVENT
BEGIN:VEVENT
DTSTART;TZID=America/Chicago:20260922T050000
DTEND;TZID=America/Chicago:20260922T100000
DTSTAMP:20260425T075546
CREATED:20260106T212627Z
LAST-MODIFIED:20260106T212627Z
UID:195044-1790053200-1790071200@www.ymcashoals.org
SUMMARY:Open Play Court A
DESCRIPTION:
URL:https://www.ymcashoals.org/event/open-play-court-a-17/2026-09-22/
LOCATION:YMCA of the Shoals\, 2121 Helton Drive\, Florence\, AL\, 35630\, United States
CATEGORIES:Gym Courts A & B,Schedules
GEO:34.8324379;-87.6683435
X-APPLE-STRUCTURED-LOCATION;VALUE=URI;X-ADDRESS=YMCA of the Shoals 2121 Helton Drive Florence AL 35630 United States;X-APPLE-RADIUS=500;X-TITLE=2121 Helton Drive:geo:-87.6683435,34.8324379
END:VEVENT
BEGIN:VEVENT
DTSTART;TZID=America/Chicago:20260922T051500
DTEND;TZID=America/Chicago:20260922T060000
DTSTAMP:20260425T075546
CREATED:20201104T172041Z
LAST-MODIFIED:20201104T172041Z
UID:186714-1790054100-1790056800@www.ymcashoals.org
SUMMARY:Muscle Works (Lisa)
DESCRIPTION:
URL:https://www.ymcashoals.org/event/muscle-works-colette/2026-09-22/
LOCATION:YMCA of the Shoals\, 2121 Helton Drive\, Florence\, AL\, 35630\, United States
CATEGORIES:Group Exercise (GXR),Schedules
GEO:34.8324379;-87.6683435
X-APPLE-STRUCTURED-LOCATION;VALUE=URI;X-ADDRESS=YMCA of the Shoals 2121 Helton Drive Florence AL 35630 United States;X-APPLE-RADIUS=500;X-TITLE=2121 Helton Drive:geo:-87.6683435,34.8324379
END:VEVENT
BEGIN:VEVENT
DTSTART;TZID=America/Chicago:20260922T053000
DTEND;TZID=America/Chicago:20260922T090000
DTSTAMP:20260425T075546
CREATED:20240829T194042Z
LAST-MODIFIED:20260109T141603Z
UID:190430-1790055000-1790067600@www.ymcashoals.org
SUMMARY:All 6 Lanes Available
DESCRIPTION:
URL:https://www.ymcashoals.org/event/all-6-lanes-available-8/2026-09-22/
LOCATION:YMCA of the Shoals\, 2121 Helton Drive\, Florence\, AL\, 35630\, United States
CATEGORIES:Lap Pool,Lap Pool Schedule,Schedules
GEO:34.8324379;-87.6683435
X-APPLE-STRUCTURED-LOCATION;VALUE=URI;X-ADDRESS=YMCA of the Shoals 2121 Helton Drive Florence AL 35630 United States;X-APPLE-RADIUS=500;X-TITLE=2121 Helton Drive:geo:-87.6683435,34.8324379
END:VEVENT
BEGIN:VEVENT
DTSTART;TZID=America/Chicago:20260922T080000
DTEND;TZID=America/Chicago:20260922T085000
DTSTAMP:20260425T075546
CREATED:20230227T143730Z
LAST-MODIFIED:20230227T143730Z
UID:199414-1790064000-1790067000@www.ymcashoals.org
SUMMARY:Step & Strength (Angela V.)
DESCRIPTION:
URL:https://www.ymcashoals.org/event/fusion-fit-angela-v/2026-09-22/
LOCATION:YMCA of the Shoals\, 2121 Helton Drive\, Florence\, AL\, 35630\, United States
CATEGORIES:Schedules,Spirit/Mind/Body (GXR3)
GEO:34.8324379;-87.6683435
X-APPLE-STRUCTURED-LOCATION;VALUE=URI;X-ADDRESS=YMCA of the Shoals 2121 Helton Drive Florence AL 35630 United States;X-APPLE-RADIUS=500;X-TITLE=2121 Helton Drive:geo:-87.6683435,34.8324379
END:VEVENT
BEGIN:VEVENT
DTSTART;TZID=America/Chicago:20260922T080000
DTEND;TZID=America/Chicago:20260922T085000
DTSTAMP:20260425T075546
CREATED:20230227T143730Z
LAST-MODIFIED:20230227T143730Z
UID:200071-1790064000-1790067000@www.ymcashoals.org
SUMMARY:Step & Strength (Angela V.)
DESCRIPTION:
URL:https://www.ymcashoals.org/event/fusion-fit-angela-v/2026-09-22/
LOCATION:YMCA of the Shoals\, 2121 Helton Drive\, Florence\, AL\, 35630\, United States
CATEGORIES:Schedules,Spirit/Mind/Body (GXR3)
GEO:34.8324379;-87.6683435
X-APPLE-STRUCTURED-LOCATION;VALUE=URI;X-ADDRESS=YMCA of the Shoals 2121 Helton Drive Florence AL 35630 United States;X-APPLE-RADIUS=500;X-TITLE=2121 Helton Drive:geo:-87.6683435,34.8324379
END:VEVENT
BEGIN:VEVENT
DTSTART;TZID=America/Chicago:20260922T081000
DTEND;TZID=America/Chicago:20260922T090000
DTSTAMP:20260425T075546
CREATED:20240424T190848Z
LAST-MODIFIED:20240424T190848Z
UID:186716-1790064600-1790067600@www.ymcashoals.org
SUMMARY:Body Pump (Christy)
DESCRIPTION:
URL:https://www.ymcashoals.org/event/body-pump-christy/2026-09-22/
LOCATION:YMCA of the Shoals\, 2121 Helton Drive\, Florence\, AL\, 35630\, United States
CATEGORIES:Group Exercise (GXR),Schedules
GEO:34.8324379;-87.6683435
X-APPLE-STRUCTURED-LOCATION;VALUE=URI;X-ADDRESS=YMCA of the Shoals 2121 Helton Drive Florence AL 35630 United States;X-APPLE-RADIUS=500;X-TITLE=2121 Helton Drive:geo:-87.6683435,34.8324379
END:VEVENT
BEGIN:VEVENT
DTSTART;TZID=America/Chicago:20260922T083000
DTEND;TZID=America/Chicago:20260922T091500
DTSTAMP:20260425T075546
CREATED:20240829T190838Z
LAST-MODIFIED:20240829T190838Z
UID:190828-1790065800-1790068500@www.ymcashoals.org
SUMMARY:Joints in Motion (8:30am)
DESCRIPTION:
URL:https://www.ymcashoals.org/event/joints-in-motion-3/2026-09-22/
LOCATION:YMCA of the Shoals\, 2121 Helton Drive\, Florence\, AL\, 35630\, United States
CATEGORIES:Leisure Pool Schedule,Schedules
GEO:34.8324379;-87.6683435
X-APPLE-STRUCTURED-LOCATION;VALUE=URI;X-ADDRESS=YMCA of the Shoals 2121 Helton Drive Florence AL 35630 United States;X-APPLE-RADIUS=500;X-TITLE=2121 Helton Drive:geo:-87.6683435,34.8324379
END:VEVENT
BEGIN:VEVENT
DTSTART;TZID=America/Chicago:20260922T091000
DTEND;TZID=America/Chicago:20260922T100000
DTSTAMP:20260425T075546
CREATED:20250825T190655Z
LAST-MODIFIED:20250825T190655Z
UID:186917-1790068200-1790071200@www.ymcashoals.org
SUMMARY:Pilates (Christy)
DESCRIPTION:
URL:https://www.ymcashoals.org/event/pilates-christy/2026-09-22/
LOCATION:YMCA of the Shoals\, 2121 Helton Drive\, Florence\, AL\, 35630\, United States
CATEGORIES:Group Exercise (GXR),Schedules
GEO:34.8324379;-87.6683435
X-APPLE-STRUCTURED-LOCATION;VALUE=URI;X-ADDRESS=YMCA of the Shoals 2121 Helton Drive Florence AL 35630 United States;X-APPLE-RADIUS=500;X-TITLE=2121 Helton Drive:geo:-87.6683435,34.8324379
END:VEVENT
BEGIN:VEVENT
DTSTART;TZID=America/Chicago:20260922T091500
DTEND;TZID=America/Chicago:20260922T100000
DTSTAMP:20260425T075546
CREATED:20250806T155252Z
LAST-MODIFIED:20250806T155252Z
UID:189909-1790068500-1790071200@www.ymcashoals.org
SUMMARY:Water Workout
DESCRIPTION:2 lanes available
URL:https://www.ymcashoals.org/event/water-workout-4/2026-09-22/
LOCATION:YMCA of the Shoals\, 2121 Helton Drive\, Florence\, AL\, 35630\, United States
CATEGORIES:Lap Pool,Lap Pool Schedule,Schedules
GEO:34.8324379;-87.6683435
X-APPLE-STRUCTURED-LOCATION;VALUE=URI;X-ADDRESS=YMCA of the Shoals 2121 Helton Drive Florence AL 35630 United States;X-APPLE-RADIUS=500;X-TITLE=2121 Helton Drive:geo:-87.6683435,34.8324379
END:VEVENT
BEGIN:VEVENT
DTSTART;TZID=America/Chicago:20260922T100000
DTEND;TZID=America/Chicago:20260922T120000
DTSTAMP:20260425T075546
CREATED:20260106T211109Z
LAST-MODIFIED:20260106T211109Z
UID:193684-1790071200-1790078400@www.ymcashoals.org
SUMMARY:Pickleball (Courts A&B)
DESCRIPTION:
URL:https://www.ymcashoals.org/event/pickleball-courts-ab/2026-09-22/
LOCATION:YMCA of the Shoals\, 2121 Helton Drive\, Florence\, AL\, 35630\, United States
CATEGORIES:Gym Courts A & B,Schedules
GEO:34.8324379;-87.6683435
X-APPLE-STRUCTURED-LOCATION;VALUE=URI;X-ADDRESS=YMCA of the Shoals 2121 Helton Drive Florence AL 35630 United States;X-APPLE-RADIUS=500;X-TITLE=2121 Helton Drive:geo:-87.6683435,34.8324379
END:VEVENT
BEGIN:VEVENT
DTSTART;TZID=America/Chicago:20260922T101500
DTEND;TZID=America/Chicago:20260922T110000
DTSTAMP:20260425T075546
CREATED:20211227T172519Z
LAST-MODIFIED:20211227T172519Z
UID:186715-1790072100-1790074800@www.ymcashoals.org
SUMMARY:Yoga in Chairs (Ryan L.)
DESCRIPTION:
URL:https://www.ymcashoals.org/event/yoga-in-chairs-ryan-l-3/2026-09-22/
LOCATION:YMCA of the Shoals\, 2121 Helton Drive\, Florence\, AL\, 35630\, United States
CATEGORIES:Schedules,Spirit/Mind/Body (GXR3)
GEO:34.8324379;-87.6683435
X-APPLE-STRUCTURED-LOCATION;VALUE=URI;X-ADDRESS=YMCA of the Shoals 2121 Helton Drive Florence AL 35630 United States;X-APPLE-RADIUS=500;X-TITLE=2121 Helton Drive:geo:-87.6683435,34.8324379
END:VEVENT
BEGIN:VEVENT
DTSTART;TZID=America/Chicago:20260922T101500
DTEND;TZID=America/Chicago:20260922T110000
DTSTAMP:20260425T075546
CREATED:20250806T155946Z
LAST-MODIFIED:20251130T033709Z
UID:186720-1790072100-1790074800@www.ymcashoals.org
SUMMARY:Working in the Deep
DESCRIPTION:2 lanes available
URL:https://www.ymcashoals.org/event/working-in-the-deep-6/2026-09-22/
LOCATION:YMCA of the Shoals\, 2121 Helton Drive\, Florence\, AL\, 35630\, United States
CATEGORIES:Lap Pool,Lap Pool Schedule,Schedules
GEO:34.8324379;-87.6683435
X-APPLE-STRUCTURED-LOCATION;VALUE=URI;X-ADDRESS=YMCA of the Shoals 2121 Helton Drive Florence AL 35630 United States;X-APPLE-RADIUS=500;X-TITLE=2121 Helton Drive:geo:-87.6683435,34.8324379
END:VEVENT
END:VCALENDAR