BEGIN:VCALENDAR
VERSION:2.0
PRODID:-//YMCA of the Shoals - ECPv6.15.20//NONSGML v1.0//EN
CALSCALE:GREGORIAN
METHOD:PUBLISH
X-ORIGINAL-URL:https://www.ymcashoals.org
X-WR-CALDESC:Events for YMCA of the Shoals
REFRESH-INTERVAL;VALUE=DURATION:PT1H
X-Robots-Tag:noindex
X-PUBLISHED-TTL:PT1H
BEGIN:VTIMEZONE
TZID:America/Chicago
BEGIN:DAYLIGHT
TZOFFSETFROM:-0600
TZOFFSETTO:-0500
TZNAME:CDT
DTSTART:20250309T080000
END:DAYLIGHT
BEGIN:STANDARD
TZOFFSETFROM:-0500
TZOFFSETTO:-0600
TZNAME:CST
DTSTART:20251102T070000
END:STANDARD
BEGIN:DAYLIGHT
TZOFFSETFROM:-0600
TZOFFSETTO:-0500
TZNAME:CDT
DTSTART:20260308T080000
END:DAYLIGHT
BEGIN:STANDARD
TZOFFSETFROM:-0500
TZOFFSETTO:-0600
TZNAME:CST
DTSTART:20261101T070000
END:STANDARD
BEGIN:DAYLIGHT
TZOFFSETFROM:-0600
TZOFFSETTO:-0500
TZNAME:CDT
DTSTART:20270314T080000
END:DAYLIGHT
BEGIN:STANDARD
TZOFFSETFROM:-0500
TZOFFSETTO:-0600
TZNAME:CST
DTSTART:20271107T070000
END:STANDARD
END:VTIMEZONE
BEGIN:VEVENT
DTSTART;TZID=America/Chicago:20260423T083000
DTEND;TZID=America/Chicago:20260423T091500
DTSTAMP:20260423T134427
CREATED:20240829T190838Z
LAST-MODIFIED:20240829T190838Z
UID:190785-1776933000-1776935700@www.ymcashoals.org
SUMMARY:Joints in Motion (8:30am)
DESCRIPTION:
URL:https://www.ymcashoals.org/event/joints-in-motion-3/2026-04-23/
LOCATION:YMCA of the Shoals\, 2121 Helton Drive\, Florence\, AL\, 35630\, United States
CATEGORIES:Leisure Pool Schedule,Schedules
GEO:34.8324379;-87.6683435
X-APPLE-STRUCTURED-LOCATION;VALUE=URI;X-ADDRESS=YMCA of the Shoals 2121 Helton Drive Florence AL 35630 United States;X-APPLE-RADIUS=500;X-TITLE=2121 Helton Drive:geo:-87.6683435,34.8324379
END:VEVENT
BEGIN:VEVENT
DTSTART;TZID=America/Chicago:20260423T162000
DTEND;TZID=America/Chicago:20260423T170000
DTSTAMP:20260423T134427
CREATED:20210526T193659Z
LAST-MODIFIED:20210526T193659Z
UID:188906-1776961200-1776963600@www.ymcashoals.org
SUMMARY:Swim Basics Level 1-2 (3-5yr) -T/Th
DESCRIPTION:Students (ages 3-5 years old) learn personal water safety and achieve basic swimming competency by learning two benchmark skills:  Swim\, float\, swim and jump\, push\, turn\, grab. These skills are taught through fun games and confidence building experiences.
URL:https://www.ymcashoals.org/event/3s/2026-04-23/
LOCATION:YMCA of the Shoals\, 2121 Helton Drive\, Florence\, AL\, 35630\, United States
CATEGORIES:Leisure Pool Schedule,Schedules,Swim Lessons
GEO:34.8324379;-87.6683435
X-APPLE-STRUCTURED-LOCATION;VALUE=URI;X-ADDRESS=YMCA of the Shoals 2121 Helton Drive Florence AL 35630 United States;X-APPLE-RADIUS=500;X-TITLE=2121 Helton Drive:geo:-87.6683435,34.8324379
END:VEVENT
BEGIN:VEVENT
DTSTART;TZID=America/Chicago:20260423T171000
DTEND;TZID=America/Chicago:20260423T175000
DTSTAMP:20260423T134427
CREATED:20250829T202711Z
LAST-MODIFIED:20250829T202711Z
UID:188807-1776964200-1776966600@www.ymcashoals.org
SUMMARY:Swim Basics Level 2 (6yr+) - T/Th
DESCRIPTION:Students (School age 6yr+) learn personal water safety and achieve basic swimming competency by learning two benchmark skills:  Swim\, float\, swim and jump\, push\, turn\, grab. These skills are taught through fun games and confidence building experiences.
URL:https://www.ymcashoals.org/event/swim-basics-level-2-6yr-t-th/2026-04-23/
LOCATION:YMCA of the Shoals\, 2121 Helton Drive\, Florence\, AL\, 35630\, United States
CATEGORIES:Leisure Pool Schedule,Schedules,Swim Lessons
GEO:34.8324379;-87.6683435
X-APPLE-STRUCTURED-LOCATION;VALUE=URI;X-ADDRESS=YMCA of the Shoals 2121 Helton Drive Florence AL 35630 United States;X-APPLE-RADIUS=500;X-TITLE=2121 Helton Drive:geo:-87.6683435,34.8324379
END:VEVENT
BEGIN:VEVENT
DTSTART;TZID=America/Chicago:20260423T180000
DTEND;TZID=America/Chicago:20260423T184000
DTSTAMP:20260423T134427
CREATED:20240312T034214Z
LAST-MODIFIED:20240312T034214Z
UID:188708-1776967200-1776969600@www.ymcashoals.org
SUMMARY:Swim Strokes Level 3-4 -T/Th
DESCRIPTION:Students develop intermediate self-rescue skills at longer distances. In addition to swim on front\, swim on back and introduction to treading water. \nIntroduces basic stroke technique in front crawl and back crawl and reinforces water safety through treading water and elementary backstroke.
URL:https://www.ymcashoals.org/event/swim-strokes-intermediate-level-3-4-t-th/2026-04-23/
LOCATION:YMCA of the Shoals\, 2121 Helton Drive\, Florence\, AL\, 35630\, United States
CATEGORIES:Leisure Pool Schedule,Schedules,Swim Lessons
GEO:34.8324379;-87.6683435
X-APPLE-STRUCTURED-LOCATION;VALUE=URI;X-ADDRESS=YMCA of the Shoals 2121 Helton Drive Florence AL 35630 United States;X-APPLE-RADIUS=500;X-TITLE=2121 Helton Drive:geo:-87.6683435,34.8324379
END:VEVENT
BEGIN:VEVENT
DTSTART;TZID=America/Chicago:20260424T073000
DTEND;TZID=America/Chicago:20260424T081500
DTSTAMP:20260423T134427
CREATED:20231004T205906Z
LAST-MODIFIED:20251202T233256Z
UID:191055-1777015800-1777018500@www.ymcashoals.org
SUMMARY:Joints in Motion (7:30)
DESCRIPTION:
URL:https://www.ymcashoals.org/event/joints-in-motion-2/2026-04-24/
LOCATION:YMCA of the Shoals\, 2121 Helton Drive\, Florence\, AL\, 35630\, United States
CATEGORIES:Leisure Pool Schedule,Schedules
GEO:34.8324379;-87.6683435
X-APPLE-STRUCTURED-LOCATION;VALUE=URI;X-ADDRESS=YMCA of the Shoals 2121 Helton Drive Florence AL 35630 United States;X-APPLE-RADIUS=500;X-TITLE=2121 Helton Drive:geo:-87.6683435,34.8324379
END:VEVENT
BEGIN:VEVENT
DTSTART;TZID=America/Chicago:20260424T083000
DTEND;TZID=America/Chicago:20260424T091500
DTSTAMP:20260423T134427
CREATED:20240829T190838Z
LAST-MODIFIED:20251130T040258Z
UID:180592-1777019400-1777022100@www.ymcashoals.org
SUMMARY:Joints in Motion (8:30am)
DESCRIPTION:
URL:https://www.ymcashoals.org/event/joints-in-motion-3/2026-04-24/
LOCATION:YMCA of the Shoals\, 2121 Helton Drive\, Florence\, AL\, 35630\, United States
CATEGORIES:Leisure Pool Schedule,Schedules
GEO:34.8324379;-87.6683435
X-APPLE-STRUCTURED-LOCATION;VALUE=URI;X-ADDRESS=YMCA of the Shoals 2121 Helton Drive Florence AL 35630 United States;X-APPLE-RADIUS=500;X-TITLE=2121 Helton Drive:geo:-87.6683435,34.8324379
END:VEVENT
BEGIN:VEVENT
DTSTART;TZID=America/Chicago:20260424T084500
DTEND;TZID=America/Chicago:20260424T093000
DTSTAMP:20260423T134427
CREATED:20221103T150618Z
LAST-MODIFIED:20251130T035053Z
UID:190086-1777020300-1777023000@www.ymcashoals.org
SUMMARY:Deep Water Joints in Motion
DESCRIPTION:
URL:https://www.ymcashoals.org/event/deep-water-joints-in-motion-jo/2026-04-24/
LOCATION:YMCA of the Shoals\, 2121 Helton Drive\, Florence\, AL\, 35630\, United States
CATEGORIES:Leisure Pool Schedule,Schedules
GEO:34.8324379;-87.6683435
X-APPLE-STRUCTURED-LOCATION;VALUE=URI;X-ADDRESS=YMCA of the Shoals 2121 Helton Drive Florence AL 35630 United States;X-APPLE-RADIUS=500;X-TITLE=2121 Helton Drive:geo:-87.6683435,34.8324379
END:VEVENT
BEGIN:VEVENT
DTSTART;TZID=America/Chicago:20260424T110000
DTEND;TZID=America/Chicago:20260424T120000
DTSTAMP:20260423T134427
CREATED:20221103T151028Z
LAST-MODIFIED:20260107T031338Z
UID:196161-1777028400-1777032000@www.ymcashoals.org
SUMMARY:Volleyball Fun Aerobics Class
DESCRIPTION:A fun\, energetic class where participants are encouraged to promote the Y’s core values: Caring\, Honesty\, Respect and Responsibility through good sportsmanship and fair conduct for all.
URL:https://www.ymcashoals.org/event/volleyball-fun-aerobics-class-alisa/2026-04-24/
LOCATION:YMCA of the Shoals\, 2121 Helton Drive\, Florence\, AL\, 35630\, United States
CATEGORIES:Leisure Pool Schedule,Schedules
GEO:34.8324379;-87.6683435
X-APPLE-STRUCTURED-LOCATION;VALUE=URI;X-ADDRESS=YMCA of the Shoals 2121 Helton Drive Florence AL 35630 United States;X-APPLE-RADIUS=500;X-TITLE=2121 Helton Drive:geo:-87.6683435,34.8324379
END:VEVENT
BEGIN:VEVENT
DTSTART;TZID=America/Chicago:20260425T090000
DTEND;TZID=America/Chicago:20260425T094000
DTSTAMP:20260423T134427
CREATED:20250905T194439Z
LAST-MODIFIED:20251130T034303Z
UID:188444-1777107600-1777110000@www.ymcashoals.org
SUMMARY:Swim Basics Level 3 - Saturdays
DESCRIPTION:Students learn personal water safety and achieve basic swimming competency by learning two benchmark skills: Swim\, float\, swim and Jump\, push\, turn\, grab. These skills are taught through fun games and confidence building experiences. (Intermediate level)\nStudents develop intermediate self-rescue skills at longer distances. In addition to swim on front\, swim on back and introduction to treading water.
URL:https://www.ymcashoals.org/event/swim-basics-level-3-intermediate/2026-04-25/
LOCATION:YMCA of the Shoals\, 2121 Helton Drive\, Florence\, AL\, 35630\, United States
CATEGORIES:Leisure Pool Schedule,Schedules,Swim Lessons
GEO:34.8324379;-87.6683435
X-APPLE-STRUCTURED-LOCATION;VALUE=URI;X-ADDRESS=YMCA of the Shoals 2121 Helton Drive Florence AL 35630 United States;X-APPLE-RADIUS=500;X-TITLE=2121 Helton Drive:geo:-87.6683435,34.8324379
END:VEVENT
BEGIN:VEVENT
DTSTART;TZID=America/Chicago:20260425T095000
DTEND;TZID=America/Chicago:20260425T103000
DTSTAMP:20260423T134427
CREATED:20240312T031918Z
LAST-MODIFIED:20240312T031918Z
UID:188643-1777110600-1777113000@www.ymcashoals.org
SUMMARY:Swim Basics Level 2 (5yr+) -Saturdays
DESCRIPTION:Students learn personal water safety and achieve basic swimming competency by learning two benchmark skills:  Swim\, float\, swim and jump\, push\, turn\, grab. These skills are taught through fun games and confidence building experiences.
URL:https://www.ymcashoals.org/event/swim-basics-level-1-2-school-age-6yr-saturdays/2026-04-25/
LOCATION:YMCA of the Shoals\, 2121 Helton Drive\, Florence\, AL\, 35630\, United States
CATEGORIES:Leisure Pool Schedule,Schedules,Swim Lessons
GEO:34.8324379;-87.6683435
X-APPLE-STRUCTURED-LOCATION;VALUE=URI;X-ADDRESS=YMCA of the Shoals 2121 Helton Drive Florence AL 35630 United States;X-APPLE-RADIUS=500;X-TITLE=2121 Helton Drive:geo:-87.6683435,34.8324379
END:VEVENT
BEGIN:VEVENT
DTSTART;TZID=America/Chicago:20260425T104000
DTEND;TZID=America/Chicago:20260425T111000
DTSTAMP:20260423T134427
CREATED:20240312T033701Z
LAST-MODIFIED:20260109T141028Z
UID:188543-1777113600-1777115400@www.ymcashoals.org
SUMMARY:Mom\, Pop & tot Swim Lessons (6m-3yr) -Saturdays
DESCRIPTION:Accompanied by a parent or guardian\, infants and toddlers learn to be comfortable in the water and develop swim readiness skills through fun and confidence building experiences. Parents/Guardians will learn about water safety\, drowning prevention and the importance of supervision. \nParent/Guardian must remain in water with child at all times. SWIM DIAPERS REQUIRED UNLESS POTTY TRAINED.
URL:https://www.ymcashoals.org/event/mom-pop-tot-swim-lessons-6m-3yr-saturdays-2/2026-04-25/
LOCATION:YMCA of the Shoals\, 2121 Helton Drive\, Florence\, AL\, 35630\, United States
CATEGORIES:Leisure Pool Schedule,Schedules,Swim Lessons
GEO:34.8324379;-87.6683435
X-APPLE-STRUCTURED-LOCATION;VALUE=URI;X-ADDRESS=YMCA of the Shoals 2121 Helton Drive Florence AL 35630 United States;X-APPLE-RADIUS=500;X-TITLE=2121 Helton Drive:geo:-87.6683435,34.8324379
END:VEVENT
BEGIN:VEVENT
DTSTART;TZID=America/Chicago:20260425T112000
DTEND;TZID=America/Chicago:20260425T120000
DTSTAMP:20260423T134427
CREATED:20240312T031636Z
LAST-MODIFIED:20240312T031636Z
UID:188593-1777116000-1777118400@www.ymcashoals.org
SUMMARY:Swim Basics Level 1 (3-5yr) -Saturdays
DESCRIPTION:Students (ages 3-5yrs old) learn personal water safety and achieve basic swimming competency by learning two benchmark skills:  Swim\, float\, swim and jump\, push\, turn\, grab. These skills are taught through fun games and confidence building experiences.
URL:https://www.ymcashoals.org/event/swim-basics-level-1-2-preschool-3-5yr-saturdays/2026-04-25/
LOCATION:YMCA of the Shoals\, 2121 Helton Drive\, Florence\, AL\, 35630\, United States
CATEGORIES:Leisure Pool Schedule,Schedules,Swim Lessons
GEO:34.8324379;-87.6683435
X-APPLE-STRUCTURED-LOCATION;VALUE=URI;X-ADDRESS=YMCA of the Shoals 2121 Helton Drive Florence AL 35630 United States;X-APPLE-RADIUS=500;X-TITLE=2121 Helton Drive:geo:-87.6683435,34.8324379
END:VEVENT
BEGIN:VEVENT
DTSTART;TZID=America/Chicago:20260426T130000
DTEND;TZID=America/Chicago:20260426T163000
DTSTAMP:20260423T134427
CREATED:20240829T194957Z
LAST-MODIFIED:20240829T194957Z
UID:180804-1777208400-1777221000@www.ymcashoals.org
SUMMARY:Open Swim
DESCRIPTION:
URL:https://www.ymcashoals.org/event/open-swim/2026-04-26/
LOCATION:YMCA of the Shoals\, 2121 Helton Drive\, Florence\, AL\, 35630\, United States
CATEGORIES:Lap Pool Schedule,Leisure Pool Schedule,Schedules
GEO:34.8324379;-87.6683435
X-APPLE-STRUCTURED-LOCATION;VALUE=URI;X-ADDRESS=YMCA of the Shoals 2121 Helton Drive Florence AL 35630 United States;X-APPLE-RADIUS=500;X-TITLE=2121 Helton Drive:geo:-87.6683435,34.8324379
END:VEVENT
BEGIN:VEVENT
DTSTART;TZID=America/Chicago:20260427T073000
DTEND;TZID=America/Chicago:20260427T081500
DTSTAMP:20260423T134427
CREATED:20231004T205906Z
LAST-MODIFIED:20251202T233256Z
UID:191056-1777275000-1777277700@www.ymcashoals.org
SUMMARY:Joints in Motion (7:30)
DESCRIPTION:
URL:https://www.ymcashoals.org/event/joints-in-motion-2/2026-04-27/
LOCATION:YMCA of the Shoals\, 2121 Helton Drive\, Florence\, AL\, 35630\, United States
CATEGORIES:Leisure Pool Schedule,Schedules
GEO:34.8324379;-87.6683435
X-APPLE-STRUCTURED-LOCATION;VALUE=URI;X-ADDRESS=YMCA of the Shoals 2121 Helton Drive Florence AL 35630 United States;X-APPLE-RADIUS=500;X-TITLE=2121 Helton Drive:geo:-87.6683435,34.8324379
END:VEVENT
BEGIN:VEVENT
DTSTART;TZID=America/Chicago:20260427T083000
DTEND;TZID=America/Chicago:20260427T091500
DTSTAMP:20260423T134427
CREATED:20240829T190838Z
LAST-MODIFIED:20251130T040258Z
UID:180839-1777278600-1777281300@www.ymcashoals.org
SUMMARY:Joints in Motion (8:30am)
DESCRIPTION:
URL:https://www.ymcashoals.org/event/joints-in-motion-3/2026-04-27/
LOCATION:YMCA of the Shoals\, 2121 Helton Drive\, Florence\, AL\, 35630\, United States
CATEGORIES:Leisure Pool Schedule,Schedules
GEO:34.8324379;-87.6683435
X-APPLE-STRUCTURED-LOCATION;VALUE=URI;X-ADDRESS=YMCA of the Shoals 2121 Helton Drive Florence AL 35630 United States;X-APPLE-RADIUS=500;X-TITLE=2121 Helton Drive:geo:-87.6683435,34.8324379
END:VEVENT
BEGIN:VEVENT
DTSTART;TZID=America/Chicago:20260427T084500
DTEND;TZID=America/Chicago:20260427T093000
DTSTAMP:20260423T134427
CREATED:20221103T150618Z
LAST-MODIFIED:20251130T035053Z
UID:190087-1777279500-1777282200@www.ymcashoals.org
SUMMARY:Deep Water Joints in Motion
DESCRIPTION:
URL:https://www.ymcashoals.org/event/deep-water-joints-in-motion-jo/2026-04-27/
LOCATION:YMCA of the Shoals\, 2121 Helton Drive\, Florence\, AL\, 35630\, United States
CATEGORIES:Leisure Pool Schedule,Schedules
GEO:34.8324379;-87.6683435
X-APPLE-STRUCTURED-LOCATION;VALUE=URI;X-ADDRESS=YMCA of the Shoals 2121 Helton Drive Florence AL 35630 United States;X-APPLE-RADIUS=500;X-TITLE=2121 Helton Drive:geo:-87.6683435,34.8324379
END:VEVENT
BEGIN:VEVENT
DTSTART;TZID=America/Chicago:20260427T110000
DTEND;TZID=America/Chicago:20260427T120000
DTSTAMP:20260423T134427
CREATED:20221103T151028Z
LAST-MODIFIED:20260107T031338Z
UID:196162-1777287600-1777291200@www.ymcashoals.org
SUMMARY:Volleyball Fun Aerobics Class
DESCRIPTION:A fun\, energetic class where participants are encouraged to promote the Y’s core values: Caring\, Honesty\, Respect and Responsibility through good sportsmanship and fair conduct for all.
URL:https://www.ymcashoals.org/event/volleyball-fun-aerobics-class-alisa/2026-04-27/
LOCATION:YMCA of the Shoals\, 2121 Helton Drive\, Florence\, AL\, 35630\, United States
CATEGORIES:Leisure Pool Schedule,Schedules
GEO:34.8324379;-87.6683435
X-APPLE-STRUCTURED-LOCATION;VALUE=URI;X-ADDRESS=YMCA of the Shoals 2121 Helton Drive Florence AL 35630 United States;X-APPLE-RADIUS=500;X-TITLE=2121 Helton Drive:geo:-87.6683435,34.8324379
END:VEVENT
BEGIN:VEVENT
DTSTART;TZID=America/Chicago:20260428T083000
DTEND;TZID=America/Chicago:20260428T091500
DTSTAMP:20260423T134427
CREATED:20240829T190838Z
LAST-MODIFIED:20240829T190838Z
UID:190786-1777365000-1777367700@www.ymcashoals.org
SUMMARY:Joints in Motion (8:30am)
DESCRIPTION:
URL:https://www.ymcashoals.org/event/joints-in-motion-3/2026-04-28/
LOCATION:YMCA of the Shoals\, 2121 Helton Drive\, Florence\, AL\, 35630\, United States
CATEGORIES:Leisure Pool Schedule,Schedules
GEO:34.8324379;-87.6683435
X-APPLE-STRUCTURED-LOCATION;VALUE=URI;X-ADDRESS=YMCA of the Shoals 2121 Helton Drive Florence AL 35630 United States;X-APPLE-RADIUS=500;X-TITLE=2121 Helton Drive:geo:-87.6683435,34.8324379
END:VEVENT
BEGIN:VEVENT
DTSTART;TZID=America/Chicago:20260428T162000
DTEND;TZID=America/Chicago:20260428T170000
DTSTAMP:20260423T134427
CREATED:20210526T193659Z
LAST-MODIFIED:20210526T193659Z
UID:188907-1777393200-1777395600@www.ymcashoals.org
SUMMARY:Swim Basics Level 1-2 (3-5yr) -T/Th
DESCRIPTION:Students (ages 3-5 years old) learn personal water safety and achieve basic swimming competency by learning two benchmark skills:  Swim\, float\, swim and jump\, push\, turn\, grab. These skills are taught through fun games and confidence building experiences.
URL:https://www.ymcashoals.org/event/3s/2026-04-28/
LOCATION:YMCA of the Shoals\, 2121 Helton Drive\, Florence\, AL\, 35630\, United States
CATEGORIES:Leisure Pool Schedule,Schedules,Swim Lessons
GEO:34.8324379;-87.6683435
X-APPLE-STRUCTURED-LOCATION;VALUE=URI;X-ADDRESS=YMCA of the Shoals 2121 Helton Drive Florence AL 35630 United States;X-APPLE-RADIUS=500;X-TITLE=2121 Helton Drive:geo:-87.6683435,34.8324379
END:VEVENT
BEGIN:VEVENT
DTSTART;TZID=America/Chicago:20260428T171000
DTEND;TZID=America/Chicago:20260428T175000
DTSTAMP:20260423T134427
CREATED:20250829T202711Z
LAST-MODIFIED:20250829T202711Z
UID:188808-1777396200-1777398600@www.ymcashoals.org
SUMMARY:Swim Basics Level 2 (6yr+) - T/Th
DESCRIPTION:Students (School age 6yr+) learn personal water safety and achieve basic swimming competency by learning two benchmark skills:  Swim\, float\, swim and jump\, push\, turn\, grab. These skills are taught through fun games and confidence building experiences.
URL:https://www.ymcashoals.org/event/swim-basics-level-2-6yr-t-th/2026-04-28/
LOCATION:YMCA of the Shoals\, 2121 Helton Drive\, Florence\, AL\, 35630\, United States
CATEGORIES:Leisure Pool Schedule,Schedules,Swim Lessons
GEO:34.8324379;-87.6683435
X-APPLE-STRUCTURED-LOCATION;VALUE=URI;X-ADDRESS=YMCA of the Shoals 2121 Helton Drive Florence AL 35630 United States;X-APPLE-RADIUS=500;X-TITLE=2121 Helton Drive:geo:-87.6683435,34.8324379
END:VEVENT
BEGIN:VEVENT
DTSTART;TZID=America/Chicago:20260428T180000
DTEND;TZID=America/Chicago:20260428T184000
DTSTAMP:20260423T134427
CREATED:20240312T034214Z
LAST-MODIFIED:20240312T034214Z
UID:188709-1777399200-1777401600@www.ymcashoals.org
SUMMARY:Swim Strokes Level 3-4 -T/Th
DESCRIPTION:Students develop intermediate self-rescue skills at longer distances. In addition to swim on front\, swim on back and introduction to treading water. \nIntroduces basic stroke technique in front crawl and back crawl and reinforces water safety through treading water and elementary backstroke.
URL:https://www.ymcashoals.org/event/swim-strokes-intermediate-level-3-4-t-th/2026-04-28/
LOCATION:YMCA of the Shoals\, 2121 Helton Drive\, Florence\, AL\, 35630\, United States
CATEGORIES:Leisure Pool Schedule,Schedules,Swim Lessons
GEO:34.8324379;-87.6683435
X-APPLE-STRUCTURED-LOCATION;VALUE=URI;X-ADDRESS=YMCA of the Shoals 2121 Helton Drive Florence AL 35630 United States;X-APPLE-RADIUS=500;X-TITLE=2121 Helton Drive:geo:-87.6683435,34.8324379
END:VEVENT
BEGIN:VEVENT
DTSTART;TZID=America/Chicago:20260429T073000
DTEND;TZID=America/Chicago:20260429T081500
DTSTAMP:20260423T134427
CREATED:20231004T205906Z
LAST-MODIFIED:20251202T233256Z
UID:191057-1777447800-1777450500@www.ymcashoals.org
SUMMARY:Joints in Motion (7:30)
DESCRIPTION:
URL:https://www.ymcashoals.org/event/joints-in-motion-2/2026-04-29/
LOCATION:YMCA of the Shoals\, 2121 Helton Drive\, Florence\, AL\, 35630\, United States
CATEGORIES:Leisure Pool Schedule,Schedules
GEO:34.8324379;-87.6683435
X-APPLE-STRUCTURED-LOCATION;VALUE=URI;X-ADDRESS=YMCA of the Shoals 2121 Helton Drive Florence AL 35630 United States;X-APPLE-RADIUS=500;X-TITLE=2121 Helton Drive:geo:-87.6683435,34.8324379
END:VEVENT
BEGIN:VEVENT
DTSTART;TZID=America/Chicago:20260429T083000
DTEND;TZID=America/Chicago:20260429T091500
DTSTAMP:20260423T134427
CREATED:20240829T190838Z
LAST-MODIFIED:20251130T040258Z
UID:180855-1777451400-1777454100@www.ymcashoals.org
SUMMARY:Joints in Motion (8:30am)
DESCRIPTION:
URL:https://www.ymcashoals.org/event/joints-in-motion-3/2026-04-29/
LOCATION:YMCA of the Shoals\, 2121 Helton Drive\, Florence\, AL\, 35630\, United States
CATEGORIES:Leisure Pool Schedule,Schedules
GEO:34.8324379;-87.6683435
X-APPLE-STRUCTURED-LOCATION;VALUE=URI;X-ADDRESS=YMCA of the Shoals 2121 Helton Drive Florence AL 35630 United States;X-APPLE-RADIUS=500;X-TITLE=2121 Helton Drive:geo:-87.6683435,34.8324379
END:VEVENT
BEGIN:VEVENT
DTSTART;TZID=America/Chicago:20260429T084500
DTEND;TZID=America/Chicago:20260429T093000
DTSTAMP:20260423T134427
CREATED:20221103T150618Z
LAST-MODIFIED:20251130T035053Z
UID:190088-1777452300-1777455000@www.ymcashoals.org
SUMMARY:Deep Water Joints in Motion
DESCRIPTION:
URL:https://www.ymcashoals.org/event/deep-water-joints-in-motion-jo/2026-04-29/
LOCATION:YMCA of the Shoals\, 2121 Helton Drive\, Florence\, AL\, 35630\, United States
CATEGORIES:Leisure Pool Schedule,Schedules
GEO:34.8324379;-87.6683435
X-APPLE-STRUCTURED-LOCATION;VALUE=URI;X-ADDRESS=YMCA of the Shoals 2121 Helton Drive Florence AL 35630 United States;X-APPLE-RADIUS=500;X-TITLE=2121 Helton Drive:geo:-87.6683435,34.8324379
END:VEVENT
BEGIN:VEVENT
DTSTART;TZID=America/Chicago:20260429T110000
DTEND;TZID=America/Chicago:20260429T120000
DTSTAMP:20260423T134427
CREATED:20221103T151028Z
LAST-MODIFIED:20260107T031338Z
UID:196163-1777460400-1777464000@www.ymcashoals.org
SUMMARY:Volleyball Fun Aerobics Class
DESCRIPTION:A fun\, energetic class where participants are encouraged to promote the Y’s core values: Caring\, Honesty\, Respect and Responsibility through good sportsmanship and fair conduct for all.
URL:https://www.ymcashoals.org/event/volleyball-fun-aerobics-class-alisa/2026-04-29/
LOCATION:YMCA of the Shoals\, 2121 Helton Drive\, Florence\, AL\, 35630\, United States
CATEGORIES:Leisure Pool Schedule,Schedules
GEO:34.8324379;-87.6683435
X-APPLE-STRUCTURED-LOCATION;VALUE=URI;X-ADDRESS=YMCA of the Shoals 2121 Helton Drive Florence AL 35630 United States;X-APPLE-RADIUS=500;X-TITLE=2121 Helton Drive:geo:-87.6683435,34.8324379
END:VEVENT
BEGIN:VEVENT
DTSTART;TZID=America/Chicago:20260430T083000
DTEND;TZID=America/Chicago:20260430T091500
DTSTAMP:20260423T134427
CREATED:20240829T190838Z
LAST-MODIFIED:20240829T190838Z
UID:190787-1777537800-1777540500@www.ymcashoals.org
SUMMARY:Joints in Motion (8:30am)
DESCRIPTION:
URL:https://www.ymcashoals.org/event/joints-in-motion-3/2026-04-30/
LOCATION:YMCA of the Shoals\, 2121 Helton Drive\, Florence\, AL\, 35630\, United States
CATEGORIES:Leisure Pool Schedule,Schedules
GEO:34.8324379;-87.6683435
X-APPLE-STRUCTURED-LOCATION;VALUE=URI;X-ADDRESS=YMCA of the Shoals 2121 Helton Drive Florence AL 35630 United States;X-APPLE-RADIUS=500;X-TITLE=2121 Helton Drive:geo:-87.6683435,34.8324379
END:VEVENT
BEGIN:VEVENT
DTSTART;TZID=America/Chicago:20260430T162000
DTEND;TZID=America/Chicago:20260430T170000
DTSTAMP:20260423T134427
CREATED:20210526T193659Z
LAST-MODIFIED:20210526T193659Z
UID:188908-1777566000-1777568400@www.ymcashoals.org
SUMMARY:Swim Basics Level 1-2 (3-5yr) -T/Th
DESCRIPTION:Students (ages 3-5 years old) learn personal water safety and achieve basic swimming competency by learning two benchmark skills:  Swim\, float\, swim and jump\, push\, turn\, grab. These skills are taught through fun games and confidence building experiences.
URL:https://www.ymcashoals.org/event/3s/2026-04-30/
LOCATION:YMCA of the Shoals\, 2121 Helton Drive\, Florence\, AL\, 35630\, United States
CATEGORIES:Leisure Pool Schedule,Schedules,Swim Lessons
GEO:34.8324379;-87.6683435
X-APPLE-STRUCTURED-LOCATION;VALUE=URI;X-ADDRESS=YMCA of the Shoals 2121 Helton Drive Florence AL 35630 United States;X-APPLE-RADIUS=500;X-TITLE=2121 Helton Drive:geo:-87.6683435,34.8324379
END:VEVENT
BEGIN:VEVENT
DTSTART;TZID=America/Chicago:20260430T171000
DTEND;TZID=America/Chicago:20260430T175000
DTSTAMP:20260423T134427
CREATED:20250829T202711Z
LAST-MODIFIED:20250829T202711Z
UID:188809-1777569000-1777571400@www.ymcashoals.org
SUMMARY:Swim Basics Level 2 (6yr+) - T/Th
DESCRIPTION:Students (School age 6yr+) learn personal water safety and achieve basic swimming competency by learning two benchmark skills:  Swim\, float\, swim and jump\, push\, turn\, grab. These skills are taught through fun games and confidence building experiences.
URL:https://www.ymcashoals.org/event/swim-basics-level-2-6yr-t-th/2026-04-30/
LOCATION:YMCA of the Shoals\, 2121 Helton Drive\, Florence\, AL\, 35630\, United States
CATEGORIES:Leisure Pool Schedule,Schedules,Swim Lessons
GEO:34.8324379;-87.6683435
X-APPLE-STRUCTURED-LOCATION;VALUE=URI;X-ADDRESS=YMCA of the Shoals 2121 Helton Drive Florence AL 35630 United States;X-APPLE-RADIUS=500;X-TITLE=2121 Helton Drive:geo:-87.6683435,34.8324379
END:VEVENT
BEGIN:VEVENT
DTSTART;TZID=America/Chicago:20260430T180000
DTEND;TZID=America/Chicago:20260430T184000
DTSTAMP:20260423T134427
CREATED:20240312T034214Z
LAST-MODIFIED:20240312T034214Z
UID:188710-1777572000-1777574400@www.ymcashoals.org
SUMMARY:Swim Strokes Level 3-4 -T/Th
DESCRIPTION:Students develop intermediate self-rescue skills at longer distances. In addition to swim on front\, swim on back and introduction to treading water. \nIntroduces basic stroke technique in front crawl and back crawl and reinforces water safety through treading water and elementary backstroke.
URL:https://www.ymcashoals.org/event/swim-strokes-intermediate-level-3-4-t-th/2026-04-30/
LOCATION:YMCA of the Shoals\, 2121 Helton Drive\, Florence\, AL\, 35630\, United States
CATEGORIES:Leisure Pool Schedule,Schedules,Swim Lessons
GEO:34.8324379;-87.6683435
X-APPLE-STRUCTURED-LOCATION;VALUE=URI;X-ADDRESS=YMCA of the Shoals 2121 Helton Drive Florence AL 35630 United States;X-APPLE-RADIUS=500;X-TITLE=2121 Helton Drive:geo:-87.6683435,34.8324379
END:VEVENT
END:VCALENDAR