BEGIN:VCALENDAR
VERSION:2.0
PRODID:-//YMCA of the Shoals - ECPv6.15.20//NONSGML v1.0//EN
CALSCALE:GREGORIAN
METHOD:PUBLISH
X-WR-CALNAME:YMCA of the Shoals
X-ORIGINAL-URL:https://www.ymcashoals.org
X-WR-CALDESC:Events for YMCA of the Shoals
REFRESH-INTERVAL;VALUE=DURATION:PT1H
X-Robots-Tag:noindex
X-PUBLISHED-TTL:PT1H
BEGIN:VTIMEZONE
TZID:America/Chicago
BEGIN:DAYLIGHT
TZOFFSETFROM:-0600
TZOFFSETTO:-0500
TZNAME:CDT
DTSTART:20250309T080000
END:DAYLIGHT
BEGIN:STANDARD
TZOFFSETFROM:-0500
TZOFFSETTO:-0600
TZNAME:CST
DTSTART:20251102T070000
END:STANDARD
BEGIN:DAYLIGHT
TZOFFSETFROM:-0600
TZOFFSETTO:-0500
TZNAME:CDT
DTSTART:20260308T080000
END:DAYLIGHT
BEGIN:STANDARD
TZOFFSETFROM:-0500
TZOFFSETTO:-0600
TZNAME:CST
DTSTART:20261101T070000
END:STANDARD
BEGIN:DAYLIGHT
TZOFFSETFROM:-0600
TZOFFSETTO:-0500
TZNAME:CDT
DTSTART:20270314T080000
END:DAYLIGHT
BEGIN:STANDARD
TZOFFSETFROM:-0500
TZOFFSETTO:-0600
TZNAME:CST
DTSTART:20271107T070000
END:STANDARD
END:VTIMEZONE
BEGIN:VEVENT
DTSTART;TZID=America/Chicago:20261102T073000
DTEND;TZID=America/Chicago:20261102T081500
DTSTAMP:20260424T032130
CREATED:20231004T205906Z
LAST-MODIFIED:20251202T233302Z
UID:191137-1793604600-1793607300@www.ymcashoals.org
SUMMARY:Joints in Motion (7:30)
DESCRIPTION:
URL:https://www.ymcashoals.org/event/joints-in-motion-2/2026-11-02/
LOCATION:YMCA of the Shoals\, 2121 Helton Drive\, Florence\, AL\, 35630\, United States
CATEGORIES:Leisure Pool Schedule,Schedules
GEO:34.8324379;-87.6683435
X-APPLE-STRUCTURED-LOCATION;VALUE=URI;X-ADDRESS=YMCA of the Shoals 2121 Helton Drive Florence AL 35630 United States;X-APPLE-RADIUS=500;X-TITLE=2121 Helton Drive:geo:-87.6683435,34.8324379
END:VEVENT
BEGIN:VEVENT
DTSTART;TZID=America/Chicago:20261102T083000
DTEND;TZID=America/Chicago:20261102T091500
DTSTAMP:20260424T032130
CREATED:20240829T190838Z
LAST-MODIFIED:20251130T040304Z
UID:189016-1793608200-1793610900@www.ymcashoals.org
SUMMARY:Joints in Motion (8:30am)
DESCRIPTION:
URL:https://www.ymcashoals.org/event/joints-in-motion-3/2026-11-02/
LOCATION:YMCA of the Shoals\, 2121 Helton Drive\, Florence\, AL\, 35630\, United States
CATEGORIES:Leisure Pool Schedule,Schedules
GEO:34.8324379;-87.6683435
X-APPLE-STRUCTURED-LOCATION;VALUE=URI;X-ADDRESS=YMCA of the Shoals 2121 Helton Drive Florence AL 35630 United States;X-APPLE-RADIUS=500;X-TITLE=2121 Helton Drive:geo:-87.6683435,34.8324379
END:VEVENT
BEGIN:VEVENT
DTSTART;TZID=America/Chicago:20261102T084500
DTEND;TZID=America/Chicago:20261102T093000
DTSTAMP:20260424T032130
CREATED:20221103T150618Z
LAST-MODIFIED:20251130T035058Z
UID:187984-1793609100-1793611800@www.ymcashoals.org
SUMMARY:Deep Water Joints in Motion
DESCRIPTION:
URL:https://www.ymcashoals.org/event/deep-water-joints-in-motion-jo/2026-11-02/
LOCATION:YMCA of the Shoals\, 2121 Helton Drive\, Florence\, AL\, 35630\, United States
CATEGORIES:Leisure Pool Schedule,Schedules
GEO:34.8324379;-87.6683435
X-APPLE-STRUCTURED-LOCATION;VALUE=URI;X-ADDRESS=YMCA of the Shoals 2121 Helton Drive Florence AL 35630 United States;X-APPLE-RADIUS=500;X-TITLE=2121 Helton Drive:geo:-87.6683435,34.8324379
END:VEVENT
BEGIN:VEVENT
DTSTART;TZID=America/Chicago:20261102T110000
DTEND;TZID=America/Chicago:20261102T120000
DTSTAMP:20260424T032130
CREATED:20221103T151028Z
LAST-MODIFIED:20260107T031342Z
UID:196243-1793617200-1793620800@www.ymcashoals.org
SUMMARY:Volleyball Fun Aerobics Class
DESCRIPTION:A fun\, energetic class where participants are encouraged to promote the Y’s core values: Caring\, Honesty\, Respect and Responsibility through good sportsmanship and fair conduct for all.
URL:https://www.ymcashoals.org/event/volleyball-fun-aerobics-class-alisa/2026-11-02/
LOCATION:YMCA of the Shoals\, 2121 Helton Drive\, Florence\, AL\, 35630\, United States
CATEGORIES:Leisure Pool Schedule,Schedules
GEO:34.8324379;-87.6683435
X-APPLE-STRUCTURED-LOCATION;VALUE=URI;X-ADDRESS=YMCA of the Shoals 2121 Helton Drive Florence AL 35630 United States;X-APPLE-RADIUS=500;X-TITLE=2121 Helton Drive:geo:-87.6683435,34.8324379
END:VEVENT
BEGIN:VEVENT
DTSTART;TZID=America/Chicago:20261103T083000
DTEND;TZID=America/Chicago:20261103T091500
DTSTAMP:20260424T032130
CREATED:20240829T190838Z
LAST-MODIFIED:20240829T190838Z
UID:190840-1793694600-1793697300@www.ymcashoals.org
SUMMARY:Joints in Motion (8:30am)
DESCRIPTION:
URL:https://www.ymcashoals.org/event/joints-in-motion-3/2026-11-03/
LOCATION:YMCA of the Shoals\, 2121 Helton Drive\, Florence\, AL\, 35630\, United States
CATEGORIES:Leisure Pool Schedule,Schedules
GEO:34.8324379;-87.6683435
X-APPLE-STRUCTURED-LOCATION;VALUE=URI;X-ADDRESS=YMCA of the Shoals 2121 Helton Drive Florence AL 35630 United States;X-APPLE-RADIUS=500;X-TITLE=2121 Helton Drive:geo:-87.6683435,34.8324379
END:VEVENT
BEGIN:VEVENT
DTSTART;TZID=America/Chicago:20261103T162000
DTEND;TZID=America/Chicago:20261103T170000
DTSTAMP:20260424T032130
CREATED:20210526T193659Z
LAST-MODIFIED:20210526T193659Z
UID:188961-1793722800-1793725200@www.ymcashoals.org
SUMMARY:Swim Basics Level 1-2 (3-5yr) -T/Th
DESCRIPTION:Students (ages 3-5 years old) learn personal water safety and achieve basic swimming competency by learning two benchmark skills:  Swim\, float\, swim and jump\, push\, turn\, grab. These skills are taught through fun games and confidence building experiences.
URL:https://www.ymcashoals.org/event/3s/2026-11-03/
LOCATION:YMCA of the Shoals\, 2121 Helton Drive\, Florence\, AL\, 35630\, United States
CATEGORIES:Leisure Pool Schedule,Schedules,Swim Lessons
GEO:34.8324379;-87.6683435
X-APPLE-STRUCTURED-LOCATION;VALUE=URI;X-ADDRESS=YMCA of the Shoals 2121 Helton Drive Florence AL 35630 United States;X-APPLE-RADIUS=500;X-TITLE=2121 Helton Drive:geo:-87.6683435,34.8324379
END:VEVENT
BEGIN:VEVENT
DTSTART;TZID=America/Chicago:20261103T171000
DTEND;TZID=America/Chicago:20261103T175000
DTSTAMP:20260424T032130
CREATED:20250829T202711Z
LAST-MODIFIED:20250829T202711Z
UID:188862-1793725800-1793728200@www.ymcashoals.org
SUMMARY:Swim Basics Level 2 (6yr+) - T/Th
DESCRIPTION:Students (School age 6yr+) learn personal water safety and achieve basic swimming competency by learning two benchmark skills:  Swim\, float\, swim and jump\, push\, turn\, grab. These skills are taught through fun games and confidence building experiences.
URL:https://www.ymcashoals.org/event/swim-basics-level-2-6yr-t-th/2026-11-03/
LOCATION:YMCA of the Shoals\, 2121 Helton Drive\, Florence\, AL\, 35630\, United States
CATEGORIES:Leisure Pool Schedule,Schedules,Swim Lessons
GEO:34.8324379;-87.6683435
X-APPLE-STRUCTURED-LOCATION;VALUE=URI;X-ADDRESS=YMCA of the Shoals 2121 Helton Drive Florence AL 35630 United States;X-APPLE-RADIUS=500;X-TITLE=2121 Helton Drive:geo:-87.6683435,34.8324379
END:VEVENT
BEGIN:VEVENT
DTSTART;TZID=America/Chicago:20261103T180000
DTEND;TZID=America/Chicago:20261103T184000
DTSTAMP:20260424T032130
CREATED:20240312T034214Z
LAST-MODIFIED:20240312T034214Z
UID:188763-1793728800-1793731200@www.ymcashoals.org
SUMMARY:Swim Strokes Level 3-4 -T/Th
DESCRIPTION:Students develop intermediate self-rescue skills at longer distances. In addition to swim on front\, swim on back and introduction to treading water. \nIntroduces basic stroke technique in front crawl and back crawl and reinforces water safety through treading water and elementary backstroke.
URL:https://www.ymcashoals.org/event/swim-strokes-intermediate-level-3-4-t-th/2026-11-03/
LOCATION:YMCA of the Shoals\, 2121 Helton Drive\, Florence\, AL\, 35630\, United States
CATEGORIES:Leisure Pool Schedule,Schedules,Swim Lessons
GEO:34.8324379;-87.6683435
X-APPLE-STRUCTURED-LOCATION;VALUE=URI;X-ADDRESS=YMCA of the Shoals 2121 Helton Drive Florence AL 35630 United States;X-APPLE-RADIUS=500;X-TITLE=2121 Helton Drive:geo:-87.6683435,34.8324379
END:VEVENT
BEGIN:VEVENT
DTSTART;TZID=America/Chicago:20261104T073000
DTEND;TZID=America/Chicago:20261104T081500
DTSTAMP:20260424T032130
CREATED:20231004T205906Z
LAST-MODIFIED:20251202T233302Z
UID:191138-1793777400-1793780100@www.ymcashoals.org
SUMMARY:Joints in Motion (7:30)
DESCRIPTION:
URL:https://www.ymcashoals.org/event/joints-in-motion-2/2026-11-04/
LOCATION:YMCA of the Shoals\, 2121 Helton Drive\, Florence\, AL\, 35630\, United States
CATEGORIES:Leisure Pool Schedule,Schedules
GEO:34.8324379;-87.6683435
X-APPLE-STRUCTURED-LOCATION;VALUE=URI;X-ADDRESS=YMCA of the Shoals 2121 Helton Drive Florence AL 35630 United States;X-APPLE-RADIUS=500;X-TITLE=2121 Helton Drive:geo:-87.6683435,34.8324379
END:VEVENT
BEGIN:VEVENT
DTSTART;TZID=America/Chicago:20261104T083000
DTEND;TZID=America/Chicago:20261104T091500
DTSTAMP:20260424T032130
CREATED:20240829T190838Z
LAST-MODIFIED:20251130T040304Z
UID:189017-1793781000-1793783700@www.ymcashoals.org
SUMMARY:Joints in Motion (8:30am)
DESCRIPTION:
URL:https://www.ymcashoals.org/event/joints-in-motion-3/2026-11-04/
LOCATION:YMCA of the Shoals\, 2121 Helton Drive\, Florence\, AL\, 35630\, United States
CATEGORIES:Leisure Pool Schedule,Schedules
GEO:34.8324379;-87.6683435
X-APPLE-STRUCTURED-LOCATION;VALUE=URI;X-ADDRESS=YMCA of the Shoals 2121 Helton Drive Florence AL 35630 United States;X-APPLE-RADIUS=500;X-TITLE=2121 Helton Drive:geo:-87.6683435,34.8324379
END:VEVENT
BEGIN:VEVENT
DTSTART;TZID=America/Chicago:20261104T084500
DTEND;TZID=America/Chicago:20261104T093000
DTSTAMP:20260424T032130
CREATED:20221103T150618Z
LAST-MODIFIED:20251130T035058Z
UID:188102-1793781900-1793784600@www.ymcashoals.org
SUMMARY:Deep Water Joints in Motion
DESCRIPTION:
URL:https://www.ymcashoals.org/event/deep-water-joints-in-motion-jo/2026-11-04/
LOCATION:YMCA of the Shoals\, 2121 Helton Drive\, Florence\, AL\, 35630\, United States
CATEGORIES:Leisure Pool Schedule,Schedules
GEO:34.8324379;-87.6683435
X-APPLE-STRUCTURED-LOCATION;VALUE=URI;X-ADDRESS=YMCA of the Shoals 2121 Helton Drive Florence AL 35630 United States;X-APPLE-RADIUS=500;X-TITLE=2121 Helton Drive:geo:-87.6683435,34.8324379
END:VEVENT
BEGIN:VEVENT
DTSTART;TZID=America/Chicago:20261104T110000
DTEND;TZID=America/Chicago:20261104T120000
DTSTAMP:20260424T032130
CREATED:20221103T151028Z
LAST-MODIFIED:20260107T031342Z
UID:196244-1793790000-1793793600@www.ymcashoals.org
SUMMARY:Volleyball Fun Aerobics Class
DESCRIPTION:A fun\, energetic class where participants are encouraged to promote the Y’s core values: Caring\, Honesty\, Respect and Responsibility through good sportsmanship and fair conduct for all.
URL:https://www.ymcashoals.org/event/volleyball-fun-aerobics-class-alisa/2026-11-04/
LOCATION:YMCA of the Shoals\, 2121 Helton Drive\, Florence\, AL\, 35630\, United States
CATEGORIES:Leisure Pool Schedule,Schedules
GEO:34.8324379;-87.6683435
X-APPLE-STRUCTURED-LOCATION;VALUE=URI;X-ADDRESS=YMCA of the Shoals 2121 Helton Drive Florence AL 35630 United States;X-APPLE-RADIUS=500;X-TITLE=2121 Helton Drive:geo:-87.6683435,34.8324379
END:VEVENT
BEGIN:VEVENT
DTSTART;TZID=America/Chicago:20261105T083000
DTEND;TZID=America/Chicago:20261105T091500
DTSTAMP:20260424T032130
CREATED:20240829T190838Z
LAST-MODIFIED:20240829T190838Z
UID:190841-1793867400-1793870100@www.ymcashoals.org
SUMMARY:Joints in Motion (8:30am)
DESCRIPTION:
URL:https://www.ymcashoals.org/event/joints-in-motion-3/2026-11-05/
LOCATION:YMCA of the Shoals\, 2121 Helton Drive\, Florence\, AL\, 35630\, United States
CATEGORIES:Leisure Pool Schedule,Schedules
GEO:34.8324379;-87.6683435
X-APPLE-STRUCTURED-LOCATION;VALUE=URI;X-ADDRESS=YMCA of the Shoals 2121 Helton Drive Florence AL 35630 United States;X-APPLE-RADIUS=500;X-TITLE=2121 Helton Drive:geo:-87.6683435,34.8324379
END:VEVENT
BEGIN:VEVENT
DTSTART;TZID=America/Chicago:20261105T162000
DTEND;TZID=America/Chicago:20261105T170000
DTSTAMP:20260424T032130
CREATED:20210526T193659Z
LAST-MODIFIED:20210526T193659Z
UID:188962-1793895600-1793898000@www.ymcashoals.org
SUMMARY:Swim Basics Level 1-2 (3-5yr) -T/Th
DESCRIPTION:Students (ages 3-5 years old) learn personal water safety and achieve basic swimming competency by learning two benchmark skills:  Swim\, float\, swim and jump\, push\, turn\, grab. These skills are taught through fun games and confidence building experiences.
URL:https://www.ymcashoals.org/event/3s/2026-11-05/
LOCATION:YMCA of the Shoals\, 2121 Helton Drive\, Florence\, AL\, 35630\, United States
CATEGORIES:Leisure Pool Schedule,Schedules,Swim Lessons
GEO:34.8324379;-87.6683435
X-APPLE-STRUCTURED-LOCATION;VALUE=URI;X-ADDRESS=YMCA of the Shoals 2121 Helton Drive Florence AL 35630 United States;X-APPLE-RADIUS=500;X-TITLE=2121 Helton Drive:geo:-87.6683435,34.8324379
END:VEVENT
BEGIN:VEVENT
DTSTART;TZID=America/Chicago:20261105T171000
DTEND;TZID=America/Chicago:20261105T175000
DTSTAMP:20260424T032130
CREATED:20250829T202711Z
LAST-MODIFIED:20250829T202711Z
UID:188863-1793898600-1793901000@www.ymcashoals.org
SUMMARY:Swim Basics Level 2 (6yr+) - T/Th
DESCRIPTION:Students (School age 6yr+) learn personal water safety and achieve basic swimming competency by learning two benchmark skills:  Swim\, float\, swim and jump\, push\, turn\, grab. These skills are taught through fun games and confidence building experiences.
URL:https://www.ymcashoals.org/event/swim-basics-level-2-6yr-t-th/2026-11-05/
LOCATION:YMCA of the Shoals\, 2121 Helton Drive\, Florence\, AL\, 35630\, United States
CATEGORIES:Leisure Pool Schedule,Schedules,Swim Lessons
GEO:34.8324379;-87.6683435
X-APPLE-STRUCTURED-LOCATION;VALUE=URI;X-ADDRESS=YMCA of the Shoals 2121 Helton Drive Florence AL 35630 United States;X-APPLE-RADIUS=500;X-TITLE=2121 Helton Drive:geo:-87.6683435,34.8324379
END:VEVENT
BEGIN:VEVENT
DTSTART;TZID=America/Chicago:20261105T180000
DTEND;TZID=America/Chicago:20261105T184000
DTSTAMP:20260424T032130
CREATED:20240312T034214Z
LAST-MODIFIED:20240312T034214Z
UID:188764-1793901600-1793904000@www.ymcashoals.org
SUMMARY:Swim Strokes Level 3-4 -T/Th
DESCRIPTION:Students develop intermediate self-rescue skills at longer distances. In addition to swim on front\, swim on back and introduction to treading water. \nIntroduces basic stroke technique in front crawl and back crawl and reinforces water safety through treading water and elementary backstroke.
URL:https://www.ymcashoals.org/event/swim-strokes-intermediate-level-3-4-t-th/2026-11-05/
LOCATION:YMCA of the Shoals\, 2121 Helton Drive\, Florence\, AL\, 35630\, United States
CATEGORIES:Leisure Pool Schedule,Schedules,Swim Lessons
GEO:34.8324379;-87.6683435
X-APPLE-STRUCTURED-LOCATION;VALUE=URI;X-ADDRESS=YMCA of the Shoals 2121 Helton Drive Florence AL 35630 United States;X-APPLE-RADIUS=500;X-TITLE=2121 Helton Drive:geo:-87.6683435,34.8324379
END:VEVENT
BEGIN:VEVENT
DTSTART;TZID=America/Chicago:20261106T073000
DTEND;TZID=America/Chicago:20261106T081500
DTSTAMP:20260424T032130
CREATED:20231004T205906Z
LAST-MODIFIED:20251202T233302Z
UID:191139-1793950200-1793952900@www.ymcashoals.org
SUMMARY:Joints in Motion (7:30)
DESCRIPTION:
URL:https://www.ymcashoals.org/event/joints-in-motion-2/2026-11-06/
LOCATION:YMCA of the Shoals\, 2121 Helton Drive\, Florence\, AL\, 35630\, United States
CATEGORIES:Leisure Pool Schedule,Schedules
GEO:34.8324379;-87.6683435
X-APPLE-STRUCTURED-LOCATION;VALUE=URI;X-ADDRESS=YMCA of the Shoals 2121 Helton Drive Florence AL 35630 United States;X-APPLE-RADIUS=500;X-TITLE=2121 Helton Drive:geo:-87.6683435,34.8324379
END:VEVENT
BEGIN:VEVENT
DTSTART;TZID=America/Chicago:20261106T083000
DTEND;TZID=America/Chicago:20261106T091500
DTSTAMP:20260424T032130
CREATED:20240829T190838Z
LAST-MODIFIED:20251130T040304Z
UID:189018-1793953800-1793956500@www.ymcashoals.org
SUMMARY:Joints in Motion (8:30am)
DESCRIPTION:
URL:https://www.ymcashoals.org/event/joints-in-motion-3/2026-11-06/
LOCATION:YMCA of the Shoals\, 2121 Helton Drive\, Florence\, AL\, 35630\, United States
CATEGORIES:Leisure Pool Schedule,Schedules
GEO:34.8324379;-87.6683435
X-APPLE-STRUCTURED-LOCATION;VALUE=URI;X-ADDRESS=YMCA of the Shoals 2121 Helton Drive Florence AL 35630 United States;X-APPLE-RADIUS=500;X-TITLE=2121 Helton Drive:geo:-87.6683435,34.8324379
END:VEVENT
BEGIN:VEVENT
DTSTART;TZID=America/Chicago:20261106T084500
DTEND;TZID=America/Chicago:20261106T093000
DTSTAMP:20260424T032130
CREATED:20221103T150618Z
LAST-MODIFIED:20251130T035058Z
UID:188115-1793954700-1793957400@www.ymcashoals.org
SUMMARY:Deep Water Joints in Motion
DESCRIPTION:
URL:https://www.ymcashoals.org/event/deep-water-joints-in-motion-jo/2026-11-06/
LOCATION:YMCA of the Shoals\, 2121 Helton Drive\, Florence\, AL\, 35630\, United States
CATEGORIES:Leisure Pool Schedule,Schedules
GEO:34.8324379;-87.6683435
X-APPLE-STRUCTURED-LOCATION;VALUE=URI;X-ADDRESS=YMCA of the Shoals 2121 Helton Drive Florence AL 35630 United States;X-APPLE-RADIUS=500;X-TITLE=2121 Helton Drive:geo:-87.6683435,34.8324379
END:VEVENT
BEGIN:VEVENT
DTSTART;TZID=America/Chicago:20261106T110000
DTEND;TZID=America/Chicago:20261106T120000
DTSTAMP:20260424T032130
CREATED:20221103T151028Z
LAST-MODIFIED:20260107T031342Z
UID:196245-1793962800-1793966400@www.ymcashoals.org
SUMMARY:Volleyball Fun Aerobics Class
DESCRIPTION:A fun\, energetic class where participants are encouraged to promote the Y’s core values: Caring\, Honesty\, Respect and Responsibility through good sportsmanship and fair conduct for all.
URL:https://www.ymcashoals.org/event/volleyball-fun-aerobics-class-alisa/2026-11-06/
LOCATION:YMCA of the Shoals\, 2121 Helton Drive\, Florence\, AL\, 35630\, United States
CATEGORIES:Leisure Pool Schedule,Schedules
GEO:34.8324379;-87.6683435
X-APPLE-STRUCTURED-LOCATION;VALUE=URI;X-ADDRESS=YMCA of the Shoals 2121 Helton Drive Florence AL 35630 United States;X-APPLE-RADIUS=500;X-TITLE=2121 Helton Drive:geo:-87.6683435,34.8324379
END:VEVENT
BEGIN:VEVENT
DTSTART;TZID=America/Chicago:20261107T090000
DTEND;TZID=America/Chicago:20261107T094000
DTSTAMP:20260424T032130
CREATED:20250905T194439Z
LAST-MODIFIED:20251130T034305Z
UID:188472-1794042000-1794044400@www.ymcashoals.org
SUMMARY:Swim Basics Level 3 - Saturdays
DESCRIPTION:Students learn personal water safety and achieve basic swimming competency by learning two benchmark skills: Swim\, float\, swim and Jump\, push\, turn\, grab. These skills are taught through fun games and confidence building experiences. (Intermediate level)\nStudents develop intermediate self-rescue skills at longer distances. In addition to swim on front\, swim on back and introduction to treading water.
URL:https://www.ymcashoals.org/event/swim-basics-level-3-intermediate/2026-11-07/
LOCATION:YMCA of the Shoals\, 2121 Helton Drive\, Florence\, AL\, 35630\, United States
CATEGORIES:Leisure Pool Schedule,Schedules,Swim Lessons
GEO:34.8324379;-87.6683435
X-APPLE-STRUCTURED-LOCATION;VALUE=URI;X-ADDRESS=YMCA of the Shoals 2121 Helton Drive Florence AL 35630 United States;X-APPLE-RADIUS=500;X-TITLE=2121 Helton Drive:geo:-87.6683435,34.8324379
END:VEVENT
BEGIN:VEVENT
DTSTART;TZID=America/Chicago:20261107T095000
DTEND;TZID=America/Chicago:20261107T103000
DTSTAMP:20260424T032130
CREATED:20240312T031918Z
LAST-MODIFIED:20240312T031918Z
UID:188671-1794045000-1794047400@www.ymcashoals.org
SUMMARY:Swim Basics Level 2 (5yr+) -Saturdays
DESCRIPTION:Students learn personal water safety and achieve basic swimming competency by learning two benchmark skills:  Swim\, float\, swim and jump\, push\, turn\, grab. These skills are taught through fun games and confidence building experiences.
URL:https://www.ymcashoals.org/event/swim-basics-level-1-2-school-age-6yr-saturdays/2026-11-07/
LOCATION:YMCA of the Shoals\, 2121 Helton Drive\, Florence\, AL\, 35630\, United States
CATEGORIES:Leisure Pool Schedule,Schedules,Swim Lessons
GEO:34.8324379;-87.6683435
X-APPLE-STRUCTURED-LOCATION;VALUE=URI;X-ADDRESS=YMCA of the Shoals 2121 Helton Drive Florence AL 35630 United States;X-APPLE-RADIUS=500;X-TITLE=2121 Helton Drive:geo:-87.6683435,34.8324379
END:VEVENT
BEGIN:VEVENT
DTSTART;TZID=America/Chicago:20261107T104000
DTEND;TZID=America/Chicago:20261107T111000
DTSTAMP:20260424T032130
CREATED:20240312T033701Z
LAST-MODIFIED:20260109T141030Z
UID:188571-1794048000-1794049800@www.ymcashoals.org
SUMMARY:Mom\, Pop & tot Swim Lessons (6m-3yr) -Saturdays
DESCRIPTION:Accompanied by a parent or guardian\, infants and toddlers learn to be comfortable in the water and develop swim readiness skills through fun and confidence building experiences. Parents/Guardians will learn about water safety\, drowning prevention and the importance of supervision. \nParent/Guardian must remain in water with child at all times. SWIM DIAPERS REQUIRED UNLESS POTTY TRAINED.
URL:https://www.ymcashoals.org/event/mom-pop-tot-swim-lessons-6m-3yr-saturdays-2/2026-11-07/
LOCATION:YMCA of the Shoals\, 2121 Helton Drive\, Florence\, AL\, 35630\, United States
CATEGORIES:Leisure Pool Schedule,Schedules,Swim Lessons
GEO:34.8324379;-87.6683435
X-APPLE-STRUCTURED-LOCATION;VALUE=URI;X-ADDRESS=YMCA of the Shoals 2121 Helton Drive Florence AL 35630 United States;X-APPLE-RADIUS=500;X-TITLE=2121 Helton Drive:geo:-87.6683435,34.8324379
END:VEVENT
BEGIN:VEVENT
DTSTART;TZID=America/Chicago:20261107T112000
DTEND;TZID=America/Chicago:20261107T120000
DTSTAMP:20260424T032130
CREATED:20240312T031636Z
LAST-MODIFIED:20240312T031636Z
UID:188621-1794050400-1794052800@www.ymcashoals.org
SUMMARY:Swim Basics Level 1 (3-5yr) -Saturdays
DESCRIPTION:Students (ages 3-5yrs old) learn personal water safety and achieve basic swimming competency by learning two benchmark skills:  Swim\, float\, swim and jump\, push\, turn\, grab. These skills are taught through fun games and confidence building experiences.
URL:https://www.ymcashoals.org/event/swim-basics-level-1-2-preschool-3-5yr-saturdays/2026-11-07/
LOCATION:YMCA of the Shoals\, 2121 Helton Drive\, Florence\, AL\, 35630\, United States
CATEGORIES:Leisure Pool Schedule,Schedules,Swim Lessons
GEO:34.8324379;-87.6683435
X-APPLE-STRUCTURED-LOCATION;VALUE=URI;X-ADDRESS=YMCA of the Shoals 2121 Helton Drive Florence AL 35630 United States;X-APPLE-RADIUS=500;X-TITLE=2121 Helton Drive:geo:-87.6683435,34.8324379
END:VEVENT
BEGIN:VEVENT
DTSTART;TZID=America/Chicago:20261109T073000
DTEND;TZID=America/Chicago:20261109T081500
DTSTAMP:20260424T032130
CREATED:20231004T205906Z
LAST-MODIFIED:20251202T233303Z
UID:191140-1794209400-1794212100@www.ymcashoals.org
SUMMARY:Joints in Motion (7:30)
DESCRIPTION:
URL:https://www.ymcashoals.org/event/joints-in-motion-2/2026-11-09/
LOCATION:YMCA of the Shoals\, 2121 Helton Drive\, Florence\, AL\, 35630\, United States
CATEGORIES:Leisure Pool Schedule,Schedules
GEO:34.8324379;-87.6683435
X-APPLE-STRUCTURED-LOCATION;VALUE=URI;X-ADDRESS=YMCA of the Shoals 2121 Helton Drive Florence AL 35630 United States;X-APPLE-RADIUS=500;X-TITLE=2121 Helton Drive:geo:-87.6683435,34.8324379
END:VEVENT
BEGIN:VEVENT
DTSTART;TZID=America/Chicago:20261109T083000
DTEND;TZID=America/Chicago:20261109T091500
DTSTAMP:20260424T032130
CREATED:20240829T190838Z
LAST-MODIFIED:20251130T040304Z
UID:189019-1794213000-1794215700@www.ymcashoals.org
SUMMARY:Joints in Motion (8:30am)
DESCRIPTION:
URL:https://www.ymcashoals.org/event/joints-in-motion-3/2026-11-09/
LOCATION:YMCA of the Shoals\, 2121 Helton Drive\, Florence\, AL\, 35630\, United States
CATEGORIES:Leisure Pool Schedule,Schedules
GEO:34.8324379;-87.6683435
X-APPLE-STRUCTURED-LOCATION;VALUE=URI;X-ADDRESS=YMCA of the Shoals 2121 Helton Drive Florence AL 35630 United States;X-APPLE-RADIUS=500;X-TITLE=2121 Helton Drive:geo:-87.6683435,34.8324379
END:VEVENT
BEGIN:VEVENT
DTSTART;TZID=America/Chicago:20261109T084500
DTEND;TZID=America/Chicago:20261109T093000
DTSTAMP:20260424T032130
CREATED:20221103T150618Z
LAST-MODIFIED:20251130T035058Z
UID:188122-1794213900-1794216600@www.ymcashoals.org
SUMMARY:Deep Water Joints in Motion
DESCRIPTION:
URL:https://www.ymcashoals.org/event/deep-water-joints-in-motion-jo/2026-11-09/
LOCATION:YMCA of the Shoals\, 2121 Helton Drive\, Florence\, AL\, 35630\, United States
CATEGORIES:Leisure Pool Schedule,Schedules
GEO:34.8324379;-87.6683435
X-APPLE-STRUCTURED-LOCATION;VALUE=URI;X-ADDRESS=YMCA of the Shoals 2121 Helton Drive Florence AL 35630 United States;X-APPLE-RADIUS=500;X-TITLE=2121 Helton Drive:geo:-87.6683435,34.8324379
END:VEVENT
BEGIN:VEVENT
DTSTART;TZID=America/Chicago:20261109T110000
DTEND;TZID=America/Chicago:20261109T120000
DTSTAMP:20260424T032130
CREATED:20221103T151028Z
LAST-MODIFIED:20260107T031342Z
UID:196246-1794222000-1794225600@www.ymcashoals.org
SUMMARY:Volleyball Fun Aerobics Class
DESCRIPTION:A fun\, energetic class where participants are encouraged to promote the Y’s core values: Caring\, Honesty\, Respect and Responsibility through good sportsmanship and fair conduct for all.
URL:https://www.ymcashoals.org/event/volleyball-fun-aerobics-class-alisa/2026-11-09/
LOCATION:YMCA of the Shoals\, 2121 Helton Drive\, Florence\, AL\, 35630\, United States
CATEGORIES:Leisure Pool Schedule,Schedules
GEO:34.8324379;-87.6683435
X-APPLE-STRUCTURED-LOCATION;VALUE=URI;X-ADDRESS=YMCA of the Shoals 2121 Helton Drive Florence AL 35630 United States;X-APPLE-RADIUS=500;X-TITLE=2121 Helton Drive:geo:-87.6683435,34.8324379
END:VEVENT
BEGIN:VEVENT
DTSTART;TZID=America/Chicago:20261110T083000
DTEND;TZID=America/Chicago:20261110T091500
DTSTAMP:20260424T032130
CREATED:20240829T190838Z
LAST-MODIFIED:20240829T190838Z
UID:190842-1794299400-1794302100@www.ymcashoals.org
SUMMARY:Joints in Motion (8:30am)
DESCRIPTION:
URL:https://www.ymcashoals.org/event/joints-in-motion-3/2026-11-10/
LOCATION:YMCA of the Shoals\, 2121 Helton Drive\, Florence\, AL\, 35630\, United States
CATEGORIES:Leisure Pool Schedule,Schedules
GEO:34.8324379;-87.6683435
X-APPLE-STRUCTURED-LOCATION;VALUE=URI;X-ADDRESS=YMCA of the Shoals 2121 Helton Drive Florence AL 35630 United States;X-APPLE-RADIUS=500;X-TITLE=2121 Helton Drive:geo:-87.6683435,34.8324379
END:VEVENT
BEGIN:VEVENT
DTSTART;TZID=America/Chicago:20261110T162000
DTEND;TZID=America/Chicago:20261110T170000
DTSTAMP:20260424T032130
CREATED:20210526T193659Z
LAST-MODIFIED:20210526T193659Z
UID:188963-1794327600-1794330000@www.ymcashoals.org
SUMMARY:Swim Basics Level 1-2 (3-5yr) -T/Th
DESCRIPTION:Students (ages 3-5 years old) learn personal water safety and achieve basic swimming competency by learning two benchmark skills:  Swim\, float\, swim and jump\, push\, turn\, grab. These skills are taught through fun games and confidence building experiences.
URL:https://www.ymcashoals.org/event/3s/2026-11-10/
LOCATION:YMCA of the Shoals\, 2121 Helton Drive\, Florence\, AL\, 35630\, United States
CATEGORIES:Leisure Pool Schedule,Schedules,Swim Lessons
GEO:34.8324379;-87.6683435
X-APPLE-STRUCTURED-LOCATION;VALUE=URI;X-ADDRESS=YMCA of the Shoals 2121 Helton Drive Florence AL 35630 United States;X-APPLE-RADIUS=500;X-TITLE=2121 Helton Drive:geo:-87.6683435,34.8324379
END:VEVENT
END:VCALENDAR