BEGIN:VCALENDAR
VERSION:2.0
PRODID:-//YMCA of the Shoals - ECPv6.15.20//NONSGML v1.0//EN
CALSCALE:GREGORIAN
METHOD:PUBLISH
X-ORIGINAL-URL:https://www.ymcashoals.org
X-WR-CALDESC:Events for YMCA of the Shoals
REFRESH-INTERVAL;VALUE=DURATION:PT1H
X-Robots-Tag:noindex
X-PUBLISHED-TTL:PT1H
BEGIN:VTIMEZONE
TZID:America/Chicago
BEGIN:DAYLIGHT
TZOFFSETFROM:-0600
TZOFFSETTO:-0500
TZNAME:CDT
DTSTART:20250309T080000
END:DAYLIGHT
BEGIN:STANDARD
TZOFFSETFROM:-0500
TZOFFSETTO:-0600
TZNAME:CST
DTSTART:20251102T070000
END:STANDARD
BEGIN:DAYLIGHT
TZOFFSETFROM:-0600
TZOFFSETTO:-0500
TZNAME:CDT
DTSTART:20260308T080000
END:DAYLIGHT
BEGIN:STANDARD
TZOFFSETFROM:-0500
TZOFFSETTO:-0600
TZNAME:CST
DTSTART:20261101T070000
END:STANDARD
BEGIN:DAYLIGHT
TZOFFSETFROM:-0600
TZOFFSETTO:-0500
TZNAME:CDT
DTSTART:20270314T080000
END:DAYLIGHT
BEGIN:STANDARD
TZOFFSETFROM:-0500
TZOFFSETTO:-0600
TZNAME:CST
DTSTART:20271107T070000
END:STANDARD
END:VTIMEZONE
BEGIN:VEVENT
DTSTART;TZID=America/Chicago:20260801T091500
DTEND;TZID=America/Chicago:20260801T100000
DTSTAMP:20260423T191229
CREATED:20250806T155252Z
LAST-MODIFIED:20250806T155252Z
UID:189879-1785575700-1785578400@www.ymcashoals.org
SUMMARY:Water Workout
DESCRIPTION:2 lanes available
URL:https://www.ymcashoals.org/event/water-workout-4/2026-08-01/
LOCATION:YMCA of the Shoals\, 2121 Helton Drive\, Florence\, AL\, 35630\, United States
CATEGORIES:Lap Pool,Lap Pool Schedule,Schedules
GEO:34.8324379;-87.6683435
X-APPLE-STRUCTURED-LOCATION;VALUE=URI;X-ADDRESS=YMCA of the Shoals 2121 Helton Drive Florence AL 35630 United States;X-APPLE-RADIUS=500;X-TITLE=2121 Helton Drive:geo:-87.6683435,34.8324379
END:VEVENT
BEGIN:VEVENT
DTSTART;TZID=America/Chicago:20260802T130000
DTEND;TZID=America/Chicago:20260802T163000
DTSTAMP:20260423T191229
CREATED:20240829T194957Z
LAST-MODIFIED:20240829T194957Z
UID:183565-1785675600-1785688200@www.ymcashoals.org
SUMMARY:Open Swim
DESCRIPTION:
URL:https://www.ymcashoals.org/event/open-swim/2026-08-02/
LOCATION:YMCA of the Shoals\, 2121 Helton Drive\, Florence\, AL\, 35630\, United States
CATEGORIES:Lap Pool Schedule,Leisure Pool Schedule,Schedules
GEO:34.8324379;-87.6683435
X-APPLE-STRUCTURED-LOCATION;VALUE=URI;X-ADDRESS=YMCA of the Shoals 2121 Helton Drive Florence AL 35630 United States;X-APPLE-RADIUS=500;X-TITLE=2121 Helton Drive:geo:-87.6683435,34.8324379
END:VEVENT
BEGIN:VEVENT
DTSTART;TZID=America/Chicago:20260803T053000
DTEND;TZID=America/Chicago:20260803T090000
DTSTAMP:20260423T191229
CREATED:20240829T194042Z
LAST-MODIFIED:20260109T141601Z
UID:183572-1785735000-1785747600@www.ymcashoals.org
SUMMARY:All 6 Lanes Available
DESCRIPTION:
URL:https://www.ymcashoals.org/event/all-6-lanes-available-8/2026-08-03/
LOCATION:YMCA of the Shoals\, 2121 Helton Drive\, Florence\, AL\, 35630\, United States
CATEGORIES:Lap Pool,Lap Pool Schedule,Schedules
GEO:34.8324379;-87.6683435
X-APPLE-STRUCTURED-LOCATION;VALUE=URI;X-ADDRESS=YMCA of the Shoals 2121 Helton Drive Florence AL 35630 United States;X-APPLE-RADIUS=500;X-TITLE=2121 Helton Drive:geo:-87.6683435,34.8324379
END:VEVENT
BEGIN:VEVENT
DTSTART;TZID=America/Chicago:20260803T091500
DTEND;TZID=America/Chicago:20260803T100000
DTSTAMP:20260423T191229
CREATED:20250806T155252Z
LAST-MODIFIED:20250806T155252Z
UID:189880-1785748500-1785751200@www.ymcashoals.org
SUMMARY:Water Workout
DESCRIPTION:2 lanes available
URL:https://www.ymcashoals.org/event/water-workout-4/2026-08-03/
LOCATION:YMCA of the Shoals\, 2121 Helton Drive\, Florence\, AL\, 35630\, United States
CATEGORIES:Lap Pool,Lap Pool Schedule,Schedules
GEO:34.8324379;-87.6683435
X-APPLE-STRUCTURED-LOCATION;VALUE=URI;X-ADDRESS=YMCA of the Shoals 2121 Helton Drive Florence AL 35630 United States;X-APPLE-RADIUS=500;X-TITLE=2121 Helton Drive:geo:-87.6683435,34.8324379
END:VEVENT
BEGIN:VEVENT
DTSTART;TZID=America/Chicago:20260803T101500
DTEND;TZID=America/Chicago:20260803T110000
DTSTAMP:20260423T191229
CREATED:20250806T155946Z
LAST-MODIFIED:20251130T033707Z
UID:189374-1785752100-1785754800@www.ymcashoals.org
SUMMARY:Working in the Deep
DESCRIPTION:2 lanes available
URL:https://www.ymcashoals.org/event/working-in-the-deep-6/2026-08-03/
LOCATION:YMCA of the Shoals\, 2121 Helton Drive\, Florence\, AL\, 35630\, United States
CATEGORIES:Lap Pool,Lap Pool Schedule,Schedules
GEO:34.8324379;-87.6683435
X-APPLE-STRUCTURED-LOCATION;VALUE=URI;X-ADDRESS=YMCA of the Shoals 2121 Helton Drive Florence AL 35630 United States;X-APPLE-RADIUS=500;X-TITLE=2121 Helton Drive:geo:-87.6683435,34.8324379
END:VEVENT
BEGIN:VEVENT
DTSTART;TZID=America/Chicago:20260803T171500
DTEND;TZID=America/Chicago:20260803T180500
DTSTAMP:20260423T191229
CREATED:20240219T164805Z
LAST-MODIFIED:20240219T164805Z
UID:188508-1785777300-1785780300@www.ymcashoals.org
SUMMARY:Porpoise Club (Advanced) Level 5-6
DESCRIPTION:Introduces students to breaststroke and butterfly and reinforces water safety through treading water and sidestroke. Students will refine stroke technique on all major competitive strokes\, learn to dive and to flip turn\, in order to prepare for swim team or any future swimming endeavors. \nParticipants MUST pass lap pool swim test prior to registering. (Acquired red band)
URL:https://www.ymcashoals.org/event/porpoise-club-advanced-level-5-6/2026-08-03/
LOCATION:YMCA of the Shoals\, 2121 Helton Drive\, Florence\, AL\, 35630\, United States
CATEGORIES:Lap Pool,Lap Pool Schedule,Schedules,Swim Lessons
GEO:34.8324379;-87.6683435
X-APPLE-STRUCTURED-LOCATION;VALUE=URI;X-ADDRESS=YMCA of the Shoals 2121 Helton Drive Florence AL 35630 United States;X-APPLE-RADIUS=500;X-TITLE=2121 Helton Drive:geo:-87.6683435,34.8324379
END:VEVENT
BEGIN:VEVENT
DTSTART;TZID=America/Chicago:20260803T173000
DTEND;TZID=America/Chicago:20260803T181000
DTSTAMP:20260423T191229
CREATED:20260107T025818Z
LAST-MODIFIED:20260107T025818Z
UID:195881-1785778200-1785780600@www.ymcashoals.org
SUMMARY:After Work Water Workout
DESCRIPTION:2 Lanes available
URL:https://www.ymcashoals.org/event/after-work-water-workout/2026-08-03/
LOCATION:YMCA of the Shoals\, 2121 Helton Drive\, Florence\, AL\, 35630\, United States
CATEGORIES:Lap Pool,Lap Pool Schedule,Schedules
GEO:34.8324379;-87.6683435
X-APPLE-STRUCTURED-LOCATION;VALUE=URI;X-ADDRESS=YMCA of the Shoals 2121 Helton Drive Florence AL 35630 United States;X-APPLE-RADIUS=500;X-TITLE=2121 Helton Drive:geo:-87.6683435,34.8324379
END:VEVENT
BEGIN:VEVENT
DTSTART;TZID=America/Chicago:20260804T053000
DTEND;TZID=America/Chicago:20260804T090000
DTSTAMP:20260423T191229
CREATED:20240829T194042Z
LAST-MODIFIED:20260109T141601Z
UID:183582-1785821400-1785834000@www.ymcashoals.org
SUMMARY:All 6 Lanes Available
DESCRIPTION:
URL:https://www.ymcashoals.org/event/all-6-lanes-available-8/2026-08-04/
LOCATION:YMCA of the Shoals\, 2121 Helton Drive\, Florence\, AL\, 35630\, United States
CATEGORIES:Lap Pool,Lap Pool Schedule,Schedules
GEO:34.8324379;-87.6683435
X-APPLE-STRUCTURED-LOCATION;VALUE=URI;X-ADDRESS=YMCA of the Shoals 2121 Helton Drive Florence AL 35630 United States;X-APPLE-RADIUS=500;X-TITLE=2121 Helton Drive:geo:-87.6683435,34.8324379
END:VEVENT
BEGIN:VEVENT
DTSTART;TZID=America/Chicago:20260804T091500
DTEND;TZID=America/Chicago:20260804T100000
DTSTAMP:20260423T191229
CREATED:20250806T155252Z
LAST-MODIFIED:20250806T155252Z
UID:189881-1785834900-1785837600@www.ymcashoals.org
SUMMARY:Water Workout
DESCRIPTION:2 lanes available
URL:https://www.ymcashoals.org/event/water-workout-4/2026-08-04/
LOCATION:YMCA of the Shoals\, 2121 Helton Drive\, Florence\, AL\, 35630\, United States
CATEGORIES:Lap Pool,Lap Pool Schedule,Schedules
GEO:34.8324379;-87.6683435
X-APPLE-STRUCTURED-LOCATION;VALUE=URI;X-ADDRESS=YMCA of the Shoals 2121 Helton Drive Florence AL 35630 United States;X-APPLE-RADIUS=500;X-TITLE=2121 Helton Drive:geo:-87.6683435,34.8324379
END:VEVENT
BEGIN:VEVENT
DTSTART;TZID=America/Chicago:20260804T101500
DTEND;TZID=America/Chicago:20260804T110000
DTSTAMP:20260423T191229
CREATED:20250806T155946Z
LAST-MODIFIED:20251130T033707Z
UID:189375-1785838500-1785841200@www.ymcashoals.org
SUMMARY:Working in the Deep
DESCRIPTION:2 lanes available
URL:https://www.ymcashoals.org/event/working-in-the-deep-6/2026-08-04/
LOCATION:YMCA of the Shoals\, 2121 Helton Drive\, Florence\, AL\, 35630\, United States
CATEGORIES:Lap Pool,Lap Pool Schedule,Schedules
GEO:34.8324379;-87.6683435
X-APPLE-STRUCTURED-LOCATION;VALUE=URI;X-ADDRESS=YMCA of the Shoals 2121 Helton Drive Florence AL 35630 United States;X-APPLE-RADIUS=500;X-TITLE=2121 Helton Drive:geo:-87.6683435,34.8324379
END:VEVENT
BEGIN:VEVENT
DTSTART;TZID=America/Chicago:20260805T053000
DTEND;TZID=America/Chicago:20260805T090000
DTSTAMP:20260423T191229
CREATED:20240829T194042Z
LAST-MODIFIED:20260109T141601Z
UID:183592-1785907800-1785920400@www.ymcashoals.org
SUMMARY:All 6 Lanes Available
DESCRIPTION:
URL:https://www.ymcashoals.org/event/all-6-lanes-available-8/2026-08-05/
LOCATION:YMCA of the Shoals\, 2121 Helton Drive\, Florence\, AL\, 35630\, United States
CATEGORIES:Lap Pool,Lap Pool Schedule,Schedules
GEO:34.8324379;-87.6683435
X-APPLE-STRUCTURED-LOCATION;VALUE=URI;X-ADDRESS=YMCA of the Shoals 2121 Helton Drive Florence AL 35630 United States;X-APPLE-RADIUS=500;X-TITLE=2121 Helton Drive:geo:-87.6683435,34.8324379
END:VEVENT
BEGIN:VEVENT
DTSTART;TZID=America/Chicago:20260805T081500
DTEND;TZID=America/Chicago:20260805T090000
DTSTAMP:20260423T191229
CREATED:20250828T020903Z
LAST-MODIFIED:20250828T020903Z
UID:189741-1785917700-1785920400@www.ymcashoals.org
SUMMARY:Deep Water Aerobics
DESCRIPTION:2 lanes available
URL:https://www.ymcashoals.org/event/deep-water-aerobics/2026-08-05/
LOCATION:YMCA of the Shoals\, 2121 Helton Drive\, Florence\, AL\, 35630\, United States
CATEGORIES:Lap Pool,Lap Pool Schedule,Schedules
GEO:34.8324379;-87.6683435
X-APPLE-STRUCTURED-LOCATION;VALUE=URI;X-ADDRESS=YMCA of the Shoals 2121 Helton Drive Florence AL 35630 United States;X-APPLE-RADIUS=500;X-TITLE=2121 Helton Drive:geo:-87.6683435,34.8324379
END:VEVENT
BEGIN:VEVENT
DTSTART;TZID=America/Chicago:20260805T091500
DTEND;TZID=America/Chicago:20260805T100000
DTSTAMP:20260423T191229
CREATED:20250806T155354Z
LAST-MODIFIED:20251130T035226Z
UID:190306-1785921300-1785924000@www.ymcashoals.org
SUMMARY:Y Aquadance
DESCRIPTION:2 lanes available
URL:https://www.ymcashoals.org/event/y-aquadance-2/2026-08-05/
LOCATION:YMCA of the Shoals\, 2121 Helton Drive\, Florence\, AL\, 35630\, United States
CATEGORIES:Lap Pool,Lap Pool Schedule,Schedules
GEO:34.8324379;-87.6683435
X-APPLE-STRUCTURED-LOCATION;VALUE=URI;X-ADDRESS=YMCA of the Shoals 2121 Helton Drive Florence AL 35630 United States;X-APPLE-RADIUS=500;X-TITLE=2121 Helton Drive:geo:-87.6683435,34.8324379
END:VEVENT
BEGIN:VEVENT
DTSTART;TZID=America/Chicago:20260805T101500
DTEND;TZID=America/Chicago:20260805T110000
DTSTAMP:20260423T191229
CREATED:20250806T155946Z
LAST-MODIFIED:20251130T033707Z
UID:189376-1785924900-1785927600@www.ymcashoals.org
SUMMARY:Working in the Deep
DESCRIPTION:2 lanes available
URL:https://www.ymcashoals.org/event/working-in-the-deep-6/2026-08-05/
LOCATION:YMCA of the Shoals\, 2121 Helton Drive\, Florence\, AL\, 35630\, United States
CATEGORIES:Lap Pool,Lap Pool Schedule,Schedules
GEO:34.8324379;-87.6683435
X-APPLE-STRUCTURED-LOCATION;VALUE=URI;X-ADDRESS=YMCA of the Shoals 2121 Helton Drive Florence AL 35630 United States;X-APPLE-RADIUS=500;X-TITLE=2121 Helton Drive:geo:-87.6683435,34.8324379
END:VEVENT
BEGIN:VEVENT
DTSTART;TZID=America/Chicago:20260805T173000
DTEND;TZID=America/Chicago:20260805T181000
DTSTAMP:20260423T191229
CREATED:20260107T025818Z
LAST-MODIFIED:20260107T025818Z
UID:195882-1785951000-1785953400@www.ymcashoals.org
SUMMARY:After Work Water Workout
DESCRIPTION:2 Lanes available
URL:https://www.ymcashoals.org/event/after-work-water-workout/2026-08-05/
LOCATION:YMCA of the Shoals\, 2121 Helton Drive\, Florence\, AL\, 35630\, United States
CATEGORIES:Lap Pool,Lap Pool Schedule,Schedules
GEO:34.8324379;-87.6683435
X-APPLE-STRUCTURED-LOCATION;VALUE=URI;X-ADDRESS=YMCA of the Shoals 2121 Helton Drive Florence AL 35630 United States;X-APPLE-RADIUS=500;X-TITLE=2121 Helton Drive:geo:-87.6683435,34.8324379
END:VEVENT
BEGIN:VEVENT
DTSTART;TZID=America/Chicago:20260806T053000
DTEND;TZID=America/Chicago:20260806T090000
DTSTAMP:20260423T191229
CREATED:20240829T194042Z
LAST-MODIFIED:20260109T141601Z
UID:183599-1785994200-1786006800@www.ymcashoals.org
SUMMARY:All 6 Lanes Available
DESCRIPTION:
URL:https://www.ymcashoals.org/event/all-6-lanes-available-8/2026-08-06/
LOCATION:YMCA of the Shoals\, 2121 Helton Drive\, Florence\, AL\, 35630\, United States
CATEGORIES:Lap Pool,Lap Pool Schedule,Schedules
GEO:34.8324379;-87.6683435
X-APPLE-STRUCTURED-LOCATION;VALUE=URI;X-ADDRESS=YMCA of the Shoals 2121 Helton Drive Florence AL 35630 United States;X-APPLE-RADIUS=500;X-TITLE=2121 Helton Drive:geo:-87.6683435,34.8324379
END:VEVENT
BEGIN:VEVENT
DTSTART;TZID=America/Chicago:20260806T091500
DTEND;TZID=America/Chicago:20260806T100000
DTSTAMP:20260423T191229
CREATED:20250806T155252Z
LAST-MODIFIED:20250806T155252Z
UID:189882-1786007700-1786010400@www.ymcashoals.org
SUMMARY:Water Workout
DESCRIPTION:2 lanes available
URL:https://www.ymcashoals.org/event/water-workout-4/2026-08-06/
LOCATION:YMCA of the Shoals\, 2121 Helton Drive\, Florence\, AL\, 35630\, United States
CATEGORIES:Lap Pool,Lap Pool Schedule,Schedules
GEO:34.8324379;-87.6683435
X-APPLE-STRUCTURED-LOCATION;VALUE=URI;X-ADDRESS=YMCA of the Shoals 2121 Helton Drive Florence AL 35630 United States;X-APPLE-RADIUS=500;X-TITLE=2121 Helton Drive:geo:-87.6683435,34.8324379
END:VEVENT
BEGIN:VEVENT
DTSTART;TZID=America/Chicago:20260806T101500
DTEND;TZID=America/Chicago:20260806T110000
DTSTAMP:20260423T191229
CREATED:20250806T155946Z
LAST-MODIFIED:20251130T033707Z
UID:189377-1786011300-1786014000@www.ymcashoals.org
SUMMARY:Working in the Deep
DESCRIPTION:2 lanes available
URL:https://www.ymcashoals.org/event/working-in-the-deep-6/2026-08-06/
LOCATION:YMCA of the Shoals\, 2121 Helton Drive\, Florence\, AL\, 35630\, United States
CATEGORIES:Lap Pool,Lap Pool Schedule,Schedules
GEO:34.8324379;-87.6683435
X-APPLE-STRUCTURED-LOCATION;VALUE=URI;X-ADDRESS=YMCA of the Shoals 2121 Helton Drive Florence AL 35630 United States;X-APPLE-RADIUS=500;X-TITLE=2121 Helton Drive:geo:-87.6683435,34.8324379
END:VEVENT
BEGIN:VEVENT
DTSTART;TZID=America/Chicago:20260807T053000
DTEND;TZID=America/Chicago:20260807T090000
DTSTAMP:20260423T191229
CREATED:20240829T194042Z
LAST-MODIFIED:20260109T141602Z
UID:183604-1786080600-1786093200@www.ymcashoals.org
SUMMARY:All 6 Lanes Available
DESCRIPTION:
URL:https://www.ymcashoals.org/event/all-6-lanes-available-8/2026-08-07/
LOCATION:YMCA of the Shoals\, 2121 Helton Drive\, Florence\, AL\, 35630\, United States
CATEGORIES:Lap Pool,Lap Pool Schedule,Schedules
GEO:34.8324379;-87.6683435
X-APPLE-STRUCTURED-LOCATION;VALUE=URI;X-ADDRESS=YMCA of the Shoals 2121 Helton Drive Florence AL 35630 United States;X-APPLE-RADIUS=500;X-TITLE=2121 Helton Drive:geo:-87.6683435,34.8324379
END:VEVENT
BEGIN:VEVENT
DTSTART;TZID=America/Chicago:20260807T091500
DTEND;TZID=America/Chicago:20260807T100000
DTSTAMP:20260423T191229
CREATED:20250806T155354Z
LAST-MODIFIED:20251130T035226Z
UID:190307-1786094100-1786096800@www.ymcashoals.org
SUMMARY:Y Aquadance
DESCRIPTION:2 lanes available
URL:https://www.ymcashoals.org/event/y-aquadance-2/2026-08-07/
LOCATION:YMCA of the Shoals\, 2121 Helton Drive\, Florence\, AL\, 35630\, United States
CATEGORIES:Lap Pool,Lap Pool Schedule,Schedules
GEO:34.8324379;-87.6683435
X-APPLE-STRUCTURED-LOCATION;VALUE=URI;X-ADDRESS=YMCA of the Shoals 2121 Helton Drive Florence AL 35630 United States;X-APPLE-RADIUS=500;X-TITLE=2121 Helton Drive:geo:-87.6683435,34.8324379
END:VEVENT
BEGIN:VEVENT
DTSTART;TZID=America/Chicago:20260807T101500
DTEND;TZID=America/Chicago:20260807T110000
DTSTAMP:20260423T191229
CREATED:20250806T155946Z
LAST-MODIFIED:20251130T033707Z
UID:189378-1786097700-1786100400@www.ymcashoals.org
SUMMARY:Working in the Deep
DESCRIPTION:2 lanes available
URL:https://www.ymcashoals.org/event/working-in-the-deep-6/2026-08-07/
LOCATION:YMCA of the Shoals\, 2121 Helton Drive\, Florence\, AL\, 35630\, United States
CATEGORIES:Lap Pool,Lap Pool Schedule,Schedules
GEO:34.8324379;-87.6683435
X-APPLE-STRUCTURED-LOCATION;VALUE=URI;X-ADDRESS=YMCA of the Shoals 2121 Helton Drive Florence AL 35630 United States;X-APPLE-RADIUS=500;X-TITLE=2121 Helton Drive:geo:-87.6683435,34.8324379
END:VEVENT
BEGIN:VEVENT
DTSTART;TZID=America/Chicago:20260808T091500
DTEND;TZID=America/Chicago:20260808T100000
DTSTAMP:20260423T191229
CREATED:20250806T155252Z
LAST-MODIFIED:20250806T155252Z
UID:189883-1786180500-1786183200@www.ymcashoals.org
SUMMARY:Water Workout
DESCRIPTION:2 lanes available
URL:https://www.ymcashoals.org/event/water-workout-4/2026-08-08/
LOCATION:YMCA of the Shoals\, 2121 Helton Drive\, Florence\, AL\, 35630\, United States
CATEGORIES:Lap Pool,Lap Pool Schedule,Schedules
GEO:34.8324379;-87.6683435
X-APPLE-STRUCTURED-LOCATION;VALUE=URI;X-ADDRESS=YMCA of the Shoals 2121 Helton Drive Florence AL 35630 United States;X-APPLE-RADIUS=500;X-TITLE=2121 Helton Drive:geo:-87.6683435,34.8324379
END:VEVENT
BEGIN:VEVENT
DTSTART;TZID=America/Chicago:20260809T130000
DTEND;TZID=America/Chicago:20260809T163000
DTSTAMP:20260423T191229
CREATED:20240829T194957Z
LAST-MODIFIED:20240829T194957Z
UID:183609-1786280400-1786293000@www.ymcashoals.org
SUMMARY:Open Swim
DESCRIPTION:
URL:https://www.ymcashoals.org/event/open-swim/2026-08-09/
LOCATION:YMCA of the Shoals\, 2121 Helton Drive\, Florence\, AL\, 35630\, United States
CATEGORIES:Lap Pool Schedule,Leisure Pool Schedule,Schedules
GEO:34.8324379;-87.6683435
X-APPLE-STRUCTURED-LOCATION;VALUE=URI;X-ADDRESS=YMCA of the Shoals 2121 Helton Drive Florence AL 35630 United States;X-APPLE-RADIUS=500;X-TITLE=2121 Helton Drive:geo:-87.6683435,34.8324379
END:VEVENT
BEGIN:VEVENT
DTSTART;TZID=America/Chicago:20260810T053000
DTEND;TZID=America/Chicago:20260810T090000
DTSTAMP:20260423T191229
CREATED:20240829T194042Z
LAST-MODIFIED:20260109T141602Z
UID:183616-1786339800-1786352400@www.ymcashoals.org
SUMMARY:All 6 Lanes Available
DESCRIPTION:
URL:https://www.ymcashoals.org/event/all-6-lanes-available-8/2026-08-10/
LOCATION:YMCA of the Shoals\, 2121 Helton Drive\, Florence\, AL\, 35630\, United States
CATEGORIES:Lap Pool,Lap Pool Schedule,Schedules
GEO:34.8324379;-87.6683435
X-APPLE-STRUCTURED-LOCATION;VALUE=URI;X-ADDRESS=YMCA of the Shoals 2121 Helton Drive Florence AL 35630 United States;X-APPLE-RADIUS=500;X-TITLE=2121 Helton Drive:geo:-87.6683435,34.8324379
END:VEVENT
BEGIN:VEVENT
DTSTART;TZID=America/Chicago:20260810T091500
DTEND;TZID=America/Chicago:20260810T100000
DTSTAMP:20260423T191229
CREATED:20250806T155252Z
LAST-MODIFIED:20250806T155252Z
UID:189884-1786353300-1786356000@www.ymcashoals.org
SUMMARY:Water Workout
DESCRIPTION:2 lanes available
URL:https://www.ymcashoals.org/event/water-workout-4/2026-08-10/
LOCATION:YMCA of the Shoals\, 2121 Helton Drive\, Florence\, AL\, 35630\, United States
CATEGORIES:Lap Pool,Lap Pool Schedule,Schedules
GEO:34.8324379;-87.6683435
X-APPLE-STRUCTURED-LOCATION;VALUE=URI;X-ADDRESS=YMCA of the Shoals 2121 Helton Drive Florence AL 35630 United States;X-APPLE-RADIUS=500;X-TITLE=2121 Helton Drive:geo:-87.6683435,34.8324379
END:VEVENT
BEGIN:VEVENT
DTSTART;TZID=America/Chicago:20260810T101500
DTEND;TZID=America/Chicago:20260810T110000
DTSTAMP:20260423T191229
CREATED:20250806T155946Z
LAST-MODIFIED:20251130T033707Z
UID:189379-1786356900-1786359600@www.ymcashoals.org
SUMMARY:Working in the Deep
DESCRIPTION:2 lanes available
URL:https://www.ymcashoals.org/event/working-in-the-deep-6/2026-08-10/
LOCATION:YMCA of the Shoals\, 2121 Helton Drive\, Florence\, AL\, 35630\, United States
CATEGORIES:Lap Pool,Lap Pool Schedule,Schedules
GEO:34.8324379;-87.6683435
X-APPLE-STRUCTURED-LOCATION;VALUE=URI;X-ADDRESS=YMCA of the Shoals 2121 Helton Drive Florence AL 35630 United States;X-APPLE-RADIUS=500;X-TITLE=2121 Helton Drive:geo:-87.6683435,34.8324379
END:VEVENT
BEGIN:VEVENT
DTSTART;TZID=America/Chicago:20260810T171500
DTEND;TZID=America/Chicago:20260810T180500
DTSTAMP:20260423T191229
CREATED:20240219T164805Z
LAST-MODIFIED:20240219T164805Z
UID:188509-1786382100-1786385100@www.ymcashoals.org
SUMMARY:Porpoise Club (Advanced) Level 5-6
DESCRIPTION:Introduces students to breaststroke and butterfly and reinforces water safety through treading water and sidestroke. Students will refine stroke technique on all major competitive strokes\, learn to dive and to flip turn\, in order to prepare for swim team or any future swimming endeavors. \nParticipants MUST pass lap pool swim test prior to registering. (Acquired red band)
URL:https://www.ymcashoals.org/event/porpoise-club-advanced-level-5-6/2026-08-10/
LOCATION:YMCA of the Shoals\, 2121 Helton Drive\, Florence\, AL\, 35630\, United States
CATEGORIES:Lap Pool,Lap Pool Schedule,Schedules,Swim Lessons
GEO:34.8324379;-87.6683435
X-APPLE-STRUCTURED-LOCATION;VALUE=URI;X-ADDRESS=YMCA of the Shoals 2121 Helton Drive Florence AL 35630 United States;X-APPLE-RADIUS=500;X-TITLE=2121 Helton Drive:geo:-87.6683435,34.8324379
END:VEVENT
BEGIN:VEVENT
DTSTART;TZID=America/Chicago:20260810T173000
DTEND;TZID=America/Chicago:20260810T181000
DTSTAMP:20260423T191229
CREATED:20260107T025818Z
LAST-MODIFIED:20260107T025818Z
UID:195883-1786383000-1786385400@www.ymcashoals.org
SUMMARY:After Work Water Workout
DESCRIPTION:2 Lanes available
URL:https://www.ymcashoals.org/event/after-work-water-workout/2026-08-10/
LOCATION:YMCA of the Shoals\, 2121 Helton Drive\, Florence\, AL\, 35630\, United States
CATEGORIES:Lap Pool,Lap Pool Schedule,Schedules
GEO:34.8324379;-87.6683435
X-APPLE-STRUCTURED-LOCATION;VALUE=URI;X-ADDRESS=YMCA of the Shoals 2121 Helton Drive Florence AL 35630 United States;X-APPLE-RADIUS=500;X-TITLE=2121 Helton Drive:geo:-87.6683435,34.8324379
END:VEVENT
BEGIN:VEVENT
DTSTART;TZID=America/Chicago:20260811T053000
DTEND;TZID=America/Chicago:20260811T090000
DTSTAMP:20260423T191229
CREATED:20240829T194042Z
LAST-MODIFIED:20260109T141602Z
UID:183626-1786426200-1786438800@www.ymcashoals.org
SUMMARY:All 6 Lanes Available
DESCRIPTION:
URL:https://www.ymcashoals.org/event/all-6-lanes-available-8/2026-08-11/
LOCATION:YMCA of the Shoals\, 2121 Helton Drive\, Florence\, AL\, 35630\, United States
CATEGORIES:Lap Pool,Lap Pool Schedule,Schedules
GEO:34.8324379;-87.6683435
X-APPLE-STRUCTURED-LOCATION;VALUE=URI;X-ADDRESS=YMCA of the Shoals 2121 Helton Drive Florence AL 35630 United States;X-APPLE-RADIUS=500;X-TITLE=2121 Helton Drive:geo:-87.6683435,34.8324379
END:VEVENT
BEGIN:VEVENT
DTSTART;TZID=America/Chicago:20260811T091500
DTEND;TZID=America/Chicago:20260811T100000
DTSTAMP:20260423T191229
CREATED:20250806T155252Z
LAST-MODIFIED:20250806T155252Z
UID:189885-1786439700-1786442400@www.ymcashoals.org
SUMMARY:Water Workout
DESCRIPTION:2 lanes available
URL:https://www.ymcashoals.org/event/water-workout-4/2026-08-11/
LOCATION:YMCA of the Shoals\, 2121 Helton Drive\, Florence\, AL\, 35630\, United States
CATEGORIES:Lap Pool,Lap Pool Schedule,Schedules
GEO:34.8324379;-87.6683435
X-APPLE-STRUCTURED-LOCATION;VALUE=URI;X-ADDRESS=YMCA of the Shoals 2121 Helton Drive Florence AL 35630 United States;X-APPLE-RADIUS=500;X-TITLE=2121 Helton Drive:geo:-87.6683435,34.8324379
END:VEVENT
END:VCALENDAR