BEGIN:VCALENDAR
VERSION:2.0
PRODID:-//YMCA of the Shoals - ECPv6.15.20//NONSGML v1.0//EN
CALSCALE:GREGORIAN
METHOD:PUBLISH
X-ORIGINAL-URL:https://www.ymcashoals.org
X-WR-CALDESC:Events for YMCA of the Shoals
REFRESH-INTERVAL;VALUE=DURATION:PT1H
X-Robots-Tag:noindex
X-PUBLISHED-TTL:PT1H
BEGIN:VTIMEZONE
TZID:America/Chicago
BEGIN:DAYLIGHT
TZOFFSETFROM:-0600
TZOFFSETTO:-0500
TZNAME:CDT
DTSTART:20250309T080000
END:DAYLIGHT
BEGIN:STANDARD
TZOFFSETFROM:-0500
TZOFFSETTO:-0600
TZNAME:CST
DTSTART:20251102T070000
END:STANDARD
BEGIN:DAYLIGHT
TZOFFSETFROM:-0600
TZOFFSETTO:-0500
TZNAME:CDT
DTSTART:20260308T080000
END:DAYLIGHT
BEGIN:STANDARD
TZOFFSETFROM:-0500
TZOFFSETTO:-0600
TZNAME:CST
DTSTART:20261101T070000
END:STANDARD
BEGIN:DAYLIGHT
TZOFFSETFROM:-0600
TZOFFSETTO:-0500
TZNAME:CDT
DTSTART:20270314T080000
END:DAYLIGHT
BEGIN:STANDARD
TZOFFSETFROM:-0500
TZOFFSETTO:-0600
TZNAME:CST
DTSTART:20271107T070000
END:STANDARD
END:VTIMEZONE
BEGIN:VEVENT
DTSTART;TZID=America/Chicago:20260601T053000
DTEND;TZID=America/Chicago:20260601T090000
DTSTAMP:20260423T152538
CREATED:20240829T194042Z
LAST-MODIFIED:20260109T141559Z
UID:181432-1780291800-1780304400@www.ymcashoals.org
SUMMARY:All 6 Lanes Available
DESCRIPTION:
URL:https://www.ymcashoals.org/event/all-6-lanes-available-8/2026-06-01/
LOCATION:YMCA of the Shoals\, 2121 Helton Drive\, Florence\, AL\, 35630\, United States
CATEGORIES:Lap Pool,Lap Pool Schedule,Schedules
GEO:34.8324379;-87.6683435
X-APPLE-STRUCTURED-LOCATION;VALUE=URI;X-ADDRESS=YMCA of the Shoals 2121 Helton Drive Florence AL 35630 United States;X-APPLE-RADIUS=500;X-TITLE=2121 Helton Drive:geo:-87.6683435,34.8324379
END:VEVENT
BEGIN:VEVENT
DTSTART;TZID=America/Chicago:20260601T091500
DTEND;TZID=America/Chicago:20260601T100000
DTSTAMP:20260423T152538
CREATED:20250806T155252Z
LAST-MODIFIED:20250806T155252Z
UID:189844-1780305300-1780308000@www.ymcashoals.org
SUMMARY:Water Workout
DESCRIPTION:2 lanes available
URL:https://www.ymcashoals.org/event/water-workout-4/2026-06-01/
LOCATION:YMCA of the Shoals\, 2121 Helton Drive\, Florence\, AL\, 35630\, United States
CATEGORIES:Lap Pool,Lap Pool Schedule,Schedules
GEO:34.8324379;-87.6683435
X-APPLE-STRUCTURED-LOCATION;VALUE=URI;X-ADDRESS=YMCA of the Shoals 2121 Helton Drive Florence AL 35630 United States;X-APPLE-RADIUS=500;X-TITLE=2121 Helton Drive:geo:-87.6683435,34.8324379
END:VEVENT
BEGIN:VEVENT
DTSTART;TZID=America/Chicago:20260601T101500
DTEND;TZID=America/Chicago:20260601T110000
DTSTAMP:20260423T152538
CREATED:20250806T155946Z
LAST-MODIFIED:20251130T033704Z
UID:189329-1780308900-1780311600@www.ymcashoals.org
SUMMARY:Working in the Deep
DESCRIPTION:2 lanes available
URL:https://www.ymcashoals.org/event/working-in-the-deep-6/2026-06-01/
LOCATION:YMCA of the Shoals\, 2121 Helton Drive\, Florence\, AL\, 35630\, United States
CATEGORIES:Lap Pool,Lap Pool Schedule,Schedules
GEO:34.8324379;-87.6683435
X-APPLE-STRUCTURED-LOCATION;VALUE=URI;X-ADDRESS=YMCA of the Shoals 2121 Helton Drive Florence AL 35630 United States;X-APPLE-RADIUS=500;X-TITLE=2121 Helton Drive:geo:-87.6683435,34.8324379
END:VEVENT
BEGIN:VEVENT
DTSTART;TZID=America/Chicago:20260601T171500
DTEND;TZID=America/Chicago:20260601T180500
DTSTAMP:20260423T152538
CREATED:20240219T164805Z
LAST-MODIFIED:20240219T164805Z
UID:188499-1780334100-1780337100@www.ymcashoals.org
SUMMARY:Porpoise Club (Advanced) Level 5-6
DESCRIPTION:Introduces students to breaststroke and butterfly and reinforces water safety through treading water and sidestroke. Students will refine stroke technique on all major competitive strokes\, learn to dive and to flip turn\, in order to prepare for swim team or any future swimming endeavors. \nParticipants MUST pass lap pool swim test prior to registering. (Acquired red band)
URL:https://www.ymcashoals.org/event/porpoise-club-advanced-level-5-6/2026-06-01/
LOCATION:YMCA of the Shoals\, 2121 Helton Drive\, Florence\, AL\, 35630\, United States
CATEGORIES:Lap Pool,Lap Pool Schedule,Schedules,Swim Lessons
GEO:34.8324379;-87.6683435
X-APPLE-STRUCTURED-LOCATION;VALUE=URI;X-ADDRESS=YMCA of the Shoals 2121 Helton Drive Florence AL 35630 United States;X-APPLE-RADIUS=500;X-TITLE=2121 Helton Drive:geo:-87.6683435,34.8324379
END:VEVENT
BEGIN:VEVENT
DTSTART;TZID=America/Chicago:20260601T173000
DTEND;TZID=America/Chicago:20260601T181000
DTSTAMP:20260423T152538
CREATED:20260107T025818Z
LAST-MODIFIED:20260107T025818Z
UID:195863-1780335000-1780337400@www.ymcashoals.org
SUMMARY:After Work Water Workout
DESCRIPTION:2 Lanes available
URL:https://www.ymcashoals.org/event/after-work-water-workout/2026-06-01/
LOCATION:YMCA of the Shoals\, 2121 Helton Drive\, Florence\, AL\, 35630\, United States
CATEGORIES:Lap Pool,Lap Pool Schedule,Schedules
GEO:34.8324379;-87.6683435
X-APPLE-STRUCTURED-LOCATION;VALUE=URI;X-ADDRESS=YMCA of the Shoals 2121 Helton Drive Florence AL 35630 United States;X-APPLE-RADIUS=500;X-TITLE=2121 Helton Drive:geo:-87.6683435,34.8324379
END:VEVENT
BEGIN:VEVENT
DTSTART;TZID=America/Chicago:20260602T053000
DTEND;TZID=America/Chicago:20260602T090000
DTSTAMP:20260423T152538
CREATED:20240829T194042Z
LAST-MODIFIED:20260109T141559Z
UID:181442-1780378200-1780390800@www.ymcashoals.org
SUMMARY:All 6 Lanes Available
DESCRIPTION:
URL:https://www.ymcashoals.org/event/all-6-lanes-available-8/2026-06-02/
LOCATION:YMCA of the Shoals\, 2121 Helton Drive\, Florence\, AL\, 35630\, United States
CATEGORIES:Lap Pool,Lap Pool Schedule,Schedules
GEO:34.8324379;-87.6683435
X-APPLE-STRUCTURED-LOCATION;VALUE=URI;X-ADDRESS=YMCA of the Shoals 2121 Helton Drive Florence AL 35630 United States;X-APPLE-RADIUS=500;X-TITLE=2121 Helton Drive:geo:-87.6683435,34.8324379
END:VEVENT
BEGIN:VEVENT
DTSTART;TZID=America/Chicago:20260602T091500
DTEND;TZID=America/Chicago:20260602T100000
DTSTAMP:20260423T152538
CREATED:20250806T155252Z
LAST-MODIFIED:20250806T155252Z
UID:189845-1780391700-1780394400@www.ymcashoals.org
SUMMARY:Water Workout
DESCRIPTION:2 lanes available
URL:https://www.ymcashoals.org/event/water-workout-4/2026-06-02/
LOCATION:YMCA of the Shoals\, 2121 Helton Drive\, Florence\, AL\, 35630\, United States
CATEGORIES:Lap Pool,Lap Pool Schedule,Schedules
GEO:34.8324379;-87.6683435
X-APPLE-STRUCTURED-LOCATION;VALUE=URI;X-ADDRESS=YMCA of the Shoals 2121 Helton Drive Florence AL 35630 United States;X-APPLE-RADIUS=500;X-TITLE=2121 Helton Drive:geo:-87.6683435,34.8324379
END:VEVENT
BEGIN:VEVENT
DTSTART;TZID=America/Chicago:20260602T101500
DTEND;TZID=America/Chicago:20260602T110000
DTSTAMP:20260423T152538
CREATED:20250806T155946Z
LAST-MODIFIED:20251130T033704Z
UID:189330-1780395300-1780398000@www.ymcashoals.org
SUMMARY:Working in the Deep
DESCRIPTION:2 lanes available
URL:https://www.ymcashoals.org/event/working-in-the-deep-6/2026-06-02/
LOCATION:YMCA of the Shoals\, 2121 Helton Drive\, Florence\, AL\, 35630\, United States
CATEGORIES:Lap Pool,Lap Pool Schedule,Schedules
GEO:34.8324379;-87.6683435
X-APPLE-STRUCTURED-LOCATION;VALUE=URI;X-ADDRESS=YMCA of the Shoals 2121 Helton Drive Florence AL 35630 United States;X-APPLE-RADIUS=500;X-TITLE=2121 Helton Drive:geo:-87.6683435,34.8324379
END:VEVENT
BEGIN:VEVENT
DTSTART;TZID=America/Chicago:20260603T053000
DTEND;TZID=America/Chicago:20260603T090000
DTSTAMP:20260423T152538
CREATED:20240829T194042Z
LAST-MODIFIED:20260109T141559Z
UID:181451-1780464600-1780477200@www.ymcashoals.org
SUMMARY:All 6 Lanes Available
DESCRIPTION:
URL:https://www.ymcashoals.org/event/all-6-lanes-available-8/2026-06-03/
LOCATION:YMCA of the Shoals\, 2121 Helton Drive\, Florence\, AL\, 35630\, United States
CATEGORIES:Lap Pool,Lap Pool Schedule,Schedules
GEO:34.8324379;-87.6683435
X-APPLE-STRUCTURED-LOCATION;VALUE=URI;X-ADDRESS=YMCA of the Shoals 2121 Helton Drive Florence AL 35630 United States;X-APPLE-RADIUS=500;X-TITLE=2121 Helton Drive:geo:-87.6683435,34.8324379
END:VEVENT
BEGIN:VEVENT
DTSTART;TZID=America/Chicago:20260603T081500
DTEND;TZID=America/Chicago:20260603T090000
DTSTAMP:20260423T152538
CREATED:20250828T020903Z
LAST-MODIFIED:20250828T020903Z
UID:189732-1780474500-1780477200@www.ymcashoals.org
SUMMARY:Deep Water Aerobics
DESCRIPTION:2 lanes available
URL:https://www.ymcashoals.org/event/deep-water-aerobics/2026-06-03/
LOCATION:YMCA of the Shoals\, 2121 Helton Drive\, Florence\, AL\, 35630\, United States
CATEGORIES:Lap Pool,Lap Pool Schedule,Schedules
GEO:34.8324379;-87.6683435
X-APPLE-STRUCTURED-LOCATION;VALUE=URI;X-ADDRESS=YMCA of the Shoals 2121 Helton Drive Florence AL 35630 United States;X-APPLE-RADIUS=500;X-TITLE=2121 Helton Drive:geo:-87.6683435,34.8324379
END:VEVENT
BEGIN:VEVENT
DTSTART;TZID=America/Chicago:20260603T091500
DTEND;TZID=America/Chicago:20260603T100000
DTSTAMP:20260423T152538
CREATED:20250806T155354Z
LAST-MODIFIED:20251130T035225Z
UID:184628-1780478100-1780480800@www.ymcashoals.org
SUMMARY:Y Aquadance
DESCRIPTION:2 lanes available
URL:https://www.ymcashoals.org/event/y-aquadance-2/2026-06-03/
LOCATION:YMCA of the Shoals\, 2121 Helton Drive\, Florence\, AL\, 35630\, United States
CATEGORIES:Lap Pool,Lap Pool Schedule,Schedules
GEO:34.8324379;-87.6683435
X-APPLE-STRUCTURED-LOCATION;VALUE=URI;X-ADDRESS=YMCA of the Shoals 2121 Helton Drive Florence AL 35630 United States;X-APPLE-RADIUS=500;X-TITLE=2121 Helton Drive:geo:-87.6683435,34.8324379
END:VEVENT
BEGIN:VEVENT
DTSTART;TZID=America/Chicago:20260603T101500
DTEND;TZID=America/Chicago:20260603T110000
DTSTAMP:20260423T152538
CREATED:20250806T155946Z
LAST-MODIFIED:20251130T033704Z
UID:189331-1780481700-1780484400@www.ymcashoals.org
SUMMARY:Working in the Deep
DESCRIPTION:2 lanes available
URL:https://www.ymcashoals.org/event/working-in-the-deep-6/2026-06-03/
LOCATION:YMCA of the Shoals\, 2121 Helton Drive\, Florence\, AL\, 35630\, United States
CATEGORIES:Lap Pool,Lap Pool Schedule,Schedules
GEO:34.8324379;-87.6683435
X-APPLE-STRUCTURED-LOCATION;VALUE=URI;X-ADDRESS=YMCA of the Shoals 2121 Helton Drive Florence AL 35630 United States;X-APPLE-RADIUS=500;X-TITLE=2121 Helton Drive:geo:-87.6683435,34.8324379
END:VEVENT
BEGIN:VEVENT
DTSTART;TZID=America/Chicago:20260603T173000
DTEND;TZID=America/Chicago:20260603T181000
DTSTAMP:20260423T152538
CREATED:20260107T025818Z
LAST-MODIFIED:20260107T025818Z
UID:195864-1780507800-1780510200@www.ymcashoals.org
SUMMARY:After Work Water Workout
DESCRIPTION:2 Lanes available
URL:https://www.ymcashoals.org/event/after-work-water-workout/2026-06-03/
LOCATION:YMCA of the Shoals\, 2121 Helton Drive\, Florence\, AL\, 35630\, United States
CATEGORIES:Lap Pool,Lap Pool Schedule,Schedules
GEO:34.8324379;-87.6683435
X-APPLE-STRUCTURED-LOCATION;VALUE=URI;X-ADDRESS=YMCA of the Shoals 2121 Helton Drive Florence AL 35630 United States;X-APPLE-RADIUS=500;X-TITLE=2121 Helton Drive:geo:-87.6683435,34.8324379
END:VEVENT
BEGIN:VEVENT
DTSTART;TZID=America/Chicago:20260604T053000
DTEND;TZID=America/Chicago:20260604T090000
DTSTAMP:20260423T152538
CREATED:20240829T194042Z
LAST-MODIFIED:20260109T141559Z
UID:181459-1780551000-1780563600@www.ymcashoals.org
SUMMARY:All 6 Lanes Available
DESCRIPTION:
URL:https://www.ymcashoals.org/event/all-6-lanes-available-8/2026-06-04/
LOCATION:YMCA of the Shoals\, 2121 Helton Drive\, Florence\, AL\, 35630\, United States
CATEGORIES:Lap Pool,Lap Pool Schedule,Schedules
GEO:34.8324379;-87.6683435
X-APPLE-STRUCTURED-LOCATION;VALUE=URI;X-ADDRESS=YMCA of the Shoals 2121 Helton Drive Florence AL 35630 United States;X-APPLE-RADIUS=500;X-TITLE=2121 Helton Drive:geo:-87.6683435,34.8324379
END:VEVENT
BEGIN:VEVENT
DTSTART;TZID=America/Chicago:20260604T091500
DTEND;TZID=America/Chicago:20260604T100000
DTSTAMP:20260423T152538
CREATED:20250806T155252Z
LAST-MODIFIED:20250806T155252Z
UID:189846-1780564500-1780567200@www.ymcashoals.org
SUMMARY:Water Workout
DESCRIPTION:2 lanes available
URL:https://www.ymcashoals.org/event/water-workout-4/2026-06-04/
LOCATION:YMCA of the Shoals\, 2121 Helton Drive\, Florence\, AL\, 35630\, United States
CATEGORIES:Lap Pool,Lap Pool Schedule,Schedules
GEO:34.8324379;-87.6683435
X-APPLE-STRUCTURED-LOCATION;VALUE=URI;X-ADDRESS=YMCA of the Shoals 2121 Helton Drive Florence AL 35630 United States;X-APPLE-RADIUS=500;X-TITLE=2121 Helton Drive:geo:-87.6683435,34.8324379
END:VEVENT
BEGIN:VEVENT
DTSTART;TZID=America/Chicago:20260604T101500
DTEND;TZID=America/Chicago:20260604T110000
DTSTAMP:20260423T152538
CREATED:20250806T155946Z
LAST-MODIFIED:20251130T033704Z
UID:189332-1780568100-1780570800@www.ymcashoals.org
SUMMARY:Working in the Deep
DESCRIPTION:2 lanes available
URL:https://www.ymcashoals.org/event/working-in-the-deep-6/2026-06-04/
LOCATION:YMCA of the Shoals\, 2121 Helton Drive\, Florence\, AL\, 35630\, United States
CATEGORIES:Lap Pool,Lap Pool Schedule,Schedules
GEO:34.8324379;-87.6683435
X-APPLE-STRUCTURED-LOCATION;VALUE=URI;X-ADDRESS=YMCA of the Shoals 2121 Helton Drive Florence AL 35630 United States;X-APPLE-RADIUS=500;X-TITLE=2121 Helton Drive:geo:-87.6683435,34.8324379
END:VEVENT
BEGIN:VEVENT
DTSTART;TZID=America/Chicago:20260605T053000
DTEND;TZID=America/Chicago:20260605T090000
DTSTAMP:20260423T152538
CREATED:20240829T194042Z
LAST-MODIFIED:20260109T141559Z
UID:181468-1780637400-1780650000@www.ymcashoals.org
SUMMARY:All 6 Lanes Available
DESCRIPTION:
URL:https://www.ymcashoals.org/event/all-6-lanes-available-8/2026-06-05/
LOCATION:YMCA of the Shoals\, 2121 Helton Drive\, Florence\, AL\, 35630\, United States
CATEGORIES:Lap Pool,Lap Pool Schedule,Schedules
GEO:34.8324379;-87.6683435
X-APPLE-STRUCTURED-LOCATION;VALUE=URI;X-ADDRESS=YMCA of the Shoals 2121 Helton Drive Florence AL 35630 United States;X-APPLE-RADIUS=500;X-TITLE=2121 Helton Drive:geo:-87.6683435,34.8324379
END:VEVENT
BEGIN:VEVENT
DTSTART;TZID=America/Chicago:20260605T091500
DTEND;TZID=America/Chicago:20260605T100000
DTSTAMP:20260423T152538
CREATED:20250806T155354Z
LAST-MODIFIED:20251130T035225Z
UID:184629-1780650900-1780653600@www.ymcashoals.org
SUMMARY:Y Aquadance
DESCRIPTION:2 lanes available
URL:https://www.ymcashoals.org/event/y-aquadance-2/2026-06-05/
LOCATION:YMCA of the Shoals\, 2121 Helton Drive\, Florence\, AL\, 35630\, United States
CATEGORIES:Lap Pool,Lap Pool Schedule,Schedules
GEO:34.8324379;-87.6683435
X-APPLE-STRUCTURED-LOCATION;VALUE=URI;X-ADDRESS=YMCA of the Shoals 2121 Helton Drive Florence AL 35630 United States;X-APPLE-RADIUS=500;X-TITLE=2121 Helton Drive:geo:-87.6683435,34.8324379
END:VEVENT
BEGIN:VEVENT
DTSTART;TZID=America/Chicago:20260605T101500
DTEND;TZID=America/Chicago:20260605T110000
DTSTAMP:20260423T152538
CREATED:20250806T155946Z
LAST-MODIFIED:20251130T033704Z
UID:189333-1780654500-1780657200@www.ymcashoals.org
SUMMARY:Working in the Deep
DESCRIPTION:2 lanes available
URL:https://www.ymcashoals.org/event/working-in-the-deep-6/2026-06-05/
LOCATION:YMCA of the Shoals\, 2121 Helton Drive\, Florence\, AL\, 35630\, United States
CATEGORIES:Lap Pool,Lap Pool Schedule,Schedules
GEO:34.8324379;-87.6683435
X-APPLE-STRUCTURED-LOCATION;VALUE=URI;X-ADDRESS=YMCA of the Shoals 2121 Helton Drive Florence AL 35630 United States;X-APPLE-RADIUS=500;X-TITLE=2121 Helton Drive:geo:-87.6683435,34.8324379
END:VEVENT
BEGIN:VEVENT
DTSTART;TZID=America/Chicago:20260606T091500
DTEND;TZID=America/Chicago:20260606T100000
DTSTAMP:20260423T152538
CREATED:20250806T155252Z
LAST-MODIFIED:20250806T155252Z
UID:189847-1780737300-1780740000@www.ymcashoals.org
SUMMARY:Water Workout
DESCRIPTION:2 lanes available
URL:https://www.ymcashoals.org/event/water-workout-4/2026-06-06/
LOCATION:YMCA of the Shoals\, 2121 Helton Drive\, Florence\, AL\, 35630\, United States
CATEGORIES:Lap Pool,Lap Pool Schedule,Schedules
GEO:34.8324379;-87.6683435
X-APPLE-STRUCTURED-LOCATION;VALUE=URI;X-ADDRESS=YMCA of the Shoals 2121 Helton Drive Florence AL 35630 United States;X-APPLE-RADIUS=500;X-TITLE=2121 Helton Drive:geo:-87.6683435,34.8324379
END:VEVENT
BEGIN:VEVENT
DTSTART;TZID=America/Chicago:20260607T130000
DTEND;TZID=America/Chicago:20260607T163000
DTSTAMP:20260423T152538
CREATED:20240829T194957Z
LAST-MODIFIED:20240829T194957Z
UID:181472-1780837200-1780849800@www.ymcashoals.org
SUMMARY:Open Swim
DESCRIPTION:
URL:https://www.ymcashoals.org/event/open-swim/2026-06-07/
LOCATION:YMCA of the Shoals\, 2121 Helton Drive\, Florence\, AL\, 35630\, United States
CATEGORIES:Lap Pool Schedule,Leisure Pool Schedule,Schedules
GEO:34.8324379;-87.6683435
X-APPLE-STRUCTURED-LOCATION;VALUE=URI;X-ADDRESS=YMCA of the Shoals 2121 Helton Drive Florence AL 35630 United States;X-APPLE-RADIUS=500;X-TITLE=2121 Helton Drive:geo:-87.6683435,34.8324379
END:VEVENT
BEGIN:VEVENT
DTSTART;TZID=America/Chicago:20260608T053000
DTEND;TZID=America/Chicago:20260608T090000
DTSTAMP:20260423T152538
CREATED:20240829T194042Z
LAST-MODIFIED:20260109T141559Z
UID:181486-1780896600-1780909200@www.ymcashoals.org
SUMMARY:All 6 Lanes Available
DESCRIPTION:
URL:https://www.ymcashoals.org/event/all-6-lanes-available-8/2026-06-08/
LOCATION:YMCA of the Shoals\, 2121 Helton Drive\, Florence\, AL\, 35630\, United States
CATEGORIES:Lap Pool,Lap Pool Schedule,Schedules
GEO:34.8324379;-87.6683435
X-APPLE-STRUCTURED-LOCATION;VALUE=URI;X-ADDRESS=YMCA of the Shoals 2121 Helton Drive Florence AL 35630 United States;X-APPLE-RADIUS=500;X-TITLE=2121 Helton Drive:geo:-87.6683435,34.8324379
END:VEVENT
BEGIN:VEVENT
DTSTART;TZID=America/Chicago:20260608T091500
DTEND;TZID=America/Chicago:20260608T100000
DTSTAMP:20260423T152538
CREATED:20250806T155252Z
LAST-MODIFIED:20250806T155252Z
UID:189848-1780910100-1780912800@www.ymcashoals.org
SUMMARY:Water Workout
DESCRIPTION:2 lanes available
URL:https://www.ymcashoals.org/event/water-workout-4/2026-06-08/
LOCATION:YMCA of the Shoals\, 2121 Helton Drive\, Florence\, AL\, 35630\, United States
CATEGORIES:Lap Pool,Lap Pool Schedule,Schedules
GEO:34.8324379;-87.6683435
X-APPLE-STRUCTURED-LOCATION;VALUE=URI;X-ADDRESS=YMCA of the Shoals 2121 Helton Drive Florence AL 35630 United States;X-APPLE-RADIUS=500;X-TITLE=2121 Helton Drive:geo:-87.6683435,34.8324379
END:VEVENT
BEGIN:VEVENT
DTSTART;TZID=America/Chicago:20260608T101500
DTEND;TZID=America/Chicago:20260608T110000
DTSTAMP:20260423T152538
CREATED:20250806T155946Z
LAST-MODIFIED:20251130T033704Z
UID:189334-1780913700-1780916400@www.ymcashoals.org
SUMMARY:Working in the Deep
DESCRIPTION:2 lanes available
URL:https://www.ymcashoals.org/event/working-in-the-deep-6/2026-06-08/
LOCATION:YMCA of the Shoals\, 2121 Helton Drive\, Florence\, AL\, 35630\, United States
CATEGORIES:Lap Pool,Lap Pool Schedule,Schedules
GEO:34.8324379;-87.6683435
X-APPLE-STRUCTURED-LOCATION;VALUE=URI;X-ADDRESS=YMCA of the Shoals 2121 Helton Drive Florence AL 35630 United States;X-APPLE-RADIUS=500;X-TITLE=2121 Helton Drive:geo:-87.6683435,34.8324379
END:VEVENT
BEGIN:VEVENT
DTSTART;TZID=America/Chicago:20260608T171500
DTEND;TZID=America/Chicago:20260608T180500
DTSTAMP:20260423T152538
CREATED:20240219T164805Z
LAST-MODIFIED:20240219T164805Z
UID:188500-1780938900-1780941900@www.ymcashoals.org
SUMMARY:Porpoise Club (Advanced) Level 5-6
DESCRIPTION:Introduces students to breaststroke and butterfly and reinforces water safety through treading water and sidestroke. Students will refine stroke technique on all major competitive strokes\, learn to dive and to flip turn\, in order to prepare for swim team or any future swimming endeavors. \nParticipants MUST pass lap pool swim test prior to registering. (Acquired red band)
URL:https://www.ymcashoals.org/event/porpoise-club-advanced-level-5-6/2026-06-08/
LOCATION:YMCA of the Shoals\, 2121 Helton Drive\, Florence\, AL\, 35630\, United States
CATEGORIES:Lap Pool,Lap Pool Schedule,Schedules,Swim Lessons
GEO:34.8324379;-87.6683435
X-APPLE-STRUCTURED-LOCATION;VALUE=URI;X-ADDRESS=YMCA of the Shoals 2121 Helton Drive Florence AL 35630 United States;X-APPLE-RADIUS=500;X-TITLE=2121 Helton Drive:geo:-87.6683435,34.8324379
END:VEVENT
BEGIN:VEVENT
DTSTART;TZID=America/Chicago:20260608T173000
DTEND;TZID=America/Chicago:20260608T181000
DTSTAMP:20260423T152538
CREATED:20260107T025818Z
LAST-MODIFIED:20260107T025818Z
UID:195865-1780939800-1780942200@www.ymcashoals.org
SUMMARY:After Work Water Workout
DESCRIPTION:2 Lanes available
URL:https://www.ymcashoals.org/event/after-work-water-workout/2026-06-08/
LOCATION:YMCA of the Shoals\, 2121 Helton Drive\, Florence\, AL\, 35630\, United States
CATEGORIES:Lap Pool,Lap Pool Schedule,Schedules
GEO:34.8324379;-87.6683435
X-APPLE-STRUCTURED-LOCATION;VALUE=URI;X-ADDRESS=YMCA of the Shoals 2121 Helton Drive Florence AL 35630 United States;X-APPLE-RADIUS=500;X-TITLE=2121 Helton Drive:geo:-87.6683435,34.8324379
END:VEVENT
BEGIN:VEVENT
DTSTART;TZID=America/Chicago:20260609T053000
DTEND;TZID=America/Chicago:20260609T090000
DTSTAMP:20260423T152538
CREATED:20240829T194042Z
LAST-MODIFIED:20260109T141559Z
UID:181496-1780983000-1780995600@www.ymcashoals.org
SUMMARY:All 6 Lanes Available
DESCRIPTION:
URL:https://www.ymcashoals.org/event/all-6-lanes-available-8/2026-06-09/
LOCATION:YMCA of the Shoals\, 2121 Helton Drive\, Florence\, AL\, 35630\, United States
CATEGORIES:Lap Pool,Lap Pool Schedule,Schedules
GEO:34.8324379;-87.6683435
X-APPLE-STRUCTURED-LOCATION;VALUE=URI;X-ADDRESS=YMCA of the Shoals 2121 Helton Drive Florence AL 35630 United States;X-APPLE-RADIUS=500;X-TITLE=2121 Helton Drive:geo:-87.6683435,34.8324379
END:VEVENT
BEGIN:VEVENT
DTSTART;TZID=America/Chicago:20260609T091500
DTEND;TZID=America/Chicago:20260609T100000
DTSTAMP:20260423T152538
CREATED:20250806T155252Z
LAST-MODIFIED:20250806T155252Z
UID:189849-1780996500-1780999200@www.ymcashoals.org
SUMMARY:Water Workout
DESCRIPTION:2 lanes available
URL:https://www.ymcashoals.org/event/water-workout-4/2026-06-09/
LOCATION:YMCA of the Shoals\, 2121 Helton Drive\, Florence\, AL\, 35630\, United States
CATEGORIES:Lap Pool,Lap Pool Schedule,Schedules
GEO:34.8324379;-87.6683435
X-APPLE-STRUCTURED-LOCATION;VALUE=URI;X-ADDRESS=YMCA of the Shoals 2121 Helton Drive Florence AL 35630 United States;X-APPLE-RADIUS=500;X-TITLE=2121 Helton Drive:geo:-87.6683435,34.8324379
END:VEVENT
BEGIN:VEVENT
DTSTART;TZID=America/Chicago:20260609T101500
DTEND;TZID=America/Chicago:20260609T110000
DTSTAMP:20260423T152538
CREATED:20250806T155946Z
LAST-MODIFIED:20251130T033705Z
UID:189335-1781000100-1781002800@www.ymcashoals.org
SUMMARY:Working in the Deep
DESCRIPTION:2 lanes available
URL:https://www.ymcashoals.org/event/working-in-the-deep-6/2026-06-09/
LOCATION:YMCA of the Shoals\, 2121 Helton Drive\, Florence\, AL\, 35630\, United States
CATEGORIES:Lap Pool,Lap Pool Schedule,Schedules
GEO:34.8324379;-87.6683435
X-APPLE-STRUCTURED-LOCATION;VALUE=URI;X-ADDRESS=YMCA of the Shoals 2121 Helton Drive Florence AL 35630 United States;X-APPLE-RADIUS=500;X-TITLE=2121 Helton Drive:geo:-87.6683435,34.8324379
END:VEVENT
BEGIN:VEVENT
DTSTART;TZID=America/Chicago:20260610T053000
DTEND;TZID=America/Chicago:20260610T090000
DTSTAMP:20260423T152538
CREATED:20240829T194042Z
LAST-MODIFIED:20260109T141559Z
UID:181505-1781069400-1781082000@www.ymcashoals.org
SUMMARY:All 6 Lanes Available
DESCRIPTION:
URL:https://www.ymcashoals.org/event/all-6-lanes-available-8/2026-06-10/
LOCATION:YMCA of the Shoals\, 2121 Helton Drive\, Florence\, AL\, 35630\, United States
CATEGORIES:Lap Pool,Lap Pool Schedule,Schedules
GEO:34.8324379;-87.6683435
X-APPLE-STRUCTURED-LOCATION;VALUE=URI;X-ADDRESS=YMCA of the Shoals 2121 Helton Drive Florence AL 35630 United States;X-APPLE-RADIUS=500;X-TITLE=2121 Helton Drive:geo:-87.6683435,34.8324379
END:VEVENT
END:VCALENDAR