BEGIN:VCALENDAR
VERSION:2.0
PRODID:-//YMCA of the Shoals - ECPv6.15.20//NONSGML v1.0//EN
CALSCALE:GREGORIAN
METHOD:PUBLISH
X-ORIGINAL-URL:https://www.ymcashoals.org
X-WR-CALDESC:Events for YMCA of the Shoals
REFRESH-INTERVAL;VALUE=DURATION:PT1H
X-Robots-Tag:noindex
X-PUBLISHED-TTL:PT1H
BEGIN:VTIMEZONE
TZID:America/Chicago
BEGIN:DAYLIGHT
TZOFFSETFROM:-0600
TZOFFSETTO:-0500
TZNAME:CDT
DTSTART:20250309T080000
END:DAYLIGHT
BEGIN:STANDARD
TZOFFSETFROM:-0500
TZOFFSETTO:-0600
TZNAME:CST
DTSTART:20251102T070000
END:STANDARD
BEGIN:DAYLIGHT
TZOFFSETFROM:-0600
TZOFFSETTO:-0500
TZNAME:CDT
DTSTART:20260308T080000
END:DAYLIGHT
BEGIN:STANDARD
TZOFFSETFROM:-0500
TZOFFSETTO:-0600
TZNAME:CST
DTSTART:20261101T070000
END:STANDARD
BEGIN:DAYLIGHT
TZOFFSETFROM:-0600
TZOFFSETTO:-0500
TZNAME:CDT
DTSTART:20270314T080000
END:DAYLIGHT
BEGIN:STANDARD
TZOFFSETFROM:-0500
TZOFFSETTO:-0600
TZNAME:CST
DTSTART:20271107T070000
END:STANDARD
END:VTIMEZONE
BEGIN:VEVENT
DTSTART;TZID=America/Chicago:20260721T154500
DTEND;TZID=America/Chicago:20260721T174500
DTSTAMP:20260423T161004
CREATED:20250117T194708Z
LAST-MODIFIED:20250117T194708Z
UID:193903-1784648700-1784655900@www.ymcashoals.org
SUMMARY:Gymnastics
DESCRIPTION:*Based on child’s age. Must register in advance. One session per week\, per child.
URL:https://www.ymcashoals.org/event/gymnastics/2026-07-21/
LOCATION:YMCA of the Shoals\, 2121 Helton Drive\, Florence\, AL\, 35630\, United States
CATEGORIES:Gymnastics,Schedules
GEO:34.8324379;-87.6683435
X-APPLE-STRUCTURED-LOCATION;VALUE=URI;X-ADDRESS=YMCA of the Shoals 2121 Helton Drive Florence AL 35630 United States;X-APPLE-RADIUS=500;X-TITLE=2121 Helton Drive:geo:-87.6683435,34.8324379
END:VEVENT
BEGIN:VEVENT
DTSTART;TZID=America/Chicago:20260723T154500
DTEND;TZID=America/Chicago:20260723T174500
DTSTAMP:20260423T161004
CREATED:20250117T194708Z
LAST-MODIFIED:20250117T194708Z
UID:193904-1784821500-1784828700@www.ymcashoals.org
SUMMARY:Gymnastics
DESCRIPTION:*Based on child’s age. Must register in advance. One session per week\, per child.
URL:https://www.ymcashoals.org/event/gymnastics/2026-07-23/
LOCATION:YMCA of the Shoals\, 2121 Helton Drive\, Florence\, AL\, 35630\, United States
CATEGORIES:Gymnastics,Schedules
GEO:34.8324379;-87.6683435
X-APPLE-STRUCTURED-LOCATION;VALUE=URI;X-ADDRESS=YMCA of the Shoals 2121 Helton Drive Florence AL 35630 United States;X-APPLE-RADIUS=500;X-TITLE=2121 Helton Drive:geo:-87.6683435,34.8324379
END:VEVENT
BEGIN:VEVENT
DTSTART;TZID=America/Chicago:20260728T154500
DTEND;TZID=America/Chicago:20260728T174500
DTSTAMP:20260423T161004
CREATED:20250117T194708Z
LAST-MODIFIED:20250117T194708Z
UID:193905-1785253500-1785260700@www.ymcashoals.org
SUMMARY:Gymnastics
DESCRIPTION:*Based on child’s age. Must register in advance. One session per week\, per child.
URL:https://www.ymcashoals.org/event/gymnastics/2026-07-28/
LOCATION:YMCA of the Shoals\, 2121 Helton Drive\, Florence\, AL\, 35630\, United States
CATEGORIES:Gymnastics,Schedules
GEO:34.8324379;-87.6683435
X-APPLE-STRUCTURED-LOCATION;VALUE=URI;X-ADDRESS=YMCA of the Shoals 2121 Helton Drive Florence AL 35630 United States;X-APPLE-RADIUS=500;X-TITLE=2121 Helton Drive:geo:-87.6683435,34.8324379
END:VEVENT
BEGIN:VEVENT
DTSTART;TZID=America/Chicago:20260730T154500
DTEND;TZID=America/Chicago:20260730T174500
DTSTAMP:20260423T161004
CREATED:20250117T194708Z
LAST-MODIFIED:20250117T194708Z
UID:193906-1785426300-1785433500@www.ymcashoals.org
SUMMARY:Gymnastics
DESCRIPTION:*Based on child’s age. Must register in advance. One session per week\, per child.
URL:https://www.ymcashoals.org/event/gymnastics/2026-07-30/
LOCATION:YMCA of the Shoals\, 2121 Helton Drive\, Florence\, AL\, 35630\, United States
CATEGORIES:Gymnastics,Schedules
GEO:34.8324379;-87.6683435
X-APPLE-STRUCTURED-LOCATION;VALUE=URI;X-ADDRESS=YMCA of the Shoals 2121 Helton Drive Florence AL 35630 United States;X-APPLE-RADIUS=500;X-TITLE=2121 Helton Drive:geo:-87.6683435,34.8324379
END:VEVENT
BEGIN:VEVENT
DTSTART;TZID=America/Chicago:20260804T154500
DTEND;TZID=America/Chicago:20260804T174500
DTSTAMP:20260423T161004
CREATED:20250117T194708Z
LAST-MODIFIED:20250117T194708Z
UID:193907-1785858300-1785865500@www.ymcashoals.org
SUMMARY:Gymnastics
DESCRIPTION:*Based on child’s age. Must register in advance. One session per week\, per child.
URL:https://www.ymcashoals.org/event/gymnastics/2026-08-04/
LOCATION:YMCA of the Shoals\, 2121 Helton Drive\, Florence\, AL\, 35630\, United States
CATEGORIES:Gymnastics,Schedules
GEO:34.8324379;-87.6683435
X-APPLE-STRUCTURED-LOCATION;VALUE=URI;X-ADDRESS=YMCA of the Shoals 2121 Helton Drive Florence AL 35630 United States;X-APPLE-RADIUS=500;X-TITLE=2121 Helton Drive:geo:-87.6683435,34.8324379
END:VEVENT
BEGIN:VEVENT
DTSTART;TZID=America/Chicago:20260806T154500
DTEND;TZID=America/Chicago:20260806T174500
DTSTAMP:20260423T161004
CREATED:20250117T194708Z
LAST-MODIFIED:20250117T194708Z
UID:193908-1786031100-1786038300@www.ymcashoals.org
SUMMARY:Gymnastics
DESCRIPTION:*Based on child’s age. Must register in advance. One session per week\, per child.
URL:https://www.ymcashoals.org/event/gymnastics/2026-08-06/
LOCATION:YMCA of the Shoals\, 2121 Helton Drive\, Florence\, AL\, 35630\, United States
CATEGORIES:Gymnastics,Schedules
GEO:34.8324379;-87.6683435
X-APPLE-STRUCTURED-LOCATION;VALUE=URI;X-ADDRESS=YMCA of the Shoals 2121 Helton Drive Florence AL 35630 United States;X-APPLE-RADIUS=500;X-TITLE=2121 Helton Drive:geo:-87.6683435,34.8324379
END:VEVENT
BEGIN:VEVENT
DTSTART;TZID=America/Chicago:20260811T154500
DTEND;TZID=America/Chicago:20260811T174500
DTSTAMP:20260423T161004
CREATED:20250117T194708Z
LAST-MODIFIED:20250117T194708Z
UID:193909-1786463100-1786470300@www.ymcashoals.org
SUMMARY:Gymnastics
DESCRIPTION:*Based on child’s age. Must register in advance. One session per week\, per child.
URL:https://www.ymcashoals.org/event/gymnastics/2026-08-11/
LOCATION:YMCA of the Shoals\, 2121 Helton Drive\, Florence\, AL\, 35630\, United States
CATEGORIES:Gymnastics,Schedules
GEO:34.8324379;-87.6683435
X-APPLE-STRUCTURED-LOCATION;VALUE=URI;X-ADDRESS=YMCA of the Shoals 2121 Helton Drive Florence AL 35630 United States;X-APPLE-RADIUS=500;X-TITLE=2121 Helton Drive:geo:-87.6683435,34.8324379
END:VEVENT
BEGIN:VEVENT
DTSTART;TZID=America/Chicago:20260813T154500
DTEND;TZID=America/Chicago:20260813T174500
DTSTAMP:20260423T161004
CREATED:20250117T194708Z
LAST-MODIFIED:20250117T194708Z
UID:193910-1786635900-1786643100@www.ymcashoals.org
SUMMARY:Gymnastics
DESCRIPTION:*Based on child’s age. Must register in advance. One session per week\, per child.
URL:https://www.ymcashoals.org/event/gymnastics/2026-08-13/
LOCATION:YMCA of the Shoals\, 2121 Helton Drive\, Florence\, AL\, 35630\, United States
CATEGORIES:Gymnastics,Schedules
GEO:34.8324379;-87.6683435
X-APPLE-STRUCTURED-LOCATION;VALUE=URI;X-ADDRESS=YMCA of the Shoals 2121 Helton Drive Florence AL 35630 United States;X-APPLE-RADIUS=500;X-TITLE=2121 Helton Drive:geo:-87.6683435,34.8324379
END:VEVENT
BEGIN:VEVENT
DTSTART;TZID=America/Chicago:20260818T154500
DTEND;TZID=America/Chicago:20260818T174500
DTSTAMP:20260423T161004
CREATED:20250117T194708Z
LAST-MODIFIED:20250117T194708Z
UID:193911-1787067900-1787075100@www.ymcashoals.org
SUMMARY:Gymnastics
DESCRIPTION:*Based on child’s age. Must register in advance. One session per week\, per child.
URL:https://www.ymcashoals.org/event/gymnastics/2026-08-18/
LOCATION:YMCA of the Shoals\, 2121 Helton Drive\, Florence\, AL\, 35630\, United States
CATEGORIES:Gymnastics,Schedules
GEO:34.8324379;-87.6683435
X-APPLE-STRUCTURED-LOCATION;VALUE=URI;X-ADDRESS=YMCA of the Shoals 2121 Helton Drive Florence AL 35630 United States;X-APPLE-RADIUS=500;X-TITLE=2121 Helton Drive:geo:-87.6683435,34.8324379
END:VEVENT
BEGIN:VEVENT
DTSTART;TZID=America/Chicago:20260820T154500
DTEND;TZID=America/Chicago:20260820T174500
DTSTAMP:20260423T161004
CREATED:20250117T194708Z
LAST-MODIFIED:20250117T194708Z
UID:193912-1787240700-1787247900@www.ymcashoals.org
SUMMARY:Gymnastics
DESCRIPTION:*Based on child’s age. Must register in advance. One session per week\, per child.
URL:https://www.ymcashoals.org/event/gymnastics/2026-08-20/
LOCATION:YMCA of the Shoals\, 2121 Helton Drive\, Florence\, AL\, 35630\, United States
CATEGORIES:Gymnastics,Schedules
GEO:34.8324379;-87.6683435
X-APPLE-STRUCTURED-LOCATION;VALUE=URI;X-ADDRESS=YMCA of the Shoals 2121 Helton Drive Florence AL 35630 United States;X-APPLE-RADIUS=500;X-TITLE=2121 Helton Drive:geo:-87.6683435,34.8324379
END:VEVENT
BEGIN:VEVENT
DTSTART;TZID=America/Chicago:20260825T154500
DTEND;TZID=America/Chicago:20260825T174500
DTSTAMP:20260423T161004
CREATED:20250117T194708Z
LAST-MODIFIED:20250117T194708Z
UID:193913-1787672700-1787679900@www.ymcashoals.org
SUMMARY:Gymnastics
DESCRIPTION:*Based on child’s age. Must register in advance. One session per week\, per child.
URL:https://www.ymcashoals.org/event/gymnastics/2026-08-25/
LOCATION:YMCA of the Shoals\, 2121 Helton Drive\, Florence\, AL\, 35630\, United States
CATEGORIES:Gymnastics,Schedules
GEO:34.8324379;-87.6683435
X-APPLE-STRUCTURED-LOCATION;VALUE=URI;X-ADDRESS=YMCA of the Shoals 2121 Helton Drive Florence AL 35630 United States;X-APPLE-RADIUS=500;X-TITLE=2121 Helton Drive:geo:-87.6683435,34.8324379
END:VEVENT
BEGIN:VEVENT
DTSTART;TZID=America/Chicago:20260827T154500
DTEND;TZID=America/Chicago:20260827T174500
DTSTAMP:20260423T161004
CREATED:20250117T194708Z
LAST-MODIFIED:20250117T194708Z
UID:193914-1787845500-1787852700@www.ymcashoals.org
SUMMARY:Gymnastics
DESCRIPTION:*Based on child’s age. Must register in advance. One session per week\, per child.
URL:https://www.ymcashoals.org/event/gymnastics/2026-08-27/
LOCATION:YMCA of the Shoals\, 2121 Helton Drive\, Florence\, AL\, 35630\, United States
CATEGORIES:Gymnastics,Schedules
GEO:34.8324379;-87.6683435
X-APPLE-STRUCTURED-LOCATION;VALUE=URI;X-ADDRESS=YMCA of the Shoals 2121 Helton Drive Florence AL 35630 United States;X-APPLE-RADIUS=500;X-TITLE=2121 Helton Drive:geo:-87.6683435,34.8324379
END:VEVENT
BEGIN:VEVENT
DTSTART;TZID=America/Chicago:20260901T154500
DTEND;TZID=America/Chicago:20260901T174500
DTSTAMP:20260423T161004
CREATED:20250117T194708Z
LAST-MODIFIED:20250117T194708Z
UID:193915-1788277500-1788284700@www.ymcashoals.org
SUMMARY:Gymnastics
DESCRIPTION:*Based on child’s age. Must register in advance. One session per week\, per child.
URL:https://www.ymcashoals.org/event/gymnastics/2026-09-01/
LOCATION:YMCA of the Shoals\, 2121 Helton Drive\, Florence\, AL\, 35630\, United States
CATEGORIES:Gymnastics,Schedules
GEO:34.8324379;-87.6683435
X-APPLE-STRUCTURED-LOCATION;VALUE=URI;X-ADDRESS=YMCA of the Shoals 2121 Helton Drive Florence AL 35630 United States;X-APPLE-RADIUS=500;X-TITLE=2121 Helton Drive:geo:-87.6683435,34.8324379
END:VEVENT
BEGIN:VEVENT
DTSTART;TZID=America/Chicago:20260903T154500
DTEND;TZID=America/Chicago:20260903T174500
DTSTAMP:20260423T161004
CREATED:20250117T194708Z
LAST-MODIFIED:20250117T194708Z
UID:193916-1788450300-1788457500@www.ymcashoals.org
SUMMARY:Gymnastics
DESCRIPTION:*Based on child’s age. Must register in advance. One session per week\, per child.
URL:https://www.ymcashoals.org/event/gymnastics/2026-09-03/
LOCATION:YMCA of the Shoals\, 2121 Helton Drive\, Florence\, AL\, 35630\, United States
CATEGORIES:Gymnastics,Schedules
GEO:34.8324379;-87.6683435
X-APPLE-STRUCTURED-LOCATION;VALUE=URI;X-ADDRESS=YMCA of the Shoals 2121 Helton Drive Florence AL 35630 United States;X-APPLE-RADIUS=500;X-TITLE=2121 Helton Drive:geo:-87.6683435,34.8324379
END:VEVENT
BEGIN:VEVENT
DTSTART;TZID=America/Chicago:20260908T154500
DTEND;TZID=America/Chicago:20260908T174500
DTSTAMP:20260423T161004
CREATED:20250117T194708Z
LAST-MODIFIED:20250117T194708Z
UID:193917-1788882300-1788889500@www.ymcashoals.org
SUMMARY:Gymnastics
DESCRIPTION:*Based on child’s age. Must register in advance. One session per week\, per child.
URL:https://www.ymcashoals.org/event/gymnastics/2026-09-08/
LOCATION:YMCA of the Shoals\, 2121 Helton Drive\, Florence\, AL\, 35630\, United States
CATEGORIES:Gymnastics,Schedules
GEO:34.8324379;-87.6683435
X-APPLE-STRUCTURED-LOCATION;VALUE=URI;X-ADDRESS=YMCA of the Shoals 2121 Helton Drive Florence AL 35630 United States;X-APPLE-RADIUS=500;X-TITLE=2121 Helton Drive:geo:-87.6683435,34.8324379
END:VEVENT
BEGIN:VEVENT
DTSTART;TZID=America/Chicago:20260910T154500
DTEND;TZID=America/Chicago:20260910T174500
DTSTAMP:20260423T161004
CREATED:20250117T194708Z
LAST-MODIFIED:20250117T194708Z
UID:193918-1789055100-1789062300@www.ymcashoals.org
SUMMARY:Gymnastics
DESCRIPTION:*Based on child’s age. Must register in advance. One session per week\, per child.
URL:https://www.ymcashoals.org/event/gymnastics/2026-09-10/
LOCATION:YMCA of the Shoals\, 2121 Helton Drive\, Florence\, AL\, 35630\, United States
CATEGORIES:Gymnastics,Schedules
GEO:34.8324379;-87.6683435
X-APPLE-STRUCTURED-LOCATION;VALUE=URI;X-ADDRESS=YMCA of the Shoals 2121 Helton Drive Florence AL 35630 United States;X-APPLE-RADIUS=500;X-TITLE=2121 Helton Drive:geo:-87.6683435,34.8324379
END:VEVENT
BEGIN:VEVENT
DTSTART;TZID=America/Chicago:20260915T154500
DTEND;TZID=America/Chicago:20260915T174500
DTSTAMP:20260423T161004
CREATED:20250117T194708Z
LAST-MODIFIED:20250117T194708Z
UID:193919-1789487100-1789494300@www.ymcashoals.org
SUMMARY:Gymnastics
DESCRIPTION:*Based on child’s age. Must register in advance. One session per week\, per child.
URL:https://www.ymcashoals.org/event/gymnastics/2026-09-15/
LOCATION:YMCA of the Shoals\, 2121 Helton Drive\, Florence\, AL\, 35630\, United States
CATEGORIES:Gymnastics,Schedules
GEO:34.8324379;-87.6683435
X-APPLE-STRUCTURED-LOCATION;VALUE=URI;X-ADDRESS=YMCA of the Shoals 2121 Helton Drive Florence AL 35630 United States;X-APPLE-RADIUS=500;X-TITLE=2121 Helton Drive:geo:-87.6683435,34.8324379
END:VEVENT
BEGIN:VEVENT
DTSTART;TZID=America/Chicago:20260917T154500
DTEND;TZID=America/Chicago:20260917T174500
DTSTAMP:20260423T161004
CREATED:20250117T194708Z
LAST-MODIFIED:20250117T194708Z
UID:193920-1789659900-1789667100@www.ymcashoals.org
SUMMARY:Gymnastics
DESCRIPTION:*Based on child’s age. Must register in advance. One session per week\, per child.
URL:https://www.ymcashoals.org/event/gymnastics/2026-09-17/
LOCATION:YMCA of the Shoals\, 2121 Helton Drive\, Florence\, AL\, 35630\, United States
CATEGORIES:Gymnastics,Schedules
GEO:34.8324379;-87.6683435
X-APPLE-STRUCTURED-LOCATION;VALUE=URI;X-ADDRESS=YMCA of the Shoals 2121 Helton Drive Florence AL 35630 United States;X-APPLE-RADIUS=500;X-TITLE=2121 Helton Drive:geo:-87.6683435,34.8324379
END:VEVENT
BEGIN:VEVENT
DTSTART;TZID=America/Chicago:20260922T154500
DTEND;TZID=America/Chicago:20260922T174500
DTSTAMP:20260423T161004
CREATED:20250117T194708Z
LAST-MODIFIED:20250117T194708Z
UID:193921-1790091900-1790099100@www.ymcashoals.org
SUMMARY:Gymnastics
DESCRIPTION:*Based on child’s age. Must register in advance. One session per week\, per child.
URL:https://www.ymcashoals.org/event/gymnastics/2026-09-22/
LOCATION:YMCA of the Shoals\, 2121 Helton Drive\, Florence\, AL\, 35630\, United States
CATEGORIES:Gymnastics,Schedules
GEO:34.8324379;-87.6683435
X-APPLE-STRUCTURED-LOCATION;VALUE=URI;X-ADDRESS=YMCA of the Shoals 2121 Helton Drive Florence AL 35630 United States;X-APPLE-RADIUS=500;X-TITLE=2121 Helton Drive:geo:-87.6683435,34.8324379
END:VEVENT
BEGIN:VEVENT
DTSTART;TZID=America/Chicago:20260924T154500
DTEND;TZID=America/Chicago:20260924T174500
DTSTAMP:20260423T161004
CREATED:20250117T194708Z
LAST-MODIFIED:20250117T194708Z
UID:193922-1790264700-1790271900@www.ymcashoals.org
SUMMARY:Gymnastics
DESCRIPTION:*Based on child’s age. Must register in advance. One session per week\, per child.
URL:https://www.ymcashoals.org/event/gymnastics/2026-09-24/
LOCATION:YMCA of the Shoals\, 2121 Helton Drive\, Florence\, AL\, 35630\, United States
CATEGORIES:Gymnastics,Schedules
GEO:34.8324379;-87.6683435
X-APPLE-STRUCTURED-LOCATION;VALUE=URI;X-ADDRESS=YMCA of the Shoals 2121 Helton Drive Florence AL 35630 United States;X-APPLE-RADIUS=500;X-TITLE=2121 Helton Drive:geo:-87.6683435,34.8324379
END:VEVENT
BEGIN:VEVENT
DTSTART;TZID=America/Chicago:20260929T154500
DTEND;TZID=America/Chicago:20260929T174500
DTSTAMP:20260423T161004
CREATED:20250117T194708Z
LAST-MODIFIED:20250117T194708Z
UID:193923-1790696700-1790703900@www.ymcashoals.org
SUMMARY:Gymnastics
DESCRIPTION:*Based on child’s age. Must register in advance. One session per week\, per child.
URL:https://www.ymcashoals.org/event/gymnastics/2026-09-29/
LOCATION:YMCA of the Shoals\, 2121 Helton Drive\, Florence\, AL\, 35630\, United States
CATEGORIES:Gymnastics,Schedules
GEO:34.8324379;-87.6683435
X-APPLE-STRUCTURED-LOCATION;VALUE=URI;X-ADDRESS=YMCA of the Shoals 2121 Helton Drive Florence AL 35630 United States;X-APPLE-RADIUS=500;X-TITLE=2121 Helton Drive:geo:-87.6683435,34.8324379
END:VEVENT
BEGIN:VEVENT
DTSTART;TZID=America/Chicago:20261001T154500
DTEND;TZID=America/Chicago:20261001T174500
DTSTAMP:20260423T161004
CREATED:20250117T194708Z
LAST-MODIFIED:20250117T194708Z
UID:193924-1790869500-1790876700@www.ymcashoals.org
SUMMARY:Gymnastics
DESCRIPTION:*Based on child’s age. Must register in advance. One session per week\, per child.
URL:https://www.ymcashoals.org/event/gymnastics/2026-10-01/
LOCATION:YMCA of the Shoals\, 2121 Helton Drive\, Florence\, AL\, 35630\, United States
CATEGORIES:Gymnastics,Schedules
GEO:34.8324379;-87.6683435
X-APPLE-STRUCTURED-LOCATION;VALUE=URI;X-ADDRESS=YMCA of the Shoals 2121 Helton Drive Florence AL 35630 United States;X-APPLE-RADIUS=500;X-TITLE=2121 Helton Drive:geo:-87.6683435,34.8324379
END:VEVENT
BEGIN:VEVENT
DTSTART;TZID=America/Chicago:20261006T154500
DTEND;TZID=America/Chicago:20261006T174500
DTSTAMP:20260423T161004
CREATED:20250117T194708Z
LAST-MODIFIED:20250117T194708Z
UID:193925-1791301500-1791308700@www.ymcashoals.org
SUMMARY:Gymnastics
DESCRIPTION:*Based on child’s age. Must register in advance. One session per week\, per child.
URL:https://www.ymcashoals.org/event/gymnastics/2026-10-06/
LOCATION:YMCA of the Shoals\, 2121 Helton Drive\, Florence\, AL\, 35630\, United States
CATEGORIES:Gymnastics,Schedules
GEO:34.8324379;-87.6683435
X-APPLE-STRUCTURED-LOCATION;VALUE=URI;X-ADDRESS=YMCA of the Shoals 2121 Helton Drive Florence AL 35630 United States;X-APPLE-RADIUS=500;X-TITLE=2121 Helton Drive:geo:-87.6683435,34.8324379
END:VEVENT
BEGIN:VEVENT
DTSTART;TZID=America/Chicago:20261008T154500
DTEND;TZID=America/Chicago:20261008T174500
DTSTAMP:20260423T161004
CREATED:20250117T194708Z
LAST-MODIFIED:20250117T194708Z
UID:193926-1791474300-1791481500@www.ymcashoals.org
SUMMARY:Gymnastics
DESCRIPTION:*Based on child’s age. Must register in advance. One session per week\, per child.
URL:https://www.ymcashoals.org/event/gymnastics/2026-10-08/
LOCATION:YMCA of the Shoals\, 2121 Helton Drive\, Florence\, AL\, 35630\, United States
CATEGORIES:Gymnastics,Schedules
GEO:34.8324379;-87.6683435
X-APPLE-STRUCTURED-LOCATION;VALUE=URI;X-ADDRESS=YMCA of the Shoals 2121 Helton Drive Florence AL 35630 United States;X-APPLE-RADIUS=500;X-TITLE=2121 Helton Drive:geo:-87.6683435,34.8324379
END:VEVENT
BEGIN:VEVENT
DTSTART;TZID=America/Chicago:20261013T154500
DTEND;TZID=America/Chicago:20261013T174500
DTSTAMP:20260423T161004
CREATED:20250117T194708Z
LAST-MODIFIED:20250117T194708Z
UID:193927-1791906300-1791913500@www.ymcashoals.org
SUMMARY:Gymnastics
DESCRIPTION:*Based on child’s age. Must register in advance. One session per week\, per child.
URL:https://www.ymcashoals.org/event/gymnastics/2026-10-13/
LOCATION:YMCA of the Shoals\, 2121 Helton Drive\, Florence\, AL\, 35630\, United States
CATEGORIES:Gymnastics,Schedules
GEO:34.8324379;-87.6683435
X-APPLE-STRUCTURED-LOCATION;VALUE=URI;X-ADDRESS=YMCA of the Shoals 2121 Helton Drive Florence AL 35630 United States;X-APPLE-RADIUS=500;X-TITLE=2121 Helton Drive:geo:-87.6683435,34.8324379
END:VEVENT
BEGIN:VEVENT
DTSTART;TZID=America/Chicago:20261015T154500
DTEND;TZID=America/Chicago:20261015T174500
DTSTAMP:20260423T161004
CREATED:20250117T194708Z
LAST-MODIFIED:20250117T194708Z
UID:193928-1792079100-1792086300@www.ymcashoals.org
SUMMARY:Gymnastics
DESCRIPTION:*Based on child’s age. Must register in advance. One session per week\, per child.
URL:https://www.ymcashoals.org/event/gymnastics/2026-10-15/
LOCATION:YMCA of the Shoals\, 2121 Helton Drive\, Florence\, AL\, 35630\, United States
CATEGORIES:Gymnastics,Schedules
GEO:34.8324379;-87.6683435
X-APPLE-STRUCTURED-LOCATION;VALUE=URI;X-ADDRESS=YMCA of the Shoals 2121 Helton Drive Florence AL 35630 United States;X-APPLE-RADIUS=500;X-TITLE=2121 Helton Drive:geo:-87.6683435,34.8324379
END:VEVENT
BEGIN:VEVENT
DTSTART;TZID=America/Chicago:20261020T154500
DTEND;TZID=America/Chicago:20261020T174500
DTSTAMP:20260423T161004
CREATED:20250117T194708Z
LAST-MODIFIED:20250117T194708Z
UID:193929-1792511100-1792518300@www.ymcashoals.org
SUMMARY:Gymnastics
DESCRIPTION:*Based on child’s age. Must register in advance. One session per week\, per child.
URL:https://www.ymcashoals.org/event/gymnastics/2026-10-20/
LOCATION:YMCA of the Shoals\, 2121 Helton Drive\, Florence\, AL\, 35630\, United States
CATEGORIES:Gymnastics,Schedules
GEO:34.8324379;-87.6683435
X-APPLE-STRUCTURED-LOCATION;VALUE=URI;X-ADDRESS=YMCA of the Shoals 2121 Helton Drive Florence AL 35630 United States;X-APPLE-RADIUS=500;X-TITLE=2121 Helton Drive:geo:-87.6683435,34.8324379
END:VEVENT
BEGIN:VEVENT
DTSTART;TZID=America/Chicago:20261022T154500
DTEND;TZID=America/Chicago:20261022T174500
DTSTAMP:20260423T161004
CREATED:20250117T194708Z
LAST-MODIFIED:20250117T194708Z
UID:193930-1792683900-1792691100@www.ymcashoals.org
SUMMARY:Gymnastics
DESCRIPTION:*Based on child’s age. Must register in advance. One session per week\, per child.
URL:https://www.ymcashoals.org/event/gymnastics/2026-10-22/
LOCATION:YMCA of the Shoals\, 2121 Helton Drive\, Florence\, AL\, 35630\, United States
CATEGORIES:Gymnastics,Schedules
GEO:34.8324379;-87.6683435
X-APPLE-STRUCTURED-LOCATION;VALUE=URI;X-ADDRESS=YMCA of the Shoals 2121 Helton Drive Florence AL 35630 United States;X-APPLE-RADIUS=500;X-TITLE=2121 Helton Drive:geo:-87.6683435,34.8324379
END:VEVENT
BEGIN:VEVENT
DTSTART;TZID=America/Chicago:20261027T154500
DTEND;TZID=America/Chicago:20261027T174500
DTSTAMP:20260423T161004
CREATED:20250117T194708Z
LAST-MODIFIED:20250117T194708Z
UID:193931-1793115900-1793123100@www.ymcashoals.org
SUMMARY:Gymnastics
DESCRIPTION:*Based on child’s age. Must register in advance. One session per week\, per child.
URL:https://www.ymcashoals.org/event/gymnastics/2026-10-27/
LOCATION:YMCA of the Shoals\, 2121 Helton Drive\, Florence\, AL\, 35630\, United States
CATEGORIES:Gymnastics,Schedules
GEO:34.8324379;-87.6683435
X-APPLE-STRUCTURED-LOCATION;VALUE=URI;X-ADDRESS=YMCA of the Shoals 2121 Helton Drive Florence AL 35630 United States;X-APPLE-RADIUS=500;X-TITLE=2121 Helton Drive:geo:-87.6683435,34.8324379
END:VEVENT
BEGIN:VEVENT
DTSTART;TZID=America/Chicago:20261029T154500
DTEND;TZID=America/Chicago:20261029T174500
DTSTAMP:20260423T161004
CREATED:20250117T194708Z
LAST-MODIFIED:20250117T194708Z
UID:193932-1793288700-1793295900@www.ymcashoals.org
SUMMARY:Gymnastics
DESCRIPTION:*Based on child’s age. Must register in advance. One session per week\, per child.
URL:https://www.ymcashoals.org/event/gymnastics/2026-10-29/
LOCATION:YMCA of the Shoals\, 2121 Helton Drive\, Florence\, AL\, 35630\, United States
CATEGORIES:Gymnastics,Schedules
GEO:34.8324379;-87.6683435
X-APPLE-STRUCTURED-LOCATION;VALUE=URI;X-ADDRESS=YMCA of the Shoals 2121 Helton Drive Florence AL 35630 United States;X-APPLE-RADIUS=500;X-TITLE=2121 Helton Drive:geo:-87.6683435,34.8324379
END:VEVENT
END:VCALENDAR