BEGIN:VCALENDAR
VERSION:2.0
PRODID:-//YMCA of the Shoals - ECPv6.15.20//NONSGML v1.0//EN
CALSCALE:GREGORIAN
METHOD:PUBLISH
X-WR-CALNAME:YMCA of the Shoals
X-ORIGINAL-URL:https://www.ymcashoals.org
X-WR-CALDESC:Events for YMCA of the Shoals
REFRESH-INTERVAL;VALUE=DURATION:PT1H
X-Robots-Tag:noindex
X-PUBLISHED-TTL:PT1H
BEGIN:VTIMEZONE
TZID:America/Chicago
BEGIN:DAYLIGHT
TZOFFSETFROM:-0600
TZOFFSETTO:-0500
TZNAME:CDT
DTSTART:20250309T080000
END:DAYLIGHT
BEGIN:STANDARD
TZOFFSETFROM:-0500
TZOFFSETTO:-0600
TZNAME:CST
DTSTART:20251102T070000
END:STANDARD
BEGIN:DAYLIGHT
TZOFFSETFROM:-0600
TZOFFSETTO:-0500
TZNAME:CDT
DTSTART:20260308T080000
END:DAYLIGHT
BEGIN:STANDARD
TZOFFSETFROM:-0500
TZOFFSETTO:-0600
TZNAME:CST
DTSTART:20261101T070000
END:STANDARD
BEGIN:DAYLIGHT
TZOFFSETFROM:-0600
TZOFFSETTO:-0500
TZNAME:CDT
DTSTART:20270314T080000
END:DAYLIGHT
BEGIN:STANDARD
TZOFFSETFROM:-0500
TZOFFSETTO:-0600
TZNAME:CST
DTSTART:20271107T070000
END:STANDARD
END:VTIMEZONE
BEGIN:VEVENT
DTSTART;TZID=America/Chicago:20260824T110000
DTEND;TZID=America/Chicago:20260824T123000
DTSTAMP:20260425T171131
CREATED:20250425T164620Z
LAST-MODIFIED:20250425T164620Z
UID:184120-1787569200-1787574600@www.ymcashoals.org
SUMMARY:Rock Steady (Sara)
DESCRIPTION:
URL:https://www.ymcashoals.org/event/rock-steady-sara/2026-08-24/
LOCATION:YMCA of the Shoals\, 2121 Helton Drive\, Florence\, AL\, 35630\, United States
CATEGORIES:Group Exercise (GXR),Schedules
GEO:34.8324379;-87.6683435
X-APPLE-STRUCTURED-LOCATION;VALUE=URI;X-ADDRESS=YMCA of the Shoals 2121 Helton Drive Florence AL 35630 United States;X-APPLE-RADIUS=500;X-TITLE=2121 Helton Drive:geo:-87.6683435,34.8324379
END:VEVENT
BEGIN:VEVENT
DTSTART;TZID=America/Chicago:20260824T161500
DTEND;TZID=America/Chicago:20260824T170000
DTSTAMP:20260425T171131
CREATED:20210330T134516Z
LAST-MODIFIED:20210330T134516Z
UID:184112-1787588100-1787590800@www.ymcashoals.org
SUMMARY:Muscle Works (Emilie)
DESCRIPTION:
URL:https://www.ymcashoals.org/event/muscle-works-emilie/2026-08-24/
LOCATION:YMCA of the Shoals\, 2121 Helton Drive\, Florence\, AL\, 35630\, United States
CATEGORIES:Group Exercise (GXR),Schedules
GEO:34.8324379;-87.6683435
X-APPLE-STRUCTURED-LOCATION;VALUE=URI;X-ADDRESS=YMCA of the Shoals 2121 Helton Drive Florence AL 35630 United States;X-APPLE-RADIUS=500;X-TITLE=2121 Helton Drive:geo:-87.6683435,34.8324379
END:VEVENT
BEGIN:VEVENT
DTSTART;TZID=America/Chicago:20260824T173000
DTEND;TZID=America/Chicago:20260824T183000
DTSTAMP:20260425T171131
CREATED:20241029T202516Z
LAST-MODIFIED:20241029T202516Z
UID:192664-1787592600-1787596200@www.ymcashoals.org
SUMMARY:Cardio Hip Hop (Ladarius)
DESCRIPTION:
URL:https://www.ymcashoals.org/event/cardio-hip-hop-ladarius-4/2026-08-24/
LOCATION:YMCA of the Shoals\, 2121 Helton Drive\, Florence\, AL\, 35630\, United States
CATEGORIES:Group Exercise (GXR),Schedules
GEO:34.8324379;-87.6683435
X-APPLE-STRUCTURED-LOCATION;VALUE=URI;X-ADDRESS=YMCA of the Shoals 2121 Helton Drive Florence AL 35630 United States;X-APPLE-RADIUS=500;X-TITLE=2121 Helton Drive:geo:-87.6683435,34.8324379
END:VEVENT
BEGIN:VEVENT
DTSTART;TZID=America/Chicago:20260825T051500
DTEND;TZID=America/Chicago:20260825T060000
DTSTAMP:20260425T171131
CREATED:20201104T172041Z
LAST-MODIFIED:20201104T172041Z
UID:184122-1787634900-1787637600@www.ymcashoals.org
SUMMARY:Muscle Works (Lisa)
DESCRIPTION:
URL:https://www.ymcashoals.org/event/muscle-works-colette/2026-08-25/
LOCATION:YMCA of the Shoals\, 2121 Helton Drive\, Florence\, AL\, 35630\, United States
CATEGORIES:Group Exercise (GXR),Schedules
GEO:34.8324379;-87.6683435
X-APPLE-STRUCTURED-LOCATION;VALUE=URI;X-ADDRESS=YMCA of the Shoals 2121 Helton Drive Florence AL 35630 United States;X-APPLE-RADIUS=500;X-TITLE=2121 Helton Drive:geo:-87.6683435,34.8324379
END:VEVENT
BEGIN:VEVENT
DTSTART;TZID=America/Chicago:20260825T081000
DTEND;TZID=America/Chicago:20260825T090000
DTSTAMP:20260425T171131
CREATED:20240424T190848Z
LAST-MODIFIED:20240424T190848Z
UID:184124-1787645400-1787648400@www.ymcashoals.org
SUMMARY:Body Pump (Christy)
DESCRIPTION:
URL:https://www.ymcashoals.org/event/body-pump-christy/2026-08-25/
LOCATION:YMCA of the Shoals\, 2121 Helton Drive\, Florence\, AL\, 35630\, United States
CATEGORIES:Group Exercise (GXR),Schedules
GEO:34.8324379;-87.6683435
X-APPLE-STRUCTURED-LOCATION;VALUE=URI;X-ADDRESS=YMCA of the Shoals 2121 Helton Drive Florence AL 35630 United States;X-APPLE-RADIUS=500;X-TITLE=2121 Helton Drive:geo:-87.6683435,34.8324379
END:VEVENT
BEGIN:VEVENT
DTSTART;TZID=America/Chicago:20260825T091000
DTEND;TZID=America/Chicago:20260825T100000
DTSTAMP:20260425T171131
CREATED:20250825T190655Z
LAST-MODIFIED:20250825T190655Z
UID:186909-1787649000-1787652000@www.ymcashoals.org
SUMMARY:Pilates (Christy)
DESCRIPTION:
URL:https://www.ymcashoals.org/event/pilates-christy/2026-08-25/
LOCATION:YMCA of the Shoals\, 2121 Helton Drive\, Florence\, AL\, 35630\, United States
CATEGORIES:Group Exercise (GXR),Schedules
GEO:34.8324379;-87.6683435
X-APPLE-STRUCTURED-LOCATION;VALUE=URI;X-ADDRESS=YMCA of the Shoals 2121 Helton Drive Florence AL 35630 United States;X-APPLE-RADIUS=500;X-TITLE=2121 Helton Drive:geo:-87.6683435,34.8324379
END:VEVENT
BEGIN:VEVENT
DTSTART;TZID=America/Chicago:20260825T121500
DTEND;TZID=America/Chicago:20260825T130000
DTSTAMP:20260425T171131
CREATED:20250224T205211Z
LAST-MODIFIED:20250224T205211Z
UID:192498-1787660100-1787662800@www.ymcashoals.org
SUMMARY:Body & Balance (Teri)
DESCRIPTION:
URL:https://www.ymcashoals.org/event/body-balance-teri-2/2026-08-25/
LOCATION:YMCA of the Shoals\, 2121 Helton Drive\, Florence\, AL\, 35630\, United States
CATEGORIES:Group Exercise (GXR),Schedules
GEO:34.8324379;-87.6683435
X-APPLE-STRUCTURED-LOCATION;VALUE=URI;X-ADDRESS=YMCA of the Shoals 2121 Helton Drive Florence AL 35630 United States;X-APPLE-RADIUS=500;X-TITLE=2121 Helton Drive:geo:-87.6683435,34.8324379
END:VEVENT
BEGIN:VEVENT
DTSTART;TZID=America/Chicago:20260825T173000
DTEND;TZID=America/Chicago:20260825T183000
DTSTAMP:20260425T171131
CREATED:20250103T141345Z
LAST-MODIFIED:20250103T141345Z
UID:184127-1787679000-1787682600@www.ymcashoals.org
SUMMARY:Muscle Works (Angela D.)
DESCRIPTION:
URL:https://www.ymcashoals.org/event/muscle-works-angela-d-3/2026-08-25/
LOCATION:YMCA of the Shoals\, 2121 Helton Drive\, Florence\, AL\, 35630\, United States
CATEGORIES:Group Exercise (GXR),Schedules
GEO:34.8324379;-87.6683435
X-APPLE-STRUCTURED-LOCATION;VALUE=URI;X-ADDRESS=YMCA of the Shoals 2121 Helton Drive Florence AL 35630 United States;X-APPLE-RADIUS=500;X-TITLE=2121 Helton Drive:geo:-87.6683435,34.8324379
END:VEVENT
BEGIN:VEVENT
DTSTART;TZID=America/Chicago:20260826T051500
DTEND;TZID=America/Chicago:20260826T060000
DTSTAMP:20260425T171131
CREATED:20250224T205113Z
LAST-MODIFIED:20250224T205113Z
UID:192156-1787721300-1787724000@www.ymcashoals.org
SUMMARY:Kickboxing (Kimberly)
DESCRIPTION:
URL:https://www.ymcashoals.org/event/kickboxing-elle/2026-08-26/
LOCATION:YMCA of the Shoals\, 2121 Helton Drive\, Florence\, AL\, 35630\, United States
CATEGORIES:Group Exercise (GXR),Schedules
GEO:34.8324379;-87.6683435
X-APPLE-STRUCTURED-LOCATION;VALUE=URI;X-ADDRESS=YMCA of the Shoals 2121 Helton Drive Florence AL 35630 United States;X-APPLE-RADIUS=500;X-TITLE=2121 Helton Drive:geo:-87.6683435,34.8324379
END:VEVENT
BEGIN:VEVENT
DTSTART;TZID=America/Chicago:20260826T081500
DTEND;TZID=America/Chicago:20260826T090000
DTSTAMP:20260425T171131
CREATED:20200527T202728Z
LAST-MODIFIED:20200527T202728Z
UID:192269-1787732100-1787734800@www.ymcashoals.org
SUMMARY:Y Dance (Leslie)
DESCRIPTION:
URL:https://www.ymcashoals.org/event/y-dance-leslie/2026-08-26/
LOCATION:YMCA of the Shoals\, 2121 Helton Drive\, Florence\, AL\, 35630\, United States
CATEGORIES:Group Exercise (GXR),Schedules
GEO:34.8324379;-87.6683435
X-APPLE-STRUCTURED-LOCATION;VALUE=URI;X-ADDRESS=YMCA of the Shoals 2121 Helton Drive Florence AL 35630 United States;X-APPLE-RADIUS=500;X-TITLE=2121 Helton Drive:geo:-87.6683435,34.8324379
END:VEVENT
BEGIN:VEVENT
DTSTART;TZID=America/Chicago:20260826T091000
DTEND;TZID=America/Chicago:20260826T100000
DTSTAMP:20260425T171131
CREATED:20260123T135158Z
LAST-MODIFIED:20260123T135158Z
UID:198529-1787735400-1787738400@www.ymcashoals.org
SUMMARY:Y Barre (Casey)
DESCRIPTION:
URL:https://www.ymcashoals.org/event/y-barre-casey/2026-08-26/
LOCATION:YMCA of the Shoals\, 2121 Helton Drive\, Florence\, AL\, 35630\, United States
CATEGORIES:Group Exercise (GXR),Schedules
GEO:34.8324379;-87.6683435
X-APPLE-STRUCTURED-LOCATION;VALUE=URI;X-ADDRESS=YMCA of the Shoals 2121 Helton Drive Florence AL 35630 United States;X-APPLE-RADIUS=500;X-TITLE=2121 Helton Drive:geo:-87.6683435,34.8324379
END:VEVENT
BEGIN:VEVENT
DTSTART;TZID=America/Chicago:20260826T101000
DTEND;TZID=America/Chicago:20260826T110000
DTSTAMP:20260425T171131
CREATED:20250224T205431Z
LAST-MODIFIED:20260325T182526Z
UID:184139-1787739000-1787742000@www.ymcashoals.org
SUMMARY:Muscle Works (Teri)
DESCRIPTION:
URL:https://www.ymcashoals.org/event/muscle-works-teri-2/2026-08-26/
LOCATION:YMCA of the Shoals\, 2121 Helton Drive\, Florence\, AL\, 35630\, United States
CATEGORIES:Group Exercise (GXR),Schedules
GEO:34.8324379;-87.6683435
X-APPLE-STRUCTURED-LOCATION;VALUE=URI;X-ADDRESS=YMCA of the Shoals 2121 Helton Drive Florence AL 35630 United States;X-APPLE-RADIUS=500;X-TITLE=2121 Helton Drive:geo:-87.6683435,34.8324379
END:VEVENT
BEGIN:VEVENT
DTSTART;TZID=America/Chicago:20260826T110000
DTEND;TZID=America/Chicago:20260826T123000
DTSTAMP:20260425T171131
CREATED:20250425T164620Z
LAST-MODIFIED:20250425T164620Z
UID:184141-1787742000-1787747400@www.ymcashoals.org
SUMMARY:Rock Steady (Sara)
DESCRIPTION:
URL:https://www.ymcashoals.org/event/rock-steady-sara/2026-08-26/
LOCATION:YMCA of the Shoals\, 2121 Helton Drive\, Florence\, AL\, 35630\, United States
CATEGORIES:Group Exercise (GXR),Schedules
GEO:34.8324379;-87.6683435
X-APPLE-STRUCTURED-LOCATION;VALUE=URI;X-ADDRESS=YMCA of the Shoals 2121 Helton Drive Florence AL 35630 United States;X-APPLE-RADIUS=500;X-TITLE=2121 Helton Drive:geo:-87.6683435,34.8324379
END:VEVENT
BEGIN:VEVENT
DTSTART;TZID=America/Chicago:20260826T161500
DTEND;TZID=America/Chicago:20260826T170000
DTSTAMP:20260425T171131
CREATED:20210330T134516Z
LAST-MODIFIED:20210330T134516Z
UID:184132-1787760900-1787763600@www.ymcashoals.org
SUMMARY:Muscle Works (Emilie)
DESCRIPTION:
URL:https://www.ymcashoals.org/event/muscle-works-emilie/2026-08-26/
LOCATION:YMCA of the Shoals\, 2121 Helton Drive\, Florence\, AL\, 35630\, United States
CATEGORIES:Group Exercise (GXR),Schedules
GEO:34.8324379;-87.6683435
X-APPLE-STRUCTURED-LOCATION;VALUE=URI;X-ADDRESS=YMCA of the Shoals 2121 Helton Drive Florence AL 35630 United States;X-APPLE-RADIUS=500;X-TITLE=2121 Helton Drive:geo:-87.6683435,34.8324379
END:VEVENT
BEGIN:VEVENT
DTSTART;TZID=America/Chicago:20260826T173000
DTEND;TZID=America/Chicago:20260826T183000
DTSTAMP:20260425T171131
CREATED:20241029T202516Z
LAST-MODIFIED:20241029T202516Z
UID:192665-1787765400-1787769000@www.ymcashoals.org
SUMMARY:Cardio Hip Hop (Ladarius)
DESCRIPTION:
URL:https://www.ymcashoals.org/event/cardio-hip-hop-ladarius-4/2026-08-26/
LOCATION:YMCA of the Shoals\, 2121 Helton Drive\, Florence\, AL\, 35630\, United States
CATEGORIES:Group Exercise (GXR),Schedules
GEO:34.8324379;-87.6683435
X-APPLE-STRUCTURED-LOCATION;VALUE=URI;X-ADDRESS=YMCA of the Shoals 2121 Helton Drive Florence AL 35630 United States;X-APPLE-RADIUS=500;X-TITLE=2121 Helton Drive:geo:-87.6683435,34.8324379
END:VEVENT
BEGIN:VEVENT
DTSTART;TZID=America/Chicago:20260827T051500
DTEND;TZID=America/Chicago:20260827T060000
DTSTAMP:20260425T171131
CREATED:20221128T211203Z
LAST-MODIFIED:20221128T211203Z
UID:184142-1787807700-1787810400@www.ymcashoals.org
SUMMARY:Muscle Works (Emilie)
DESCRIPTION:
URL:https://www.ymcashoals.org/event/muscle-works-emilie-3/2026-08-27/
LOCATION:YMCA of the Shoals\, 2121 Helton Drive\, Florence\, AL\, 35630\, United States
CATEGORIES:Group Exercise (GXR),Schedules
GEO:34.8324379;-87.6683435
X-APPLE-STRUCTURED-LOCATION;VALUE=URI;X-ADDRESS=YMCA of the Shoals 2121 Helton Drive Florence AL 35630 United States;X-APPLE-RADIUS=500;X-TITLE=2121 Helton Drive:geo:-87.6683435,34.8324379
END:VEVENT
BEGIN:VEVENT
DTSTART;TZID=America/Chicago:20260827T081000
DTEND;TZID=America/Chicago:20260827T090000
DTSTAMP:20260425T171131
CREATED:20240424T190848Z
LAST-MODIFIED:20240424T190848Z
UID:184143-1787818200-1787821200@www.ymcashoals.org
SUMMARY:Body Pump (Christy)
DESCRIPTION:
URL:https://www.ymcashoals.org/event/body-pump-christy/2026-08-27/
LOCATION:YMCA of the Shoals\, 2121 Helton Drive\, Florence\, AL\, 35630\, United States
CATEGORIES:Group Exercise (GXR),Schedules
GEO:34.8324379;-87.6683435
X-APPLE-STRUCTURED-LOCATION;VALUE=URI;X-ADDRESS=YMCA of the Shoals 2121 Helton Drive Florence AL 35630 United States;X-APPLE-RADIUS=500;X-TITLE=2121 Helton Drive:geo:-87.6683435,34.8324379
END:VEVENT
BEGIN:VEVENT
DTSTART;TZID=America/Chicago:20260827T091000
DTEND;TZID=America/Chicago:20260827T100000
DTSTAMP:20260425T171131
CREATED:20250825T190655Z
LAST-MODIFIED:20250825T190655Z
UID:186910-1787821800-1787824800@www.ymcashoals.org
SUMMARY:Pilates (Christy)
DESCRIPTION:
URL:https://www.ymcashoals.org/event/pilates-christy/2026-08-27/
LOCATION:YMCA of the Shoals\, 2121 Helton Drive\, Florence\, AL\, 35630\, United States
CATEGORIES:Group Exercise (GXR),Schedules
GEO:34.8324379;-87.6683435
X-APPLE-STRUCTURED-LOCATION;VALUE=URI;X-ADDRESS=YMCA of the Shoals 2121 Helton Drive Florence AL 35630 United States;X-APPLE-RADIUS=500;X-TITLE=2121 Helton Drive:geo:-87.6683435,34.8324379
END:VEVENT
BEGIN:VEVENT
DTSTART;TZID=America/Chicago:20260827T101000
DTEND;TZID=America/Chicago:20260827T110000
DTSTAMP:20260425T171131
CREATED:20250224T205516Z
LAST-MODIFIED:20250224T205516Z
UID:185655-1787825400-1787828400@www.ymcashoals.org
SUMMARY:Muscle Works (Angela D.)
DESCRIPTION:
URL:https://www.ymcashoals.org/event/muscle-works-angela-d-4/2026-08-27/
LOCATION:YMCA of the Shoals\, 2121 Helton Drive\, Florence\, AL\, 35630\, United States
CATEGORIES:Group Exercise (GXR),Schedules
GEO:34.8324379;-87.6683435
X-APPLE-STRUCTURED-LOCATION;VALUE=URI;X-ADDRESS=YMCA of the Shoals 2121 Helton Drive Florence AL 35630 United States;X-APPLE-RADIUS=500;X-TITLE=2121 Helton Drive:geo:-87.6683435,34.8324379
END:VEVENT
BEGIN:VEVENT
DTSTART;TZID=America/Chicago:20260827T121500
DTEND;TZID=America/Chicago:20260827T130000
DTSTAMP:20260425T171131
CREATED:20250224T205211Z
LAST-MODIFIED:20250224T205211Z
UID:192499-1787832900-1787835600@www.ymcashoals.org
SUMMARY:Body & Balance (Teri)
DESCRIPTION:
URL:https://www.ymcashoals.org/event/body-balance-teri-2/2026-08-27/
LOCATION:YMCA of the Shoals\, 2121 Helton Drive\, Florence\, AL\, 35630\, United States
CATEGORIES:Group Exercise (GXR),Schedules
GEO:34.8324379;-87.6683435
X-APPLE-STRUCTURED-LOCATION;VALUE=URI;X-ADDRESS=YMCA of the Shoals 2121 Helton Drive Florence AL 35630 United States;X-APPLE-RADIUS=500;X-TITLE=2121 Helton Drive:geo:-87.6683435,34.8324379
END:VEVENT
BEGIN:VEVENT
DTSTART;TZID=America/Chicago:20260827T173000
DTEND;TZID=America/Chicago:20260827T183000
DTSTAMP:20260425T171131
CREATED:20250103T141445Z
LAST-MODIFIED:20250103T141445Z
UID:184145-1787851800-1787855400@www.ymcashoals.org
SUMMARY:Muscle Works (Angela V.)
DESCRIPTION:
URL:https://www.ymcashoals.org/event/muscle-works-angela-v-2/2026-08-27/
LOCATION:YMCA of the Shoals\, 2121 Helton Drive\, Florence\, AL\, 35630\, United States
CATEGORIES:Group Exercise (GXR),Schedules
GEO:34.8324379;-87.6683435
X-APPLE-STRUCTURED-LOCATION;VALUE=URI;X-ADDRESS=YMCA of the Shoals 2121 Helton Drive Florence AL 35630 United States;X-APPLE-RADIUS=500;X-TITLE=2121 Helton Drive:geo:-87.6683435,34.8324379
END:VEVENT
BEGIN:VEVENT
DTSTART;TZID=America/Chicago:20260828T081500
DTEND;TZID=America/Chicago:20260828T090000
DTSTAMP:20260425T171131
CREATED:20211201T212911Z
LAST-MODIFIED:20211201T212911Z
UID:192350-1787904900-1787907600@www.ymcashoals.org
SUMMARY:Y Dance (Casey)
DESCRIPTION:
URL:https://www.ymcashoals.org/event/y-dance-casey-2/2026-08-28/
LOCATION:YMCA of the Shoals\, 2121 Helton Drive\, Florence\, AL\, 35630\, United States
CATEGORIES:Group Exercise (GXR),Schedules
GEO:34.8324379;-87.6683435
X-APPLE-STRUCTURED-LOCATION;VALUE=URI;X-ADDRESS=YMCA of the Shoals 2121 Helton Drive Florence AL 35630 United States;X-APPLE-RADIUS=500;X-TITLE=2121 Helton Drive:geo:-87.6683435,34.8324379
END:VEVENT
BEGIN:VEVENT
DTSTART;TZID=America/Chicago:20260828T091000
DTEND;TZID=America/Chicago:20260828T100000
DTSTAMP:20260425T171131
CREATED:20260116T191004Z
LAST-MODIFIED:20260116T191004Z
UID:197903-1787908200-1787911200@www.ymcashoals.org
SUMMARY:Breathe & Bend (Amy)
DESCRIPTION:
URL:https://www.ymcashoals.org/event/breathe-bend-amy-4/2026-08-28/
LOCATION:YMCA of the Shoals\, 2121 Helton Drive\, Florence\, AL\, 35630\, United States
CATEGORIES:Group Exercise (GXR),Schedules
GEO:34.8324379;-87.6683435
X-APPLE-STRUCTURED-LOCATION;VALUE=URI;X-ADDRESS=YMCA of the Shoals 2121 Helton Drive Florence AL 35630 United States;X-APPLE-RADIUS=500;X-TITLE=2121 Helton Drive:geo:-87.6683435,34.8324379
END:VEVENT
BEGIN:VEVENT
DTSTART;TZID=America/Chicago:20260828T101000
DTEND;TZID=America/Chicago:20260828T110000
DTSTAMP:20260425T171131
CREATED:20250224T205516Z
LAST-MODIFIED:20250806T181253Z
UID:184151-1787911800-1787914800@www.ymcashoals.org
SUMMARY:Muscle Works (Angela D.)
DESCRIPTION:
URL:https://www.ymcashoals.org/event/muscle-works-angela-d-4/2026-08-28/
LOCATION:YMCA of the Shoals\, 2121 Helton Drive\, Florence\, AL\, 35630\, United States
CATEGORIES:Group Exercise (GXR),Schedules
GEO:34.8324379;-87.6683435
X-APPLE-STRUCTURED-LOCATION;VALUE=URI;X-ADDRESS=YMCA of the Shoals 2121 Helton Drive Florence AL 35630 United States;X-APPLE-RADIUS=500;X-TITLE=2121 Helton Drive:geo:-87.6683435,34.8324379
END:VEVENT
BEGIN:VEVENT
DTSTART;TZID=America/Chicago:20260828T173000
DTEND;TZID=America/Chicago:20260828T183000
DTSTAMP:20260425T171131
CREATED:20241029T202516Z
LAST-MODIFIED:20241029T202516Z
UID:192666-1787938200-1787941800@www.ymcashoals.org
SUMMARY:Cardio Hip Hop (Ladarius)
DESCRIPTION:
URL:https://www.ymcashoals.org/event/cardio-hip-hop-ladarius-4/2026-08-28/
LOCATION:YMCA of the Shoals\, 2121 Helton Drive\, Florence\, AL\, 35630\, United States
CATEGORIES:Group Exercise (GXR),Schedules
GEO:34.8324379;-87.6683435
X-APPLE-STRUCTURED-LOCATION;VALUE=URI;X-ADDRESS=YMCA of the Shoals 2121 Helton Drive Florence AL 35630 United States;X-APPLE-RADIUS=500;X-TITLE=2121 Helton Drive:geo:-87.6683435,34.8324379
END:VEVENT
BEGIN:VEVENT
DTSTART;TZID=America/Chicago:20260829T080000
DTEND;TZID=America/Chicago:20260829T084500
DTSTAMP:20260425T171131
CREATED:20200527T203028Z
LAST-MODIFIED:20200527T203028Z
UID:184157-1787990400-1787993100@www.ymcashoals.org
SUMMARY:Y HITT (Lisa)
DESCRIPTION:
URL:https://www.ymcashoals.org/event/y-hitt-lisa-2/2026-08-29/
LOCATION:YMCA of the Shoals\, 2121 Helton Drive\, Florence\, AL\, 35630\, United States
CATEGORIES:Group Exercise (GXR),Schedules
GEO:34.8324379;-87.6683435
X-APPLE-STRUCTURED-LOCATION;VALUE=URI;X-ADDRESS=YMCA of the Shoals 2121 Helton Drive Florence AL 35630 United States;X-APPLE-RADIUS=500;X-TITLE=2121 Helton Drive:geo:-87.6683435,34.8324379
END:VEVENT
BEGIN:VEVENT
DTSTART;TZID=America/Chicago:20260829T090000
DTEND;TZID=America/Chicago:20260829T095000
DTSTAMP:20260425T171131
CREATED:20210201T154320Z
LAST-MODIFIED:20210201T154320Z
UID:199879-1787994000-1787997000@www.ymcashoals.org
SUMMARY:Y Dance (Alternating)
DESCRIPTION:
URL:https://www.ymcashoals.org/event/y-dance-alternating/2026-08-29/
LOCATION:YMCA of the Shoals\, 2121 Helton Drive\, Florence\, AL\, 35630\, United States
CATEGORIES:Group Exercise (GXR),Schedules
GEO:34.8324379;-87.6683435
X-APPLE-STRUCTURED-LOCATION;VALUE=URI;X-ADDRESS=YMCA of the Shoals 2121 Helton Drive Florence AL 35630 United States;X-APPLE-RADIUS=500;X-TITLE=2121 Helton Drive:geo:-87.6683435,34.8324379
END:VEVENT
BEGIN:VEVENT
DTSTART;TZID=America/Chicago:20260829T090000
DTEND;TZID=America/Chicago:20260829T095000
DTSTAMP:20260425T171131
CREATED:20210201T154320Z
LAST-MODIFIED:20210201T154320Z
UID:199814-1787994000-1787997000@www.ymcashoals.org
SUMMARY:Y Dance (Alternating)
DESCRIPTION:
URL:https://www.ymcashoals.org/event/y-dance-alternating/2026-08-29/
LOCATION:YMCA of the Shoals\, 2121 Helton Drive\, Florence\, AL\, 35630\, United States
CATEGORIES:Group Exercise (GXR),Schedules
GEO:34.8324379;-87.6683435
X-APPLE-STRUCTURED-LOCATION;VALUE=URI;X-ADDRESS=YMCA of the Shoals 2121 Helton Drive Florence AL 35630 United States;X-APPLE-RADIUS=500;X-TITLE=2121 Helton Drive:geo:-87.6683435,34.8324379
END:VEVENT
BEGIN:VEVENT
DTSTART;TZID=America/Chicago:20260829T100000
DTEND;TZID=America/Chicago:20260829T105000
DTSTAMP:20260425T171131
CREATED:20210201T154659Z
LAST-MODIFIED:20210201T154659Z
UID:199934-1787997600-1788000600@www.ymcashoals.org
SUMMARY:Muscle Works (Alternating)
DESCRIPTION:
URL:https://www.ymcashoals.org/event/muscle-works-alternating-2/2026-08-29/
LOCATION:YMCA of the Shoals\, 2121 Helton Drive\, Florence\, AL\, 35630\, United States
CATEGORIES:Group Exercise (GXR),Schedules
GEO:34.8324379;-87.6683435
X-APPLE-STRUCTURED-LOCATION;VALUE=URI;X-ADDRESS=YMCA of the Shoals 2121 Helton Drive Florence AL 35630 United States;X-APPLE-RADIUS=500;X-TITLE=2121 Helton Drive:geo:-87.6683435,34.8324379
END:VEVENT
BEGIN:VEVENT
DTSTART;TZID=America/Chicago:20260829T100000
DTEND;TZID=America/Chicago:20260829T105000
DTSTAMP:20260425T171131
CREATED:20210201T154659Z
LAST-MODIFIED:20260325T181300Z
UID:199516-1787997600-1788000600@www.ymcashoals.org
SUMMARY:Muscle Works (Alternating)
DESCRIPTION:
URL:https://www.ymcashoals.org/event/muscle-works-alternating-2/2026-08-29/
LOCATION:YMCA of the Shoals\, 2121 Helton Drive\, Florence\, AL\, 35630\, United States
CATEGORIES:Group Exercise (GXR),Schedules
GEO:34.8324379;-87.6683435
X-APPLE-STRUCTURED-LOCATION;VALUE=URI;X-ADDRESS=YMCA of the Shoals 2121 Helton Drive Florence AL 35630 United States;X-APPLE-RADIUS=500;X-TITLE=2121 Helton Drive:geo:-87.6683435,34.8324379
END:VEVENT
END:VCALENDAR