BEGIN:VCALENDAR
VERSION:2.0
PRODID:-//YMCA of the Shoals - ECPv6.15.20//NONSGML v1.0//EN
CALSCALE:GREGORIAN
METHOD:PUBLISH
X-ORIGINAL-URL:https://www.ymcashoals.org
X-WR-CALDESC:Events for YMCA of the Shoals
REFRESH-INTERVAL;VALUE=DURATION:PT1H
X-Robots-Tag:noindex
X-PUBLISHED-TTL:PT1H
BEGIN:VTIMEZONE
TZID:America/Chicago
BEGIN:DAYLIGHT
TZOFFSETFROM:-0600
TZOFFSETTO:-0500
TZNAME:CDT
DTSTART:20250309T080000
END:DAYLIGHT
BEGIN:STANDARD
TZOFFSETFROM:-0500
TZOFFSETTO:-0600
TZNAME:CST
DTSTART:20251102T070000
END:STANDARD
BEGIN:DAYLIGHT
TZOFFSETFROM:-0600
TZOFFSETTO:-0500
TZNAME:CDT
DTSTART:20260308T080000
END:DAYLIGHT
BEGIN:STANDARD
TZOFFSETFROM:-0500
TZOFFSETTO:-0600
TZNAME:CST
DTSTART:20261101T070000
END:STANDARD
BEGIN:DAYLIGHT
TZOFFSETFROM:-0600
TZOFFSETTO:-0500
TZNAME:CDT
DTSTART:20270314T080000
END:DAYLIGHT
BEGIN:STANDARD
TZOFFSETFROM:-0500
TZOFFSETTO:-0600
TZNAME:CST
DTSTART:20271107T070000
END:STANDARD
END:VTIMEZONE
BEGIN:VEVENT
DTSTART;TZID=America/Chicago:20260618T121500
DTEND;TZID=America/Chicago:20260618T130000
DTSTAMP:20260424T172835
CREATED:20250224T205211Z
LAST-MODIFIED:20250224T205211Z
UID:192479-1781784900-1781787600@www.ymcashoals.org
SUMMARY:Body & Balance (Teri)
DESCRIPTION:
URL:https://www.ymcashoals.org/event/body-balance-teri-2/2026-06-18/
LOCATION:YMCA of the Shoals\, 2121 Helton Drive\, Florence\, AL\, 35630\, United States
CATEGORIES:Group Exercise (GXR),Schedules
GEO:34.8324379;-87.6683435
X-APPLE-STRUCTURED-LOCATION;VALUE=URI;X-ADDRESS=YMCA of the Shoals 2121 Helton Drive Florence AL 35630 United States;X-APPLE-RADIUS=500;X-TITLE=2121 Helton Drive:geo:-87.6683435,34.8324379
END:VEVENT
BEGIN:VEVENT
DTSTART;TZID=America/Chicago:20260618T173000
DTEND;TZID=America/Chicago:20260618T183000
DTSTAMP:20260424T172835
CREATED:20250103T141445Z
LAST-MODIFIED:20250103T141445Z
UID:181779-1781803800-1781807400@www.ymcashoals.org
SUMMARY:Muscle Works (Angela V.)
DESCRIPTION:
URL:https://www.ymcashoals.org/event/muscle-works-angela-v-2/2026-06-18/
LOCATION:YMCA of the Shoals\, 2121 Helton Drive\, Florence\, AL\, 35630\, United States
CATEGORIES:Group Exercise (GXR),Schedules
GEO:34.8324379;-87.6683435
X-APPLE-STRUCTURED-LOCATION;VALUE=URI;X-ADDRESS=YMCA of the Shoals 2121 Helton Drive Florence AL 35630 United States;X-APPLE-RADIUS=500;X-TITLE=2121 Helton Drive:geo:-87.6683435,34.8324379
END:VEVENT
BEGIN:VEVENT
DTSTART;TZID=America/Chicago:20260619T081500
DTEND;TZID=America/Chicago:20260619T090000
DTSTAMP:20260424T172835
CREATED:20211201T212911Z
LAST-MODIFIED:20211201T212911Z
UID:192340-1781856900-1781859600@www.ymcashoals.org
SUMMARY:Y Dance (Casey)
DESCRIPTION:
URL:https://www.ymcashoals.org/event/y-dance-casey-2/2026-06-19/
LOCATION:YMCA of the Shoals\, 2121 Helton Drive\, Florence\, AL\, 35630\, United States
CATEGORIES:Group Exercise (GXR),Schedules
GEO:34.8324379;-87.6683435
X-APPLE-STRUCTURED-LOCATION;VALUE=URI;X-ADDRESS=YMCA of the Shoals 2121 Helton Drive Florence AL 35630 United States;X-APPLE-RADIUS=500;X-TITLE=2121 Helton Drive:geo:-87.6683435,34.8324379
END:VEVENT
BEGIN:VEVENT
DTSTART;TZID=America/Chicago:20260619T091000
DTEND;TZID=America/Chicago:20260619T100000
DTSTAMP:20260424T172835
CREATED:20260116T191004Z
LAST-MODIFIED:20260116T191004Z
UID:197893-1781860200-1781863200@www.ymcashoals.org
SUMMARY:Breathe & Bend (Amy)
DESCRIPTION:
URL:https://www.ymcashoals.org/event/breathe-bend-amy-4/2026-06-19/
LOCATION:YMCA of the Shoals\, 2121 Helton Drive\, Florence\, AL\, 35630\, United States
CATEGORIES:Group Exercise (GXR),Schedules
GEO:34.8324379;-87.6683435
X-APPLE-STRUCTURED-LOCATION;VALUE=URI;X-ADDRESS=YMCA of the Shoals 2121 Helton Drive Florence AL 35630 United States;X-APPLE-RADIUS=500;X-TITLE=2121 Helton Drive:geo:-87.6683435,34.8324379
END:VEVENT
BEGIN:VEVENT
DTSTART;TZID=America/Chicago:20260619T101000
DTEND;TZID=America/Chicago:20260619T110000
DTSTAMP:20260424T172835
CREATED:20250224T205516Z
LAST-MODIFIED:20250806T181251Z
UID:181784-1781863800-1781866800@www.ymcashoals.org
SUMMARY:Muscle Works (Angela D.)
DESCRIPTION:
URL:https://www.ymcashoals.org/event/muscle-works-angela-d-4/2026-06-19/
LOCATION:YMCA of the Shoals\, 2121 Helton Drive\, Florence\, AL\, 35630\, United States
CATEGORIES:Group Exercise (GXR),Schedules
GEO:34.8324379;-87.6683435
X-APPLE-STRUCTURED-LOCATION;VALUE=URI;X-ADDRESS=YMCA of the Shoals 2121 Helton Drive Florence AL 35630 United States;X-APPLE-RADIUS=500;X-TITLE=2121 Helton Drive:geo:-87.6683435,34.8324379
END:VEVENT
BEGIN:VEVENT
DTSTART;TZID=America/Chicago:20260619T173000
DTEND;TZID=America/Chicago:20260619T183000
DTSTAMP:20260424T172835
CREATED:20241029T202516Z
LAST-MODIFIED:20241029T202516Z
UID:192636-1781890200-1781893800@www.ymcashoals.org
SUMMARY:Cardio Hip Hop (Ladarius)
DESCRIPTION:
URL:https://www.ymcashoals.org/event/cardio-hip-hop-ladarius-4/2026-06-19/
LOCATION:YMCA of the Shoals\, 2121 Helton Drive\, Florence\, AL\, 35630\, United States
CATEGORIES:Group Exercise (GXR),Schedules
GEO:34.8324379;-87.6683435
X-APPLE-STRUCTURED-LOCATION;VALUE=URI;X-ADDRESS=YMCA of the Shoals 2121 Helton Drive Florence AL 35630 United States;X-APPLE-RADIUS=500;X-TITLE=2121 Helton Drive:geo:-87.6683435,34.8324379
END:VEVENT
BEGIN:VEVENT
DTSTART;TZID=America/Chicago:20260620T080000
DTEND;TZID=America/Chicago:20260620T084500
DTSTAMP:20260424T172835
CREATED:20200527T203028Z
LAST-MODIFIED:20200527T203028Z
UID:181785-1781942400-1781945100@www.ymcashoals.org
SUMMARY:Y HITT (Lisa)
DESCRIPTION:
URL:https://www.ymcashoals.org/event/y-hitt-lisa-2/2026-06-20/
LOCATION:YMCA of the Shoals\, 2121 Helton Drive\, Florence\, AL\, 35630\, United States
CATEGORIES:Group Exercise (GXR),Schedules
GEO:34.8324379;-87.6683435
X-APPLE-STRUCTURED-LOCATION;VALUE=URI;X-ADDRESS=YMCA of the Shoals 2121 Helton Drive Florence AL 35630 United States;X-APPLE-RADIUS=500;X-TITLE=2121 Helton Drive:geo:-87.6683435,34.8324379
END:VEVENT
BEGIN:VEVENT
DTSTART;TZID=America/Chicago:20260620T090000
DTEND;TZID=America/Chicago:20260620T095000
DTSTAMP:20260424T172835
CREATED:20210201T154320Z
LAST-MODIFIED:20210201T154320Z
UID:199804-1781946000-1781949000@www.ymcashoals.org
SUMMARY:Y Dance (Alternating)
DESCRIPTION:
URL:https://www.ymcashoals.org/event/y-dance-alternating/2026-06-20/
LOCATION:YMCA of the Shoals\, 2121 Helton Drive\, Florence\, AL\, 35630\, United States
CATEGORIES:Group Exercise (GXR),Schedules
GEO:34.8324379;-87.6683435
X-APPLE-STRUCTURED-LOCATION;VALUE=URI;X-ADDRESS=YMCA of the Shoals 2121 Helton Drive Florence AL 35630 United States;X-APPLE-RADIUS=500;X-TITLE=2121 Helton Drive:geo:-87.6683435,34.8324379
END:VEVENT
BEGIN:VEVENT
DTSTART;TZID=America/Chicago:20260620T090000
DTEND;TZID=America/Chicago:20260620T095000
DTSTAMP:20260424T172835
CREATED:20210201T154320Z
LAST-MODIFIED:20210201T154320Z
UID:199869-1781946000-1781949000@www.ymcashoals.org
SUMMARY:Y Dance (Alternating)
DESCRIPTION:
URL:https://www.ymcashoals.org/event/y-dance-alternating/2026-06-20/
LOCATION:YMCA of the Shoals\, 2121 Helton Drive\, Florence\, AL\, 35630\, United States
CATEGORIES:Group Exercise (GXR),Schedules
GEO:34.8324379;-87.6683435
X-APPLE-STRUCTURED-LOCATION;VALUE=URI;X-ADDRESS=YMCA of the Shoals 2121 Helton Drive Florence AL 35630 United States;X-APPLE-RADIUS=500;X-TITLE=2121 Helton Drive:geo:-87.6683435,34.8324379
END:VEVENT
BEGIN:VEVENT
DTSTART;TZID=America/Chicago:20260620T100000
DTEND;TZID=America/Chicago:20260620T105000
DTSTAMP:20260424T172835
CREATED:20210201T154659Z
LAST-MODIFIED:20260325T181259Z
UID:199506-1781949600-1781952600@www.ymcashoals.org
SUMMARY:Muscle Works (Alternating)
DESCRIPTION:
URL:https://www.ymcashoals.org/event/muscle-works-alternating-2/2026-06-20/
LOCATION:YMCA of the Shoals\, 2121 Helton Drive\, Florence\, AL\, 35630\, United States
CATEGORIES:Group Exercise (GXR),Schedules
GEO:34.8324379;-87.6683435
X-APPLE-STRUCTURED-LOCATION;VALUE=URI;X-ADDRESS=YMCA of the Shoals 2121 Helton Drive Florence AL 35630 United States;X-APPLE-RADIUS=500;X-TITLE=2121 Helton Drive:geo:-87.6683435,34.8324379
END:VEVENT
BEGIN:VEVENT
DTSTART;TZID=America/Chicago:20260620T100000
DTEND;TZID=America/Chicago:20260620T105000
DTSTAMP:20260424T172835
CREATED:20210201T154659Z
LAST-MODIFIED:20210201T154659Z
UID:199924-1781949600-1781952600@www.ymcashoals.org
SUMMARY:Muscle Works (Alternating)
DESCRIPTION:
URL:https://www.ymcashoals.org/event/muscle-works-alternating-2/2026-06-20/
LOCATION:YMCA of the Shoals\, 2121 Helton Drive\, Florence\, AL\, 35630\, United States
CATEGORIES:Group Exercise (GXR),Schedules
GEO:34.8324379;-87.6683435
X-APPLE-STRUCTURED-LOCATION;VALUE=URI;X-ADDRESS=YMCA of the Shoals 2121 Helton Drive Florence AL 35630 United States;X-APPLE-RADIUS=500;X-TITLE=2121 Helton Drive:geo:-87.6683435,34.8324379
END:VEVENT
BEGIN:VEVENT
DTSTART;TZID=America/Chicago:20260621T143000
DTEND;TZID=America/Chicago:20260621T153000
DTSTAMP:20260424T172835
CREATED:20241029T203137Z
LAST-MODIFIED:20241029T203137Z
UID:192764-1782052200-1782055800@www.ymcashoals.org
SUMMARY:Cardio Hip Hop (Ladarius)
DESCRIPTION:
URL:https://www.ymcashoals.org/event/cardio-hip-hop-ladarius-2/2026-06-21/
LOCATION:YMCA of the Shoals\, 2121 Helton Drive\, Florence\, AL\, 35630\, United States
CATEGORIES:Group Exercise (GXR),Schedules
GEO:34.8324379;-87.6683435
X-APPLE-STRUCTURED-LOCATION;VALUE=URI;X-ADDRESS=YMCA of the Shoals 2121 Helton Drive Florence AL 35630 United States;X-APPLE-RADIUS=500;X-TITLE=2121 Helton Drive:geo:-87.6683435,34.8324379
END:VEVENT
BEGIN:VEVENT
DTSTART;TZID=America/Chicago:20260622T051500
DTEND;TZID=America/Chicago:20260622T060000
DTSTAMP:20260424T172835
CREATED:20250224T205113Z
LAST-MODIFIED:20250224T205113Z
UID:192137-1782105300-1782108000@www.ymcashoals.org
SUMMARY:Kickboxing (Kimberly)
DESCRIPTION:
URL:https://www.ymcashoals.org/event/kickboxing-elle/2026-06-22/
LOCATION:YMCA of the Shoals\, 2121 Helton Drive\, Florence\, AL\, 35630\, United States
CATEGORIES:Group Exercise (GXR),Schedules
GEO:34.8324379;-87.6683435
X-APPLE-STRUCTURED-LOCATION;VALUE=URI;X-ADDRESS=YMCA of the Shoals 2121 Helton Drive Florence AL 35630 United States;X-APPLE-RADIUS=500;X-TITLE=2121 Helton Drive:geo:-87.6683435,34.8324379
END:VEVENT
BEGIN:VEVENT
DTSTART;TZID=America/Chicago:20260622T081500
DTEND;TZID=America/Chicago:20260622T090000
DTSTAMP:20260424T172835
CREATED:20200527T202728Z
LAST-MODIFIED:20200527T202728Z
UID:192250-1782116100-1782118800@www.ymcashoals.org
SUMMARY:Y Dance (Leslie)
DESCRIPTION:
URL:https://www.ymcashoals.org/event/y-dance-leslie/2026-06-22/
LOCATION:YMCA of the Shoals\, 2121 Helton Drive\, Florence\, AL\, 35630\, United States
CATEGORIES:Group Exercise (GXR),Schedules
GEO:34.8324379;-87.6683435
X-APPLE-STRUCTURED-LOCATION;VALUE=URI;X-ADDRESS=YMCA of the Shoals 2121 Helton Drive Florence AL 35630 United States;X-APPLE-RADIUS=500;X-TITLE=2121 Helton Drive:geo:-87.6683435,34.8324379
END:VEVENT
BEGIN:VEVENT
DTSTART;TZID=America/Chicago:20260622T091000
DTEND;TZID=America/Chicago:20260622T100000
DTSTAMP:20260424T172835
CREATED:20260123T135158Z
LAST-MODIFIED:20260123T135158Z
UID:198510-1782119400-1782122400@www.ymcashoals.org
SUMMARY:Y Barre (Casey)
DESCRIPTION:
URL:https://www.ymcashoals.org/event/y-barre-casey/2026-06-22/
LOCATION:YMCA of the Shoals\, 2121 Helton Drive\, Florence\, AL\, 35630\, United States
CATEGORIES:Group Exercise (GXR),Schedules
GEO:34.8324379;-87.6683435
X-APPLE-STRUCTURED-LOCATION;VALUE=URI;X-ADDRESS=YMCA of the Shoals 2121 Helton Drive Florence AL 35630 United States;X-APPLE-RADIUS=500;X-TITLE=2121 Helton Drive:geo:-87.6683435,34.8324379
END:VEVENT
BEGIN:VEVENT
DTSTART;TZID=America/Chicago:20260622T101000
DTEND;TZID=America/Chicago:20260622T110000
DTSTAMP:20260424T172835
CREATED:20250224T205431Z
LAST-MODIFIED:20260325T182525Z
UID:181797-1782123000-1782126000@www.ymcashoals.org
SUMMARY:Muscle Works (Teri)
DESCRIPTION:
URL:https://www.ymcashoals.org/event/muscle-works-teri-2/2026-06-22/
LOCATION:YMCA of the Shoals\, 2121 Helton Drive\, Florence\, AL\, 35630\, United States
CATEGORIES:Group Exercise (GXR),Schedules
GEO:34.8324379;-87.6683435
X-APPLE-STRUCTURED-LOCATION;VALUE=URI;X-ADDRESS=YMCA of the Shoals 2121 Helton Drive Florence AL 35630 United States;X-APPLE-RADIUS=500;X-TITLE=2121 Helton Drive:geo:-87.6683435,34.8324379
END:VEVENT
BEGIN:VEVENT
DTSTART;TZID=America/Chicago:20260622T110000
DTEND;TZID=America/Chicago:20260622T123000
DTSTAMP:20260424T172835
CREATED:20250425T164620Z
LAST-MODIFIED:20250425T164620Z
UID:181799-1782126000-1782131400@www.ymcashoals.org
SUMMARY:Rock Steady (Sara)
DESCRIPTION:
URL:https://www.ymcashoals.org/event/rock-steady-sara/2026-06-22/
LOCATION:YMCA of the Shoals\, 2121 Helton Drive\, Florence\, AL\, 35630\, United States
CATEGORIES:Group Exercise (GXR),Schedules
GEO:34.8324379;-87.6683435
X-APPLE-STRUCTURED-LOCATION;VALUE=URI;X-ADDRESS=YMCA of the Shoals 2121 Helton Drive Florence AL 35630 United States;X-APPLE-RADIUS=500;X-TITLE=2121 Helton Drive:geo:-87.6683435,34.8324379
END:VEVENT
BEGIN:VEVENT
DTSTART;TZID=America/Chicago:20260622T161500
DTEND;TZID=America/Chicago:20260622T170000
DTSTAMP:20260424T172835
CREATED:20210330T134516Z
LAST-MODIFIED:20210330T134516Z
UID:181789-1782144900-1782147600@www.ymcashoals.org
SUMMARY:Muscle Works (Emilie)
DESCRIPTION:
URL:https://www.ymcashoals.org/event/muscle-works-emilie/2026-06-22/
LOCATION:YMCA of the Shoals\, 2121 Helton Drive\, Florence\, AL\, 35630\, United States
CATEGORIES:Group Exercise (GXR),Schedules
GEO:34.8324379;-87.6683435
X-APPLE-STRUCTURED-LOCATION;VALUE=URI;X-ADDRESS=YMCA of the Shoals 2121 Helton Drive Florence AL 35630 United States;X-APPLE-RADIUS=500;X-TITLE=2121 Helton Drive:geo:-87.6683435,34.8324379
END:VEVENT
BEGIN:VEVENT
DTSTART;TZID=America/Chicago:20260622T173000
DTEND;TZID=America/Chicago:20260622T183000
DTSTAMP:20260424T172835
CREATED:20241029T202516Z
LAST-MODIFIED:20241029T202516Z
UID:192637-1782149400-1782153000@www.ymcashoals.org
SUMMARY:Cardio Hip Hop (Ladarius)
DESCRIPTION:
URL:https://www.ymcashoals.org/event/cardio-hip-hop-ladarius-4/2026-06-22/
LOCATION:YMCA of the Shoals\, 2121 Helton Drive\, Florence\, AL\, 35630\, United States
CATEGORIES:Group Exercise (GXR),Schedules
GEO:34.8324379;-87.6683435
X-APPLE-STRUCTURED-LOCATION;VALUE=URI;X-ADDRESS=YMCA of the Shoals 2121 Helton Drive Florence AL 35630 United States;X-APPLE-RADIUS=500;X-TITLE=2121 Helton Drive:geo:-87.6683435,34.8324379
END:VEVENT
BEGIN:VEVENT
DTSTART;TZID=America/Chicago:20260623T051500
DTEND;TZID=America/Chicago:20260623T060000
DTSTAMP:20260424T172835
CREATED:20201104T172041Z
LAST-MODIFIED:20201104T172041Z
UID:181800-1782191700-1782194400@www.ymcashoals.org
SUMMARY:Muscle Works (Lisa)
DESCRIPTION:
URL:https://www.ymcashoals.org/event/muscle-works-colette/2026-06-23/
LOCATION:YMCA of the Shoals\, 2121 Helton Drive\, Florence\, AL\, 35630\, United States
CATEGORIES:Group Exercise (GXR),Schedules
GEO:34.8324379;-87.6683435
X-APPLE-STRUCTURED-LOCATION;VALUE=URI;X-ADDRESS=YMCA of the Shoals 2121 Helton Drive Florence AL 35630 United States;X-APPLE-RADIUS=500;X-TITLE=2121 Helton Drive:geo:-87.6683435,34.8324379
END:VEVENT
BEGIN:VEVENT
DTSTART;TZID=America/Chicago:20260623T081000
DTEND;TZID=America/Chicago:20260623T090000
DTSTAMP:20260424T172835
CREATED:20240424T190848Z
LAST-MODIFIED:20240424T190848Z
UID:181802-1782202200-1782205200@www.ymcashoals.org
SUMMARY:Body Pump (Christy)
DESCRIPTION:
URL:https://www.ymcashoals.org/event/body-pump-christy/2026-06-23/
LOCATION:YMCA of the Shoals\, 2121 Helton Drive\, Florence\, AL\, 35630\, United States
CATEGORIES:Group Exercise (GXR),Schedules
GEO:34.8324379;-87.6683435
X-APPLE-STRUCTURED-LOCATION;VALUE=URI;X-ADDRESS=YMCA of the Shoals 2121 Helton Drive Florence AL 35630 United States;X-APPLE-RADIUS=500;X-TITLE=2121 Helton Drive:geo:-87.6683435,34.8324379
END:VEVENT
BEGIN:VEVENT
DTSTART;TZID=America/Chicago:20260623T091000
DTEND;TZID=America/Chicago:20260623T100000
DTSTAMP:20260424T172835
CREATED:20250825T190655Z
LAST-MODIFIED:20250825T190655Z
UID:186891-1782205800-1782208800@www.ymcashoals.org
SUMMARY:Pilates (Christy)
DESCRIPTION:
URL:https://www.ymcashoals.org/event/pilates-christy/2026-06-23/
LOCATION:YMCA of the Shoals\, 2121 Helton Drive\, Florence\, AL\, 35630\, United States
CATEGORIES:Group Exercise (GXR),Schedules
GEO:34.8324379;-87.6683435
X-APPLE-STRUCTURED-LOCATION;VALUE=URI;X-ADDRESS=YMCA of the Shoals 2121 Helton Drive Florence AL 35630 United States;X-APPLE-RADIUS=500;X-TITLE=2121 Helton Drive:geo:-87.6683435,34.8324379
END:VEVENT
BEGIN:VEVENT
DTSTART;TZID=America/Chicago:20260623T121500
DTEND;TZID=America/Chicago:20260623T130000
DTSTAMP:20260424T172835
CREATED:20250224T205211Z
LAST-MODIFIED:20250224T205211Z
UID:192480-1782216900-1782219600@www.ymcashoals.org
SUMMARY:Body & Balance (Teri)
DESCRIPTION:
URL:https://www.ymcashoals.org/event/body-balance-teri-2/2026-06-23/
LOCATION:YMCA of the Shoals\, 2121 Helton Drive\, Florence\, AL\, 35630\, United States
CATEGORIES:Group Exercise (GXR),Schedules
GEO:34.8324379;-87.6683435
X-APPLE-STRUCTURED-LOCATION;VALUE=URI;X-ADDRESS=YMCA of the Shoals 2121 Helton Drive Florence AL 35630 United States;X-APPLE-RADIUS=500;X-TITLE=2121 Helton Drive:geo:-87.6683435,34.8324379
END:VEVENT
BEGIN:VEVENT
DTSTART;TZID=America/Chicago:20260623T173000
DTEND;TZID=America/Chicago:20260623T183000
DTSTAMP:20260424T172835
CREATED:20250103T141345Z
LAST-MODIFIED:20250103T141345Z
UID:181805-1782235800-1782239400@www.ymcashoals.org
SUMMARY:Muscle Works (Angela D.)
DESCRIPTION:
URL:https://www.ymcashoals.org/event/muscle-works-angela-d-3/2026-06-23/
LOCATION:YMCA of the Shoals\, 2121 Helton Drive\, Florence\, AL\, 35630\, United States
CATEGORIES:Group Exercise (GXR),Schedules
GEO:34.8324379;-87.6683435
X-APPLE-STRUCTURED-LOCATION;VALUE=URI;X-ADDRESS=YMCA of the Shoals 2121 Helton Drive Florence AL 35630 United States;X-APPLE-RADIUS=500;X-TITLE=2121 Helton Drive:geo:-87.6683435,34.8324379
END:VEVENT
BEGIN:VEVENT
DTSTART;TZID=America/Chicago:20260624T051500
DTEND;TZID=America/Chicago:20260624T060000
DTSTAMP:20260424T172835
CREATED:20250224T205113Z
LAST-MODIFIED:20250224T205113Z
UID:192138-1782278100-1782280800@www.ymcashoals.org
SUMMARY:Kickboxing (Kimberly)
DESCRIPTION:
URL:https://www.ymcashoals.org/event/kickboxing-elle/2026-06-24/
LOCATION:YMCA of the Shoals\, 2121 Helton Drive\, Florence\, AL\, 35630\, United States
CATEGORIES:Group Exercise (GXR),Schedules
GEO:34.8324379;-87.6683435
X-APPLE-STRUCTURED-LOCATION;VALUE=URI;X-ADDRESS=YMCA of the Shoals 2121 Helton Drive Florence AL 35630 United States;X-APPLE-RADIUS=500;X-TITLE=2121 Helton Drive:geo:-87.6683435,34.8324379
END:VEVENT
BEGIN:VEVENT
DTSTART;TZID=America/Chicago:20260624T081500
DTEND;TZID=America/Chicago:20260624T090000
DTSTAMP:20260424T172835
CREATED:20200527T202728Z
LAST-MODIFIED:20200527T202728Z
UID:192251-1782288900-1782291600@www.ymcashoals.org
SUMMARY:Y Dance (Leslie)
DESCRIPTION:
URL:https://www.ymcashoals.org/event/y-dance-leslie/2026-06-24/
LOCATION:YMCA of the Shoals\, 2121 Helton Drive\, Florence\, AL\, 35630\, United States
CATEGORIES:Group Exercise (GXR),Schedules
GEO:34.8324379;-87.6683435
X-APPLE-STRUCTURED-LOCATION;VALUE=URI;X-ADDRESS=YMCA of the Shoals 2121 Helton Drive Florence AL 35630 United States;X-APPLE-RADIUS=500;X-TITLE=2121 Helton Drive:geo:-87.6683435,34.8324379
END:VEVENT
BEGIN:VEVENT
DTSTART;TZID=America/Chicago:20260624T091000
DTEND;TZID=America/Chicago:20260624T100000
DTSTAMP:20260424T172835
CREATED:20260123T135158Z
LAST-MODIFIED:20260123T135158Z
UID:198511-1782292200-1782295200@www.ymcashoals.org
SUMMARY:Y Barre (Casey)
DESCRIPTION:
URL:https://www.ymcashoals.org/event/y-barre-casey/2026-06-24/
LOCATION:YMCA of the Shoals\, 2121 Helton Drive\, Florence\, AL\, 35630\, United States
CATEGORIES:Group Exercise (GXR),Schedules
GEO:34.8324379;-87.6683435
X-APPLE-STRUCTURED-LOCATION;VALUE=URI;X-ADDRESS=YMCA of the Shoals 2121 Helton Drive Florence AL 35630 United States;X-APPLE-RADIUS=500;X-TITLE=2121 Helton Drive:geo:-87.6683435,34.8324379
END:VEVENT
BEGIN:VEVENT
DTSTART;TZID=America/Chicago:20260624T101000
DTEND;TZID=America/Chicago:20260624T110000
DTSTAMP:20260424T172835
CREATED:20250224T205431Z
LAST-MODIFIED:20260325T182525Z
UID:181815-1782295800-1782298800@www.ymcashoals.org
SUMMARY:Muscle Works (Teri)
DESCRIPTION:
URL:https://www.ymcashoals.org/event/muscle-works-teri-2/2026-06-24/
LOCATION:YMCA of the Shoals\, 2121 Helton Drive\, Florence\, AL\, 35630\, United States
CATEGORIES:Group Exercise (GXR),Schedules
GEO:34.8324379;-87.6683435
X-APPLE-STRUCTURED-LOCATION;VALUE=URI;X-ADDRESS=YMCA of the Shoals 2121 Helton Drive Florence AL 35630 United States;X-APPLE-RADIUS=500;X-TITLE=2121 Helton Drive:geo:-87.6683435,34.8324379
END:VEVENT
BEGIN:VEVENT
DTSTART;TZID=America/Chicago:20260624T110000
DTEND;TZID=America/Chicago:20260624T123000
DTSTAMP:20260424T172835
CREATED:20250425T164620Z
LAST-MODIFIED:20250425T164620Z
UID:181817-1782298800-1782304200@www.ymcashoals.org
SUMMARY:Rock Steady (Sara)
DESCRIPTION:
URL:https://www.ymcashoals.org/event/rock-steady-sara/2026-06-24/
LOCATION:YMCA of the Shoals\, 2121 Helton Drive\, Florence\, AL\, 35630\, United States
CATEGORIES:Group Exercise (GXR),Schedules
GEO:34.8324379;-87.6683435
X-APPLE-STRUCTURED-LOCATION;VALUE=URI;X-ADDRESS=YMCA of the Shoals 2121 Helton Drive Florence AL 35630 United States;X-APPLE-RADIUS=500;X-TITLE=2121 Helton Drive:geo:-87.6683435,34.8324379
END:VEVENT
BEGIN:VEVENT
DTSTART;TZID=America/Chicago:20260624T161500
DTEND;TZID=America/Chicago:20260624T170000
DTSTAMP:20260424T172835
CREATED:20210330T134516Z
LAST-MODIFIED:20210330T134516Z
UID:181808-1782317700-1782320400@www.ymcashoals.org
SUMMARY:Muscle Works (Emilie)
DESCRIPTION:
URL:https://www.ymcashoals.org/event/muscle-works-emilie/2026-06-24/
LOCATION:YMCA of the Shoals\, 2121 Helton Drive\, Florence\, AL\, 35630\, United States
CATEGORIES:Group Exercise (GXR),Schedules
GEO:34.8324379;-87.6683435
X-APPLE-STRUCTURED-LOCATION;VALUE=URI;X-ADDRESS=YMCA of the Shoals 2121 Helton Drive Florence AL 35630 United States;X-APPLE-RADIUS=500;X-TITLE=2121 Helton Drive:geo:-87.6683435,34.8324379
END:VEVENT
END:VCALENDAR