BEGIN:VCALENDAR
VERSION:2.0
PRODID:-//YMCA of the Shoals - ECPv6.15.20//NONSGML v1.0//EN
CALSCALE:GREGORIAN
METHOD:PUBLISH
X-ORIGINAL-URL:https://www.ymcashoals.org
X-WR-CALDESC:Events for YMCA of the Shoals
REFRESH-INTERVAL;VALUE=DURATION:PT1H
X-Robots-Tag:noindex
X-PUBLISHED-TTL:PT1H
BEGIN:VTIMEZONE
TZID:America/Chicago
BEGIN:DAYLIGHT
TZOFFSETFROM:-0600
TZOFFSETTO:-0500
TZNAME:CDT
DTSTART:20190310T080000
END:DAYLIGHT
BEGIN:STANDARD
TZOFFSETFROM:-0500
TZOFFSETTO:-0600
TZNAME:CST
DTSTART:20191103T070000
END:STANDARD
BEGIN:DAYLIGHT
TZOFFSETFROM:-0600
TZOFFSETTO:-0500
TZNAME:CDT
DTSTART:20200308T080000
END:DAYLIGHT
BEGIN:STANDARD
TZOFFSETFROM:-0500
TZOFFSETTO:-0600
TZNAME:CST
DTSTART:20201101T070000
END:STANDARD
BEGIN:DAYLIGHT
TZOFFSETFROM:-0600
TZOFFSETTO:-0500
TZNAME:CDT
DTSTART:20210314T080000
END:DAYLIGHT
BEGIN:STANDARD
TZOFFSETFROM:-0500
TZOFFSETTO:-0600
TZNAME:CST
DTSTART:20211107T070000
END:STANDARD
BEGIN:DAYLIGHT
TZOFFSETFROM:-0600
TZOFFSETTO:-0500
TZNAME:CDT
DTSTART:20220313T080000
END:DAYLIGHT
BEGIN:STANDARD
TZOFFSETFROM:-0500
TZOFFSETTO:-0600
TZNAME:CST
DTSTART:20221106T070000
END:STANDARD
BEGIN:DAYLIGHT
TZOFFSETFROM:-0600
TZOFFSETTO:-0500
TZNAME:CDT
DTSTART:20230312T080000
END:DAYLIGHT
BEGIN:STANDARD
TZOFFSETFROM:-0500
TZOFFSETTO:-0600
TZNAME:CST
DTSTART:20231105T070000
END:STANDARD
BEGIN:DAYLIGHT
TZOFFSETFROM:-0600
TZOFFSETTO:-0500
TZNAME:CDT
DTSTART:20240310T080000
END:DAYLIGHT
BEGIN:STANDARD
TZOFFSETFROM:-0500
TZOFFSETTO:-0600
TZNAME:CST
DTSTART:20241103T070000
END:STANDARD
END:VTIMEZONE
BEGIN:VEVENT
DTSTART;TZID=America/Chicago:20230227T091000
DTEND;TZID=America/Chicago:20230227T095500
DTSTAMP:20260423T222257
CREATED:20230227T142651Z
LAST-MODIFIED:20260106T195950Z
UID:149326-1677489000-1677491700@www.ymcashoals.org
SUMMARY:Les Mills RPM (Lauren)
DESCRIPTION:
URL:https://www.ymcashoals.org/event/les-mills-rpm-katie/2023-02-27/
LOCATION:YMCA of the Shoals\, 2121 Helton Drive\, Florence\, AL\, 35630\, United States
CATEGORIES:Cycle Fusion (GXR2),Schedules
GEO:34.8324379;-87.6683435
X-APPLE-STRUCTURED-LOCATION;VALUE=URI;X-ADDRESS=YMCA of the Shoals 2121 Helton Drive Florence AL 35630 United States;X-APPLE-RADIUS=500;X-TITLE=2121 Helton Drive:geo:-87.6683435,34.8324379
END:VEVENT
BEGIN:VEVENT
DTSTART;TZID=America/Chicago:20230224T081500
DTEND;TZID=America/Chicago:20230224T090500
DTSTAMP:20260423T222257
CREATED:20230227T142823Z
LAST-MODIFIED:20260325T180620Z
UID:149388-1677226500-1677229500@www.ymcashoals.org
SUMMARY:Les Mills RPM+Pilates (Christy)
DESCRIPTION:
URL:https://www.ymcashoals.org/event/les-mills-rpmcore-melissa-p/2023-02-24/
LOCATION:YMCA of the Shoals\, 2121 Helton Drive\, Florence\, AL\, 35630\, United States
CATEGORIES:Cycle Fusion (GXR2),Schedules
GEO:34.8324379;-87.6683435
X-APPLE-STRUCTURED-LOCATION;VALUE=URI;X-ADDRESS=YMCA of the Shoals 2121 Helton Drive Florence AL 35630 United States;X-APPLE-RADIUS=500;X-TITLE=2121 Helton Drive:geo:-87.6683435,34.8324379
END:VEVENT
BEGIN:VEVENT
DTSTART;TZID=America/Chicago:20230107T073000
DTEND;TZID=America/Chicago:20230107T081500
DTSTAMP:20260423T222257
CREATED:20221228T200848Z
LAST-MODIFIED:20240207T170515Z
UID:144500-1673076600-1673079300@www.ymcashoals.org
SUMMARY:Y Cycle (Alternating)
DESCRIPTION:
URL:https://www.ymcashoals.org/event/y-cycle-alternating/2023-01-07/
LOCATION:YMCA of the Shoals\, 2121 Helton Drive\, Florence\, AL\, 35630\, United States
CATEGORIES:Cycle Fusion (GXR2),Schedules
GEO:34.8324379;-87.6683435
X-APPLE-STRUCTURED-LOCATION;VALUE=URI;X-ADDRESS=YMCA of the Shoals 2121 Helton Drive Florence AL 35630 United States;X-APPLE-RADIUS=500;X-TITLE=2121 Helton Drive:geo:-87.6683435,34.8324379
END:VEVENT
BEGIN:VEVENT
DTSTART;TZID=America/Chicago:20220204T081500
DTEND;TZID=America/Chicago:20220204T090500
DTSTAMP:20260423T222257
CREATED:20220125T193800Z
LAST-MODIFIED:20220125T193800Z
UID:129346-1643962500-1643965500@www.ymcashoals.org
SUMMARY:RPM+Core (Melissa P.)
DESCRIPTION:
URL:https://www.ymcashoals.org/event/rpmcore-melissa-p/2022-02-04/
LOCATION:YMCA of the Shoals\, 2121 Helton Drive\, Florence\, AL\, 35630\, United States
CATEGORIES:Cycle Fusion (GXR2),Schedules
GEO:34.8324379;-87.6683435
X-APPLE-STRUCTURED-LOCATION;VALUE=URI;X-ADDRESS=YMCA of the Shoals 2121 Helton Drive Florence AL 35630 United States;X-APPLE-RADIUS=500;X-TITLE=2121 Helton Drive:geo:-87.6683435,34.8324379
END:VEVENT
BEGIN:VEVENT
DTSTART;TZID=America/Chicago:20220101T080000
DTEND;TZID=America/Chicago:20220101T170000
DTSTAMP:20260423T222257
CREATED:20210107T153134Z
LAST-MODIFIED:20211217T133333Z
UID:114933-1641024000-1641056400@www.ymcashoals.org
SUMMARY:New Year's Day-Open 10:00 - 2:00
DESCRIPTION:
URL:https://www.ymcashoals.org/event/new-years-day-open-1000-400/
LOCATION:YMCA of the Shoals\, 2121 Helton Drive\, Florence\, AL\, 35630\, United States
CATEGORIES:CPR,Cycle Fusion (GXR2),Events,Group Exercise (GXR),Karate - Tang Soo Do,Lap Pool Schedule,Schedules,Spirit/Mind/Body (GXR3),Swim Lessons
GEO:34.8324379;-87.6683435
X-APPLE-STRUCTURED-LOCATION;VALUE=URI;X-ADDRESS=YMCA of the Shoals 2121 Helton Drive Florence AL 35630 United States;X-APPLE-RADIUS=500;X-TITLE=2121 Helton Drive:geo:-87.6683435,34.8324379
END:VEVENT
BEGIN:VEVENT
DTSTART;TZID=America/Chicago:20211231T050000
DTEND;TZID=America/Chicago:20211231T170000
DTSTAMP:20260423T222257
CREATED:20210107T154048Z
LAST-MODIFIED:20210107T154048Z
UID:114953-1640926800-1640970000@www.ymcashoals.org
SUMMARY:New Year's Eve-5:00am-12:00pm
DESCRIPTION:
URL:https://www.ymcashoals.org/event/new-years-eve-500am-1200pm/
LOCATION:YMCA of the Shoals\, 2121 Helton Drive\, Florence\, AL\, 35630\, United States
CATEGORIES:CPR,Cycle Fusion (GXR2),Events,Group Exercise (GXR),Karate - Tang Soo Do,Lap Pool Schedule,Schedules,Spirit/Mind/Body (GXR3),Swim Lessons
GEO:34.8324379;-87.6683435
X-APPLE-STRUCTURED-LOCATION;VALUE=URI;X-ADDRESS=YMCA of the Shoals 2121 Helton Drive Florence AL 35630 United States;X-APPLE-RADIUS=500;X-TITLE=2121 Helton Drive:geo:-87.6683435,34.8324379
END:VEVENT
BEGIN:VEVENT
DTSTART;TZID=America/Chicago:20211225T080000
DTEND;TZID=America/Chicago:20211225T170000
DTSTAMP:20260423T222257
CREATED:20210107T153858Z
LAST-MODIFIED:20210107T153913Z
UID:114950-1640419200-1640451600@www.ymcashoals.org
SUMMARY:Christmas-Facility CLOSED
DESCRIPTION:
URL:https://www.ymcashoals.org/event/christmas-facilitiy-closed/
LOCATION:YMCA of the Shoals\, 2121 Helton Drive\, Florence\, AL\, 35630\, United States
CATEGORIES:CPR,Cycle Fusion (GXR2),Events,Group Exercise (GXR),Karate - Tang Soo Do,Lap Pool Schedule,Schedules,Spirit/Mind/Body (GXR3),Swim Lessons
GEO:34.8324379;-87.6683435
X-APPLE-STRUCTURED-LOCATION;VALUE=URI;X-ADDRESS=YMCA of the Shoals 2121 Helton Drive Florence AL 35630 United States;X-APPLE-RADIUS=500;X-TITLE=2121 Helton Drive:geo:-87.6683435,34.8324379
END:VEVENT
BEGIN:VEVENT
DTSTART;TZID=America/Chicago:20211224T050000
DTEND;TZID=America/Chicago:20211224T170000
DTSTAMP:20260423T222257
CREATED:20210107T153808Z
LAST-MODIFIED:20210107T153808Z
UID:114948-1640322000-1640365200@www.ymcashoals.org
SUMMARY:Christmas Eve-5:00am-12:00pm
DESCRIPTION:
URL:https://www.ymcashoals.org/event/christmas-eve-500am-1200pm/
LOCATION:YMCA of the Shoals\, 2121 Helton Drive\, Florence\, AL\, 35630\, United States
CATEGORIES:CPR,Cycle Fusion (GXR2),Events,Group Exercise (GXR),Karate - Tang Soo Do,Lap Pool Schedule,Schedules,Spirit/Mind/Body (GXR3),Swim Lessons
GEO:34.8324379;-87.6683435
X-APPLE-STRUCTURED-LOCATION;VALUE=URI;X-ADDRESS=YMCA of the Shoals 2121 Helton Drive Florence AL 35630 United States;X-APPLE-RADIUS=500;X-TITLE=2121 Helton Drive:geo:-87.6683435,34.8324379
END:VEVENT
BEGIN:VEVENT
DTSTART;TZID=America/Chicago:20211127T090000
DTEND;TZID=America/Chicago:20211127T100000
DTSTAMP:20260423T222257
CREATED:20211025T205342Z
LAST-MODIFIED:20211025T205342Z
UID:125569-1638003600-1638007200@www.ymcashoals.org
SUMMARY:GOBBLE WOBBLE DANCE CLASS - TODAY ONLY!
DESCRIPTION:
URL:https://www.ymcashoals.org/event/gobble-wobble-dance-class-today-only/
LOCATION:YMCA of the Shoals\, 2121 Helton Drive\, Florence\, AL\, 35630\, United States
CATEGORIES:Cycle Fusion (GXR2),Group Exercise (GXR),Schedules,Spirit/Mind/Body (GXR3)
GEO:34.8324379;-87.6683435
X-APPLE-STRUCTURED-LOCATION;VALUE=URI;X-ADDRESS=YMCA of the Shoals 2121 Helton Drive Florence AL 35630 United States;X-APPLE-RADIUS=500;X-TITLE=2121 Helton Drive:geo:-87.6683435,34.8324379
END:VEVENT
BEGIN:VEVENT
DTSTART;TZID=America/Chicago:20211126T050000
DTEND;TZID=America/Chicago:20211126T170000
DTSTAMP:20260423T222257
CREATED:20211025T195523Z
LAST-MODIFIED:20211025T203936Z
UID:125567-1637902800-1637946000@www.ymcashoals.org
SUMMARY:ONLY CLASS TODAY = TURKEY BURN
DESCRIPTION:NO OTHER GROUP EX CLASSES WILL MEET TODAY.
URL:https://www.ymcashoals.org/event/only-class-today-turkey-burn/
LOCATION:YMCA of the Shoals\, 2121 Helton Drive\, Florence\, AL\, 35630\, United States
CATEGORIES:Cycle Fusion (GXR2),Group Exercise (GXR),Schedules,Spirit/Mind/Body (GXR3)
GEO:34.8324379;-87.6683435
X-APPLE-STRUCTURED-LOCATION;VALUE=URI;X-ADDRESS=YMCA of the Shoals 2121 Helton Drive Florence AL 35630 United States;X-APPLE-RADIUS=500;X-TITLE=2121 Helton Drive:geo:-87.6683435,34.8324379
END:VEVENT
BEGIN:VEVENT
DTSTART;TZID=America/Chicago:20211125T080000
DTEND;TZID=America/Chicago:20211125T170000
DTSTAMP:20260423T222257
CREATED:20210107T153650Z
LAST-MODIFIED:20210107T153650Z
UID:114946-1637827200-1637859600@www.ymcashoals.org
SUMMARY:Thanksgiving-Facility CLOSED
DESCRIPTION:
URL:https://www.ymcashoals.org/event/thanksgiving-facility-closed/
LOCATION:YMCA of the Shoals\, 2121 Helton Drive\, Florence\, AL\, 35630\, United States
CATEGORIES:CPR,Cycle Fusion (GXR2),Events,Group Exercise (GXR),Karate - Tang Soo Do,Lap Pool Schedule,Schedules,Spirit/Mind/Body (GXR3),Swim Lessons
GEO:34.8324379;-87.6683435
X-APPLE-STRUCTURED-LOCATION;VALUE=URI;X-ADDRESS=YMCA of the Shoals 2121 Helton Drive Florence AL 35630 United States;X-APPLE-RADIUS=500;X-TITLE=2121 Helton Drive:geo:-87.6683435,34.8324379
END:VEVENT
BEGIN:VEVENT
DTSTART;TZID=America/Chicago:20211124T050000
DTEND;TZID=America/Chicago:20211124T183000
DTSTAMP:20260423T222257
CREATED:20210107T153600Z
LAST-MODIFIED:20210107T154516Z
UID:114944-1637730000-1637778600@www.ymcashoals.org
SUMMARY:Close at 6:00pm
DESCRIPTION:
URL:https://www.ymcashoals.org/event/close-at-600pm/
LOCATION:YMCA of the Shoals\, 2121 Helton Drive\, Florence\, AL\, 35630\, United States
CATEGORIES:CPR,Cycle Fusion (GXR2),Events,Group Exercise (GXR),Karate - Tang Soo Do,Lap Pool Schedule,Schedules,Spirit/Mind/Body (GXR3),Swim Lessons
GEO:34.8324379;-87.6683435
X-APPLE-STRUCTURED-LOCATION;VALUE=URI;X-ADDRESS=YMCA of the Shoals 2121 Helton Drive Florence AL 35630 United States;X-APPLE-RADIUS=500;X-TITLE=2121 Helton Drive:geo:-87.6683435,34.8324379
END:VEVENT
BEGIN:VEVENT
DTSTART;TZID=America/Chicago:20210906T080000
DTEND;TZID=America/Chicago:20210906T170000
DTSTAMP:20260423T222257
CREATED:20210107T153512Z
LAST-MODIFIED:20210107T154436Z
UID:114941-1630915200-1630947600@www.ymcashoals.org
SUMMARY:Labor Day-CLOSED
DESCRIPTION:
URL:https://www.ymcashoals.org/event/labor-day-closed/
LOCATION:YMCA of the Shoals\, 2121 Helton Drive\, Florence\, AL\, 35630\, United States
CATEGORIES:CPR,Cycle Fusion (GXR2),Events,Group Exercise (GXR),Karate - Tang Soo Do,Lap Pool Schedule,Schedules,Spirit/Mind/Body (GXR3),Swim Lessons
GEO:34.8324379;-87.6683435
X-APPLE-STRUCTURED-LOCATION;VALUE=URI;X-ADDRESS=YMCA of the Shoals 2121 Helton Drive Florence AL 35630 United States;X-APPLE-RADIUS=500;X-TITLE=2121 Helton Drive:geo:-87.6683435,34.8324379
END:VEVENT
BEGIN:VEVENT
DTSTART;TZID=America/Chicago:20210830T173000
DTEND;TZID=America/Chicago:20210830T181500
DTSTAMP:20260423T222257
CREATED:20210825T174648Z
LAST-MODIFIED:20220829T193747Z
UID:124714-1630344600-1630347300@www.ymcashoals.org
SUMMARY:RPM + Core-Les Mills (Melissa P.)
DESCRIPTION:
URL:https://www.ymcashoals.org/event/rpm-les-mills-melissa-p/2021-08-30/
LOCATION:YMCA of the Shoals\, 2121 Helton Drive\, Florence\, AL\, 35630\, United States
CATEGORIES:Cycle Fusion (GXR2),Schedules
GEO:34.8324379;-87.6683435
X-APPLE-STRUCTURED-LOCATION;VALUE=URI;X-ADDRESS=YMCA of the Shoals 2121 Helton Drive Florence AL 35630 United States;X-APPLE-RADIUS=500;X-TITLE=2121 Helton Drive:geo:-87.6683435,34.8324379
END:VEVENT
BEGIN:VEVENT
DTSTART;TZID=America/Chicago:20210704T080000
DTEND;TZID=America/Chicago:20210704T170000
DTSTAMP:20260423T222257
CREATED:20210107T153404Z
LAST-MODIFIED:20210107T154354Z
UID:114939-1625385600-1625418000@www.ymcashoals.org
SUMMARY:Independence Day- Facility CLOSED
DESCRIPTION:
URL:https://www.ymcashoals.org/event/independence-day-facility-closed/
LOCATION:YMCA of the Shoals\, 2121 Helton Drive\, Florence\, AL\, 35630\, United States
CATEGORIES:CPR,Cycle Fusion (GXR2),Events,Group Exercise (GXR),Karate - Tang Soo Do,Lap Pool Schedule,Schedules,Spirit/Mind/Body (GXR3),Swim Lessons
GEO:34.8324379;-87.6683435
X-APPLE-STRUCTURED-LOCATION;VALUE=URI;X-ADDRESS=YMCA of the Shoals 2121 Helton Drive Florence AL 35630 United States;X-APPLE-RADIUS=500;X-TITLE=2121 Helton Drive:geo:-87.6683435,34.8324379
END:VEVENT
BEGIN:VEVENT
DTSTART;TZID=America/Chicago:20210531T080000
DTEND;TZID=America/Chicago:20210531T170000
DTSTAMP:20260423T222257
CREATED:20210107T153315Z
LAST-MODIFIED:20210107T154307Z
UID:114937-1622448000-1622480400@www.ymcashoals.org
SUMMARY:Memorial Day-Facility CLOSED
DESCRIPTION:
URL:https://www.ymcashoals.org/event/memorial-day-facility-closed/
LOCATION:YMCA of the Shoals\, 2121 Helton Drive\, Florence\, AL\, 35630\, United States
CATEGORIES:CPR,Cycle Fusion (GXR2),Events,Group Exercise (GXR),Karate - Tang Soo Do,Lap Pool Schedule,Schedules,Spirit/Mind/Body (GXR3),Swim Lessons
GEO:34.8324379;-87.6683435
X-APPLE-STRUCTURED-LOCATION;VALUE=URI;X-ADDRESS=YMCA of the Shoals 2121 Helton Drive Florence AL 35630 United States;X-APPLE-RADIUS=500;X-TITLE=2121 Helton Drive:geo:-87.6683435,34.8324379
END:VEVENT
BEGIN:VEVENT
DTSTART;TZID=America/Chicago:20210108T073000
DTEND;TZID=America/Chicago:20210108T081500
DTSTAMP:20260423T222257
CREATED:20201021T201841Z
LAST-MODIFIED:20220725T200418Z
UID:106653-1610091000-1610093700@www.ymcashoals.org
SUMMARY:Y-Cycle (Alternating)
DESCRIPTION:
URL:https://www.ymcashoals.org/event/les-mills-rpm-y-cycle-alternating/2021-01-08/
LOCATION:YMCA of the Shoals\, 2121 Helton Drive\, Florence\, AL\, 35630\, United States
CATEGORIES:Cycle Fusion (GXR2),Schedules
GEO:34.8324379;-87.6683435
X-APPLE-STRUCTURED-LOCATION;VALUE=URI;X-ADDRESS=YMCA of the Shoals 2121 Helton Drive Florence AL 35630 United States;X-APPLE-RADIUS=500;X-TITLE=2121 Helton Drive:geo:-87.6683435,34.8324379
END:VEVENT
BEGIN:VEVENT
DTSTART;TZID=America/Chicago:20201106T091000
DTEND;TZID=America/Chicago:20201106T100000
DTSTAMP:20260423T222257
CREATED:20201021T203443Z
LAST-MODIFIED:20210527T204409Z
UID:106934-1604653800-1604656800@www.ymcashoals.org
SUMMARY:Keiser Power (Melissa G.)
DESCRIPTION:
URL:https://www.ymcashoals.org/event/keiser-power-melissa-g/2020-11-06/
LOCATION:YMCA of the Shoals\, 2121 Helton Drive\, Florence\, AL\, 35630\, United States
CATEGORIES:Cycle Fusion (GXR2),Schedules
GEO:34.8324379;-87.6683435
X-APPLE-STRUCTURED-LOCATION;VALUE=URI;X-ADDRESS=YMCA of the Shoals 2121 Helton Drive Florence AL 35630 United States;X-APPLE-RADIUS=500;X-TITLE=2121 Helton Drive:geo:-87.6683435,34.8324379
END:VEVENT
BEGIN:VEVENT
DTSTART;TZID=America/Chicago:20201104T080000
DTEND;TZID=America/Chicago:20201104T170000
DTSTAMP:20260423T222257
CREATED:20201104T151746Z
LAST-MODIFIED:20201104T151746Z
UID:108283-1604476800-1604509200@www.ymcashoals.org
SUMMARY:Sampler Classes 10:00-12:00 & 5:00-7:00
DESCRIPTION:*Regularly scheduled classes will not be held during these times for just this day.
URL:https://www.ymcashoals.org/event/sampler-classes-1000-1200-500-700/
LOCATION:YMCA of the Shoals\, 2121 Helton Drive\, Florence\, AL\, 35630\, United States
CATEGORIES:Cycle Fusion (GXR2),Events,Group Exercise (GXR),Schedules,Spirit/Mind/Body (GXR3)
GEO:34.8324379;-87.6683435
X-APPLE-STRUCTURED-LOCATION;VALUE=URI;X-ADDRESS=YMCA of the Shoals 2121 Helton Drive Florence AL 35630 United States;X-APPLE-RADIUS=500;X-TITLE=2121 Helton Drive:geo:-87.6683435,34.8324379
END:VEVENT
BEGIN:VEVENT
DTSTART;TZID=America/Chicago:20201102T173000
DTEND;TZID=America/Chicago:20201102T181500
DTSTAMP:20260423T222257
CREATED:20201021T203707Z
LAST-MODIFIED:20210625T162918Z
UID:106990-1604338200-1604340900@www.ymcashoals.org
SUMMARY:Les Mills RPM (Melissa P.)
DESCRIPTION:
URL:https://www.ymcashoals.org/event/les-mills-rpm-melissa-p/2020-11-02/
LOCATION:YMCA of the Shoals\, 2121 Helton Drive\, Florence\, AL\, 35630\, United States
CATEGORIES:Cycle Fusion (GXR2),Schedules
GEO:34.8324379;-87.6683435
X-APPLE-STRUCTURED-LOCATION;VALUE=URI;X-ADDRESS=YMCA of the Shoals 2121 Helton Drive Florence AL 35630 United States;X-APPLE-RADIUS=500;X-TITLE=2121 Helton Drive:geo:-87.6683435,34.8324379
END:VEVENT
BEGIN:VEVENT
DTSTART;TZID=America/Chicago:20201102T091000
DTEND;TZID=America/Chicago:20201102T095500
DTSTAMP:20260423T222257
CREATED:20201021T202520Z
LAST-MODIFIED:20220926T190259Z
UID:106823-1604308200-1604310900@www.ymcashoals.org
SUMMARY:Les Mills RPM (Katie)
DESCRIPTION:
URL:https://www.ymcashoals.org/event/les-mills-rpm-katie-t/2020-11-02/
LOCATION:YMCA of the Shoals\, 2121 Helton Drive\, Florence\, AL\, 35630\, United States
CATEGORIES:Cycle Fusion (GXR2),Schedules
GEO:34.8324379;-87.6683435
X-APPLE-STRUCTURED-LOCATION;VALUE=URI;X-ADDRESS=YMCA of the Shoals 2121 Helton Drive Florence AL 35630 United States;X-APPLE-RADIUS=500;X-TITLE=2121 Helton Drive:geo:-87.6683435,34.8324379
END:VEVENT
BEGIN:VEVENT
DTSTART;TZID=America/Chicago:20200602T081500
DTEND;TZID=America/Chicago:20200602T090000
DTSTAMP:20260423T222257
CREATED:20200527T200100Z
LAST-MODIFIED:20211026T194352Z
UID:102523-1591085700-1591088400@www.ymcashoals.org
SUMMARY:RPM (Amy)
DESCRIPTION:
URL:https://www.ymcashoals.org/event/rpm-amy/2020-06-02/
LOCATION:YMCA of the Shoals\, 2121 Helton Drive\, Florence\, AL\, 35630\, United States
CATEGORIES:Cycle Fusion (GXR2),Schedules
GEO:34.8324379;-87.6683435
X-APPLE-STRUCTURED-LOCATION;VALUE=URI;X-ADDRESS=YMCA of the Shoals 2121 Helton Drive Florence AL 35630 United States;X-APPLE-RADIUS=500;X-TITLE=2121 Helton Drive:geo:-87.6683435,34.8324379
END:VEVENT
END:VCALENDAR