BEGIN:VCALENDAR
VERSION:2.0
PRODID:-//YMCA of the Shoals - ECPv6.15.20//NONSGML v1.0//EN
CALSCALE:GREGORIAN
METHOD:PUBLISH
X-ORIGINAL-URL:https://www.ymcashoals.org
X-WR-CALDESC:Events for YMCA of the Shoals
REFRESH-INTERVAL;VALUE=DURATION:PT1H
X-Robots-Tag:noindex
X-PUBLISHED-TTL:PT1H
BEGIN:VTIMEZONE
TZID:America/Chicago
BEGIN:DAYLIGHT
TZOFFSETFROM:-0600
TZOFFSETTO:-0500
TZNAME:CDT
DTSTART:20250309T080000
END:DAYLIGHT
BEGIN:STANDARD
TZOFFSETFROM:-0500
TZOFFSETTO:-0600
TZNAME:CST
DTSTART:20251102T070000
END:STANDARD
BEGIN:DAYLIGHT
TZOFFSETFROM:-0600
TZOFFSETTO:-0500
TZNAME:CDT
DTSTART:20260308T080000
END:DAYLIGHT
BEGIN:STANDARD
TZOFFSETFROM:-0500
TZOFFSETTO:-0600
TZNAME:CST
DTSTART:20261101T070000
END:STANDARD
BEGIN:DAYLIGHT
TZOFFSETFROM:-0600
TZOFFSETTO:-0500
TZNAME:CDT
DTSTART:20270314T080000
END:DAYLIGHT
BEGIN:STANDARD
TZOFFSETFROM:-0500
TZOFFSETTO:-0600
TZNAME:CST
DTSTART:20271107T070000
END:STANDARD
END:VTIMEZONE
BEGIN:VEVENT
DTSTART;TZID=America/Chicago:20260810T091000
DTEND;TZID=America/Chicago:20260810T095500
DTSTAMP:20260424T092425
CREATED:20230227T142651Z
LAST-MODIFIED:20230227T142651Z
UID:191568-1786353000-1786355700@www.ymcashoals.org
SUMMARY:Les Mills RPM (Lauren)
DESCRIPTION:
URL:https://www.ymcashoals.org/event/les-mills-rpm-katie/2026-08-10/
LOCATION:YMCA of the Shoals\, 2121 Helton Drive\, Florence\, AL\, 35630\, United States
CATEGORIES:Cycle Fusion (GXR2),Schedules
GEO:34.8324379;-87.6683435
X-APPLE-STRUCTURED-LOCATION;VALUE=URI;X-ADDRESS=YMCA of the Shoals 2121 Helton Drive Florence AL 35630 United States;X-APPLE-RADIUS=500;X-TITLE=2121 Helton Drive:geo:-87.6683435,34.8324379
END:VEVENT
BEGIN:VEVENT
DTSTART;TZID=America/Chicago:20260810T103000
DTEND;TZID=America/Chicago:20260810T103000
DTSTAMP:20260424T092425
CREATED:20250425T163255Z
LAST-MODIFIED:20250425T163255Z
UID:183619-1786357800-1786357800@www.ymcashoals.org
SUMMARY:Rock Steady Cycle (Steve)
DESCRIPTION:
URL:https://www.ymcashoals.org/event/rock-steady-cycle-steve/2026-08-10/
LOCATION:YMCA of the Shoals\, 2121 Helton Drive\, Florence\, AL\, 35630\, United States
CATEGORIES:Cycle Fusion (GXR2),Schedules
GEO:34.8324379;-87.6683435
X-APPLE-STRUCTURED-LOCATION;VALUE=URI;X-ADDRESS=YMCA of the Shoals 2121 Helton Drive Florence AL 35630 United States;X-APPLE-RADIUS=500;X-TITLE=2121 Helton Drive:geo:-87.6683435,34.8324379
END:VEVENT
BEGIN:VEVENT
DTSTART;TZID=America/Chicago:20260810T173000
DTEND;TZID=America/Chicago:20260810T183000
DTSTAMP:20260424T092425
CREATED:20240725T202653Z
LAST-MODIFIED:20240725T202653Z
UID:183614-1786383000-1786386600@www.ymcashoals.org
SUMMARY:Les Mills RPM+CORE (Melissa H.)
DESCRIPTION:
URL:https://www.ymcashoals.org/event/les-mills-rpmcore-melissa-h/2026-08-10/
LOCATION:YMCA of the Shoals\, 2121 Helton Drive\, Florence\, AL\, 35630\, United States
CATEGORIES:Cycle Fusion (GXR2),Schedules
GEO:34.8324379;-87.6683435
X-APPLE-STRUCTURED-LOCATION;VALUE=URI;X-ADDRESS=YMCA of the Shoals 2121 Helton Drive Florence AL 35630 United States;X-APPLE-RADIUS=500;X-TITLE=2121 Helton Drive:geo:-87.6683435,34.8324379
END:VEVENT
BEGIN:VEVENT
DTSTART;TZID=America/Chicago:20260811T091000
DTEND;TZID=America/Chicago:20260811T095500
DTSTAMP:20260424T092425
CREATED:20250805T154752Z
LAST-MODIFIED:20250926T154221Z
UID:184364-1786439400-1786442100@www.ymcashoals.org
SUMMARY:HIIT Cycle (Lauren)
DESCRIPTION:
URL:https://www.ymcashoals.org/event/spyn-lauren/2026-08-11/
LOCATION:YMCA of the Shoals\, 2121 Helton Drive\, Florence\, AL\, 35630\, United States
CATEGORIES:Cycle Fusion (GXR2),Schedules
GEO:34.8324379;-87.6683435
X-APPLE-STRUCTURED-LOCATION;VALUE=URI;X-ADDRESS=YMCA of the Shoals 2121 Helton Drive Florence AL 35630 United States;X-APPLE-RADIUS=500;X-TITLE=2121 Helton Drive:geo:-87.6683435,34.8324379
END:VEVENT
BEGIN:VEVENT
DTSTART;TZID=America/Chicago:20260811T173000
DTEND;TZID=America/Chicago:20260811T183000
DTSTAMP:20260424T092425
CREATED:20250725T182305Z
LAST-MODIFIED:20250725T182305Z
UID:184107-1786469400-1786473000@www.ymcashoals.org
SUMMARY:Les Mills RPM (Jadyn)
DESCRIPTION:
URL:https://www.ymcashoals.org/event/les-mills-rpm-jadyn/2026-08-11/
LOCATION:YMCA of the Shoals\, 2121 Helton Drive\, Florence\, AL\, 35630\, United States
CATEGORIES:Cycle Fusion (GXR2),Schedules
GEO:34.8324379;-87.6683435
X-APPLE-STRUCTURED-LOCATION;VALUE=URI;X-ADDRESS=YMCA of the Shoals 2121 Helton Drive Florence AL 35630 United States;X-APPLE-RADIUS=500;X-TITLE=2121 Helton Drive:geo:-87.6683435,34.8324379
END:VEVENT
BEGIN:VEVENT
DTSTART;TZID=America/Chicago:20260812T051500
DTEND;TZID=America/Chicago:20260812T060000
DTSTAMP:20260424T092425
CREATED:20250224T204549Z
LAST-MODIFIED:20250224T204549Z
UID:183637-1786511700-1786514400@www.ymcashoals.org
SUMMARY:Y Cycle (Christy)
DESCRIPTION:
URL:https://www.ymcashoals.org/event/y-cycle-christy-2/2026-08-12/
LOCATION:YMCA of the Shoals\, 2121 Helton Drive\, Florence\, AL\, 35630\, United States
CATEGORIES:Cycle Fusion (GXR2),Schedules
GEO:34.8324379;-87.6683435
X-APPLE-STRUCTURED-LOCATION;VALUE=URI;X-ADDRESS=YMCA of the Shoals 2121 Helton Drive Florence AL 35630 United States;X-APPLE-RADIUS=500;X-TITLE=2121 Helton Drive:geo:-87.6683435,34.8324379
END:VEVENT
BEGIN:VEVENT
DTSTART;TZID=America/Chicago:20260812T091000
DTEND;TZID=America/Chicago:20260812T095500
DTSTAMP:20260424T092425
CREATED:20230227T142651Z
LAST-MODIFIED:20230227T142651Z
UID:191569-1786525800-1786528500@www.ymcashoals.org
SUMMARY:Les Mills RPM (Lauren)
DESCRIPTION:
URL:https://www.ymcashoals.org/event/les-mills-rpm-katie/2026-08-12/
LOCATION:YMCA of the Shoals\, 2121 Helton Drive\, Florence\, AL\, 35630\, United States
CATEGORIES:Cycle Fusion (GXR2),Schedules
GEO:34.8324379;-87.6683435
X-APPLE-STRUCTURED-LOCATION;VALUE=URI;X-ADDRESS=YMCA of the Shoals 2121 Helton Drive Florence AL 35630 United States;X-APPLE-RADIUS=500;X-TITLE=2121 Helton Drive:geo:-87.6683435,34.8324379
END:VEVENT
BEGIN:VEVENT
DTSTART;TZID=America/Chicago:20260812T103000
DTEND;TZID=America/Chicago:20260812T103000
DTSTAMP:20260424T092425
CREATED:20250425T163255Z
LAST-MODIFIED:20250425T163255Z
UID:183639-1786530600-1786530600@www.ymcashoals.org
SUMMARY:Rock Steady Cycle (Steve)
DESCRIPTION:
URL:https://www.ymcashoals.org/event/rock-steady-cycle-steve/2026-08-12/
LOCATION:YMCA of the Shoals\, 2121 Helton Drive\, Florence\, AL\, 35630\, United States
CATEGORIES:Cycle Fusion (GXR2),Schedules
GEO:34.8324379;-87.6683435
X-APPLE-STRUCTURED-LOCATION;VALUE=URI;X-ADDRESS=YMCA of the Shoals 2121 Helton Drive Florence AL 35630 United States;X-APPLE-RADIUS=500;X-TITLE=2121 Helton Drive:geo:-87.6683435,34.8324379
END:VEVENT
BEGIN:VEVENT
DTSTART;TZID=America/Chicago:20260813T091000
DTEND;TZID=America/Chicago:20260813T095500
DTSTAMP:20260424T092425
CREATED:20250805T154752Z
LAST-MODIFIED:20250926T154221Z
UID:184365-1786612200-1786614900@www.ymcashoals.org
SUMMARY:HIIT Cycle (Lauren)
DESCRIPTION:
URL:https://www.ymcashoals.org/event/spyn-lauren/2026-08-13/
LOCATION:YMCA of the Shoals\, 2121 Helton Drive\, Florence\, AL\, 35630\, United States
CATEGORIES:Cycle Fusion (GXR2),Schedules
GEO:34.8324379;-87.6683435
X-APPLE-STRUCTURED-LOCATION;VALUE=URI;X-ADDRESS=YMCA of the Shoals 2121 Helton Drive Florence AL 35630 United States;X-APPLE-RADIUS=500;X-TITLE=2121 Helton Drive:geo:-87.6683435,34.8324379
END:VEVENT
BEGIN:VEVENT
DTSTART;TZID=America/Chicago:20260813T173000
DTEND;TZID=America/Chicago:20260813T183000
DTSTAMP:20260424T092425
CREATED:20250725T182305Z
LAST-MODIFIED:20250725T182305Z
UID:184108-1786642200-1786645800@www.ymcashoals.org
SUMMARY:Les Mills RPM (Jadyn)
DESCRIPTION:
URL:https://www.ymcashoals.org/event/les-mills-rpm-jadyn/2026-08-13/
LOCATION:YMCA of the Shoals\, 2121 Helton Drive\, Florence\, AL\, 35630\, United States
CATEGORIES:Cycle Fusion (GXR2),Schedules
GEO:34.8324379;-87.6683435
X-APPLE-STRUCTURED-LOCATION;VALUE=URI;X-ADDRESS=YMCA of the Shoals 2121 Helton Drive Florence AL 35630 United States;X-APPLE-RADIUS=500;X-TITLE=2121 Helton Drive:geo:-87.6683435,34.8324379
END:VEVENT
BEGIN:VEVENT
DTSTART;TZID=America/Chicago:20260814T051500
DTEND;TZID=America/Chicago:20260814T060000
DTSTAMP:20260424T092425
CREATED:20240524T154629Z
LAST-MODIFIED:20240524T154629Z
UID:183648-1786684500-1786687200@www.ymcashoals.org
SUMMARY:Y Cycle (Sara)
DESCRIPTION:
URL:https://www.ymcashoals.org/event/y-cycle-sara-4/2026-08-14/
LOCATION:YMCA of the Shoals\, 2121 Helton Drive\, Florence\, AL\, 35630\, United States
CATEGORIES:Cycle Fusion (GXR2),Schedules
GEO:34.8324379;-87.6683435
X-APPLE-STRUCTURED-LOCATION;VALUE=URI;X-ADDRESS=YMCA of the Shoals 2121 Helton Drive Florence AL 35630 United States;X-APPLE-RADIUS=500;X-TITLE=2121 Helton Drive:geo:-87.6683435,34.8324379
END:VEVENT
BEGIN:VEVENT
DTSTART;TZID=America/Chicago:20260814T081500
DTEND;TZID=America/Chicago:20260814T090500
DTSTAMP:20260424T092425
CREATED:20230227T142823Z
LAST-MODIFIED:20230227T142823Z
UID:199984-1786695300-1786698300@www.ymcashoals.org
SUMMARY:Les Mills RPM+Pilates (Christy)
DESCRIPTION:
URL:https://www.ymcashoals.org/event/les-mills-rpmcore-melissa-p/2026-08-14/
LOCATION:YMCA of the Shoals\, 2121 Helton Drive\, Florence\, AL\, 35630\, United States
CATEGORIES:Cycle Fusion (GXR2),Schedules
GEO:34.8324379;-87.6683435
X-APPLE-STRUCTURED-LOCATION;VALUE=URI;X-ADDRESS=YMCA of the Shoals 2121 Helton Drive Florence AL 35630 United States;X-APPLE-RADIUS=500;X-TITLE=2121 Helton Drive:geo:-87.6683435,34.8324379
END:VEVENT
BEGIN:VEVENT
DTSTART;TZID=America/Chicago:20260814T081500
DTEND;TZID=America/Chicago:20260814T090500
DTSTAMP:20260424T092425
CREATED:20230227T142823Z
LAST-MODIFIED:20230227T142823Z
UID:199327-1786695300-1786698300@www.ymcashoals.org
SUMMARY:Les Mills RPM+Pilates (Christy)
DESCRIPTION:
URL:https://www.ymcashoals.org/event/les-mills-rpmcore-melissa-p/2026-08-14/
LOCATION:YMCA of the Shoals\, 2121 Helton Drive\, Florence\, AL\, 35630\, United States
CATEGORIES:Cycle Fusion (GXR2),Schedules
GEO:34.8324379;-87.6683435
X-APPLE-STRUCTURED-LOCATION;VALUE=URI;X-ADDRESS=YMCA of the Shoals 2121 Helton Drive Florence AL 35630 United States;X-APPLE-RADIUS=500;X-TITLE=2121 Helton Drive:geo:-87.6683435,34.8324379
END:VEVENT
BEGIN:VEVENT
DTSTART;TZID=America/Chicago:20260815T073000
DTEND;TZID=America/Chicago:20260815T081500
DTSTAMP:20260424T092425
CREATED:20260123T134932Z
LAST-MODIFIED:20260123T134932Z
UID:198443-1786779000-1786781700@www.ymcashoals.org
SUMMARY:Y Cycle (Alternating)
DESCRIPTION:
URL:https://www.ymcashoals.org/event/y-cycle-alternating-2/2026-08-15/
LOCATION:YMCA of the Shoals\, 2121 Helton Drive\, Florence\, AL\, 35630\, United States
CATEGORIES:Cycle Fusion (GXR2),Schedules
GEO:34.8324379;-87.6683435
X-APPLE-STRUCTURED-LOCATION;VALUE=URI;X-ADDRESS=YMCA of the Shoals 2121 Helton Drive Florence AL 35630 United States;X-APPLE-RADIUS=500;X-TITLE=2121 Helton Drive:geo:-87.6683435,34.8324379
END:VEVENT
BEGIN:VEVENT
DTSTART;TZID=America/Chicago:20260817T051500
DTEND;TZID=America/Chicago:20260817T060000
DTSTAMP:20260424T092425
CREATED:20240524T154629Z
LAST-MODIFIED:20240524T154629Z
UID:183658-1786943700-1786946400@www.ymcashoals.org
SUMMARY:Y Cycle (Sara)
DESCRIPTION:
URL:https://www.ymcashoals.org/event/y-cycle-sara-4/2026-08-17/
LOCATION:YMCA of the Shoals\, 2121 Helton Drive\, Florence\, AL\, 35630\, United States
CATEGORIES:Cycle Fusion (GXR2),Schedules
GEO:34.8324379;-87.6683435
X-APPLE-STRUCTURED-LOCATION;VALUE=URI;X-ADDRESS=YMCA of the Shoals 2121 Helton Drive Florence AL 35630 United States;X-APPLE-RADIUS=500;X-TITLE=2121 Helton Drive:geo:-87.6683435,34.8324379
END:VEVENT
BEGIN:VEVENT
DTSTART;TZID=America/Chicago:20260817T091000
DTEND;TZID=America/Chicago:20260817T095500
DTSTAMP:20260424T092425
CREATED:20230227T142651Z
LAST-MODIFIED:20230227T142651Z
UID:191570-1786957800-1786960500@www.ymcashoals.org
SUMMARY:Les Mills RPM (Lauren)
DESCRIPTION:
URL:https://www.ymcashoals.org/event/les-mills-rpm-katie/2026-08-17/
LOCATION:YMCA of the Shoals\, 2121 Helton Drive\, Florence\, AL\, 35630\, United States
CATEGORIES:Cycle Fusion (GXR2),Schedules
GEO:34.8324379;-87.6683435
X-APPLE-STRUCTURED-LOCATION;VALUE=URI;X-ADDRESS=YMCA of the Shoals 2121 Helton Drive Florence AL 35630 United States;X-APPLE-RADIUS=500;X-TITLE=2121 Helton Drive:geo:-87.6683435,34.8324379
END:VEVENT
BEGIN:VEVENT
DTSTART;TZID=America/Chicago:20260817T103000
DTEND;TZID=America/Chicago:20260817T103000
DTSTAMP:20260424T092425
CREATED:20250425T163255Z
LAST-MODIFIED:20250425T163255Z
UID:183664-1786962600-1786962600@www.ymcashoals.org
SUMMARY:Rock Steady Cycle (Steve)
DESCRIPTION:
URL:https://www.ymcashoals.org/event/rock-steady-cycle-steve/2026-08-17/
LOCATION:YMCA of the Shoals\, 2121 Helton Drive\, Florence\, AL\, 35630\, United States
CATEGORIES:Cycle Fusion (GXR2),Schedules
GEO:34.8324379;-87.6683435
X-APPLE-STRUCTURED-LOCATION;VALUE=URI;X-ADDRESS=YMCA of the Shoals 2121 Helton Drive Florence AL 35630 United States;X-APPLE-RADIUS=500;X-TITLE=2121 Helton Drive:geo:-87.6683435,34.8324379
END:VEVENT
BEGIN:VEVENT
DTSTART;TZID=America/Chicago:20260817T173000
DTEND;TZID=America/Chicago:20260817T183000
DTSTAMP:20260424T092425
CREATED:20240725T202653Z
LAST-MODIFIED:20240725T202653Z
UID:183659-1786987800-1786991400@www.ymcashoals.org
SUMMARY:Les Mills RPM+CORE (Melissa H.)
DESCRIPTION:
URL:https://www.ymcashoals.org/event/les-mills-rpmcore-melissa-h/2026-08-17/
LOCATION:YMCA of the Shoals\, 2121 Helton Drive\, Florence\, AL\, 35630\, United States
CATEGORIES:Cycle Fusion (GXR2),Schedules
GEO:34.8324379;-87.6683435
X-APPLE-STRUCTURED-LOCATION;VALUE=URI;X-ADDRESS=YMCA of the Shoals 2121 Helton Drive Florence AL 35630 United States;X-APPLE-RADIUS=500;X-TITLE=2121 Helton Drive:geo:-87.6683435,34.8324379
END:VEVENT
BEGIN:VEVENT
DTSTART;TZID=America/Chicago:20260818T091000
DTEND;TZID=America/Chicago:20260818T095500
DTSTAMP:20260424T092425
CREATED:20250805T154752Z
LAST-MODIFIED:20250926T154221Z
UID:184366-1787044200-1787046900@www.ymcashoals.org
SUMMARY:HIIT Cycle (Lauren)
DESCRIPTION:
URL:https://www.ymcashoals.org/event/spyn-lauren/2026-08-18/
LOCATION:YMCA of the Shoals\, 2121 Helton Drive\, Florence\, AL\, 35630\, United States
CATEGORIES:Cycle Fusion (GXR2),Schedules
GEO:34.8324379;-87.6683435
X-APPLE-STRUCTURED-LOCATION;VALUE=URI;X-ADDRESS=YMCA of the Shoals 2121 Helton Drive Florence AL 35630 United States;X-APPLE-RADIUS=500;X-TITLE=2121 Helton Drive:geo:-87.6683435,34.8324379
END:VEVENT
BEGIN:VEVENT
DTSTART;TZID=America/Chicago:20260818T173000
DTEND;TZID=America/Chicago:20260818T183000
DTSTAMP:20260424T092425
CREATED:20250725T182305Z
LAST-MODIFIED:20250725T182305Z
UID:184109-1787074200-1787077800@www.ymcashoals.org
SUMMARY:Les Mills RPM (Jadyn)
DESCRIPTION:
URL:https://www.ymcashoals.org/event/les-mills-rpm-jadyn/2026-08-18/
LOCATION:YMCA of the Shoals\, 2121 Helton Drive\, Florence\, AL\, 35630\, United States
CATEGORIES:Cycle Fusion (GXR2),Schedules
GEO:34.8324379;-87.6683435
X-APPLE-STRUCTURED-LOCATION;VALUE=URI;X-ADDRESS=YMCA of the Shoals 2121 Helton Drive Florence AL 35630 United States;X-APPLE-RADIUS=500;X-TITLE=2121 Helton Drive:geo:-87.6683435,34.8324379
END:VEVENT
BEGIN:VEVENT
DTSTART;TZID=America/Chicago:20260819T051500
DTEND;TZID=America/Chicago:20260819T060000
DTSTAMP:20260424T092425
CREATED:20250224T204549Z
LAST-MODIFIED:20250224T204549Z
UID:183682-1787116500-1787119200@www.ymcashoals.org
SUMMARY:Y Cycle (Christy)
DESCRIPTION:
URL:https://www.ymcashoals.org/event/y-cycle-christy-2/2026-08-19/
LOCATION:YMCA of the Shoals\, 2121 Helton Drive\, Florence\, AL\, 35630\, United States
CATEGORIES:Cycle Fusion (GXR2),Schedules
GEO:34.8324379;-87.6683435
X-APPLE-STRUCTURED-LOCATION;VALUE=URI;X-ADDRESS=YMCA of the Shoals 2121 Helton Drive Florence AL 35630 United States;X-APPLE-RADIUS=500;X-TITLE=2121 Helton Drive:geo:-87.6683435,34.8324379
END:VEVENT
BEGIN:VEVENT
DTSTART;TZID=America/Chicago:20260819T091000
DTEND;TZID=America/Chicago:20260819T095500
DTSTAMP:20260424T092425
CREATED:20230227T142651Z
LAST-MODIFIED:20230227T142651Z
UID:191571-1787130600-1787133300@www.ymcashoals.org
SUMMARY:Les Mills RPM (Lauren)
DESCRIPTION:
URL:https://www.ymcashoals.org/event/les-mills-rpm-katie/2026-08-19/
LOCATION:YMCA of the Shoals\, 2121 Helton Drive\, Florence\, AL\, 35630\, United States
CATEGORIES:Cycle Fusion (GXR2),Schedules
GEO:34.8324379;-87.6683435
X-APPLE-STRUCTURED-LOCATION;VALUE=URI;X-ADDRESS=YMCA of the Shoals 2121 Helton Drive Florence AL 35630 United States;X-APPLE-RADIUS=500;X-TITLE=2121 Helton Drive:geo:-87.6683435,34.8324379
END:VEVENT
BEGIN:VEVENT
DTSTART;TZID=America/Chicago:20260819T103000
DTEND;TZID=America/Chicago:20260819T103000
DTSTAMP:20260424T092425
CREATED:20250425T163255Z
LAST-MODIFIED:20250425T163255Z
UID:183684-1787135400-1787135400@www.ymcashoals.org
SUMMARY:Rock Steady Cycle (Steve)
DESCRIPTION:
URL:https://www.ymcashoals.org/event/rock-steady-cycle-steve/2026-08-19/
LOCATION:YMCA of the Shoals\, 2121 Helton Drive\, Florence\, AL\, 35630\, United States
CATEGORIES:Cycle Fusion (GXR2),Schedules
GEO:34.8324379;-87.6683435
X-APPLE-STRUCTURED-LOCATION;VALUE=URI;X-ADDRESS=YMCA of the Shoals 2121 Helton Drive Florence AL 35630 United States;X-APPLE-RADIUS=500;X-TITLE=2121 Helton Drive:geo:-87.6683435,34.8324379
END:VEVENT
BEGIN:VEVENT
DTSTART;TZID=America/Chicago:20260820T091000
DTEND;TZID=America/Chicago:20260820T095500
DTSTAMP:20260424T092425
CREATED:20250805T154752Z
LAST-MODIFIED:20250926T154221Z
UID:184367-1787217000-1787219700@www.ymcashoals.org
SUMMARY:HIIT Cycle (Lauren)
DESCRIPTION:
URL:https://www.ymcashoals.org/event/spyn-lauren/2026-08-20/
LOCATION:YMCA of the Shoals\, 2121 Helton Drive\, Florence\, AL\, 35630\, United States
CATEGORIES:Cycle Fusion (GXR2),Schedules
GEO:34.8324379;-87.6683435
X-APPLE-STRUCTURED-LOCATION;VALUE=URI;X-ADDRESS=YMCA of the Shoals 2121 Helton Drive Florence AL 35630 United States;X-APPLE-RADIUS=500;X-TITLE=2121 Helton Drive:geo:-87.6683435,34.8324379
END:VEVENT
BEGIN:VEVENT
DTSTART;TZID=America/Chicago:20260820T173000
DTEND;TZID=America/Chicago:20260820T183000
DTSTAMP:20260424T092425
CREATED:20250725T182305Z
LAST-MODIFIED:20250725T182305Z
UID:184110-1787247000-1787250600@www.ymcashoals.org
SUMMARY:Les Mills RPM (Jadyn)
DESCRIPTION:
URL:https://www.ymcashoals.org/event/les-mills-rpm-jadyn/2026-08-20/
LOCATION:YMCA of the Shoals\, 2121 Helton Drive\, Florence\, AL\, 35630\, United States
CATEGORIES:Cycle Fusion (GXR2),Schedules
GEO:34.8324379;-87.6683435
X-APPLE-STRUCTURED-LOCATION;VALUE=URI;X-ADDRESS=YMCA of the Shoals 2121 Helton Drive Florence AL 35630 United States;X-APPLE-RADIUS=500;X-TITLE=2121 Helton Drive:geo:-87.6683435,34.8324379
END:VEVENT
BEGIN:VEVENT
DTSTART;TZID=America/Chicago:20260821T051500
DTEND;TZID=America/Chicago:20260821T060000
DTSTAMP:20260424T092425
CREATED:20240524T154629Z
LAST-MODIFIED:20240524T154629Z
UID:183712-1787289300-1787292000@www.ymcashoals.org
SUMMARY:Y Cycle (Sara)
DESCRIPTION:
URL:https://www.ymcashoals.org/event/y-cycle-sara-4/2026-08-21/
LOCATION:YMCA of the Shoals\, 2121 Helton Drive\, Florence\, AL\, 35630\, United States
CATEGORIES:Cycle Fusion (GXR2),Schedules
GEO:34.8324379;-87.6683435
X-APPLE-STRUCTURED-LOCATION;VALUE=URI;X-ADDRESS=YMCA of the Shoals 2121 Helton Drive Florence AL 35630 United States;X-APPLE-RADIUS=500;X-TITLE=2121 Helton Drive:geo:-87.6683435,34.8324379
END:VEVENT
BEGIN:VEVENT
DTSTART;TZID=America/Chicago:20260821T081500
DTEND;TZID=America/Chicago:20260821T090500
DTSTAMP:20260424T092425
CREATED:20230227T142823Z
LAST-MODIFIED:20230227T142823Z
UID:199328-1787300100-1787303100@www.ymcashoals.org
SUMMARY:Les Mills RPM+Pilates (Christy)
DESCRIPTION:
URL:https://www.ymcashoals.org/event/les-mills-rpmcore-melissa-p/2026-08-21/
LOCATION:YMCA of the Shoals\, 2121 Helton Drive\, Florence\, AL\, 35630\, United States
CATEGORIES:Cycle Fusion (GXR2),Schedules
GEO:34.8324379;-87.6683435
X-APPLE-STRUCTURED-LOCATION;VALUE=URI;X-ADDRESS=YMCA of the Shoals 2121 Helton Drive Florence AL 35630 United States;X-APPLE-RADIUS=500;X-TITLE=2121 Helton Drive:geo:-87.6683435,34.8324379
END:VEVENT
BEGIN:VEVENT
DTSTART;TZID=America/Chicago:20260821T081500
DTEND;TZID=America/Chicago:20260821T090500
DTSTAMP:20260424T092425
CREATED:20230227T142823Z
LAST-MODIFIED:20230227T142823Z
UID:199985-1787300100-1787303100@www.ymcashoals.org
SUMMARY:Les Mills RPM+Pilates (Christy)
DESCRIPTION:
URL:https://www.ymcashoals.org/event/les-mills-rpmcore-melissa-p/2026-08-21/
LOCATION:YMCA of the Shoals\, 2121 Helton Drive\, Florence\, AL\, 35630\, United States
CATEGORIES:Cycle Fusion (GXR2),Schedules
GEO:34.8324379;-87.6683435
X-APPLE-STRUCTURED-LOCATION;VALUE=URI;X-ADDRESS=YMCA of the Shoals 2121 Helton Drive Florence AL 35630 United States;X-APPLE-RADIUS=500;X-TITLE=2121 Helton Drive:geo:-87.6683435,34.8324379
END:VEVENT
BEGIN:VEVENT
DTSTART;TZID=America/Chicago:20260822T073000
DTEND;TZID=America/Chicago:20260822T081500
DTSTAMP:20260424T092425
CREATED:20260123T134932Z
LAST-MODIFIED:20260123T134932Z
UID:198444-1787383800-1787386500@www.ymcashoals.org
SUMMARY:Y Cycle (Alternating)
DESCRIPTION:
URL:https://www.ymcashoals.org/event/y-cycle-alternating-2/2026-08-22/
LOCATION:YMCA of the Shoals\, 2121 Helton Drive\, Florence\, AL\, 35630\, United States
CATEGORIES:Cycle Fusion (GXR2),Schedules
GEO:34.8324379;-87.6683435
X-APPLE-STRUCTURED-LOCATION;VALUE=URI;X-ADDRESS=YMCA of the Shoals 2121 Helton Drive Florence AL 35630 United States;X-APPLE-RADIUS=500;X-TITLE=2121 Helton Drive:geo:-87.6683435,34.8324379
END:VEVENT
BEGIN:VEVENT
DTSTART;TZID=America/Chicago:20260824T051500
DTEND;TZID=America/Chicago:20260824T060000
DTSTAMP:20260424T092425
CREATED:20240524T154629Z
LAST-MODIFIED:20240524T154629Z
UID:184113-1787548500-1787551200@www.ymcashoals.org
SUMMARY:Y Cycle (Sara)
DESCRIPTION:
URL:https://www.ymcashoals.org/event/y-cycle-sara-4/2026-08-24/
LOCATION:YMCA of the Shoals\, 2121 Helton Drive\, Florence\, AL\, 35630\, United States
CATEGORIES:Cycle Fusion (GXR2),Schedules
GEO:34.8324379;-87.6683435
X-APPLE-STRUCTURED-LOCATION;VALUE=URI;X-ADDRESS=YMCA of the Shoals 2121 Helton Drive Florence AL 35630 United States;X-APPLE-RADIUS=500;X-TITLE=2121 Helton Drive:geo:-87.6683435,34.8324379
END:VEVENT
END:VCALENDAR