BEGIN:VCALENDAR
VERSION:2.0
PRODID:-//YMCA of the Shoals - ECPv6.15.20//NONSGML v1.0//EN
CALSCALE:GREGORIAN
METHOD:PUBLISH
X-WR-CALNAME:YMCA of the Shoals
X-ORIGINAL-URL:https://www.ymcashoals.org
X-WR-CALDESC:Events for YMCA of the Shoals
REFRESH-INTERVAL;VALUE=DURATION:PT1H
X-Robots-Tag:noindex
X-PUBLISHED-TTL:PT1H
BEGIN:VTIMEZONE
TZID:America/Chicago
BEGIN:DAYLIGHT
TZOFFSETFROM:-0600
TZOFFSETTO:-0500
TZNAME:CDT
DTSTART:20190310T080000
END:DAYLIGHT
BEGIN:STANDARD
TZOFFSETFROM:-0500
TZOFFSETTO:-0600
TZNAME:CST
DTSTART:20191103T070000
END:STANDARD
BEGIN:DAYLIGHT
TZOFFSETFROM:-0600
TZOFFSETTO:-0500
TZNAME:CDT
DTSTART:20200308T080000
END:DAYLIGHT
BEGIN:STANDARD
TZOFFSETFROM:-0500
TZOFFSETTO:-0600
TZNAME:CST
DTSTART:20201101T070000
END:STANDARD
BEGIN:DAYLIGHT
TZOFFSETFROM:-0600
TZOFFSETTO:-0500
TZNAME:CDT
DTSTART:20210314T080000
END:DAYLIGHT
BEGIN:STANDARD
TZOFFSETFROM:-0500
TZOFFSETTO:-0600
TZNAME:CST
DTSTART:20211107T070000
END:STANDARD
BEGIN:DAYLIGHT
TZOFFSETFROM:-0600
TZOFFSETTO:-0500
TZNAME:CDT
DTSTART:20220313T080000
END:DAYLIGHT
BEGIN:STANDARD
TZOFFSETFROM:-0500
TZOFFSETTO:-0600
TZNAME:CST
DTSTART:20221106T070000
END:STANDARD
BEGIN:DAYLIGHT
TZOFFSETFROM:-0600
TZOFFSETTO:-0500
TZNAME:CDT
DTSTART:20230312T080000
END:DAYLIGHT
BEGIN:STANDARD
TZOFFSETFROM:-0500
TZOFFSETTO:-0600
TZNAME:CST
DTSTART:20231105T070000
END:STANDARD
END:VTIMEZONE
BEGIN:VEVENT
DTSTART;TZID=America/Chicago:20221109T180000
DTEND;TZID=America/Chicago:20221109T200000
DTSTAMP:20260423T172019
CREATED:20221004T201451Z
LAST-MODIFIED:20221004T201451Z
UID:139367-1668016800-1668024000@www.ymcashoals.org
SUMMARY:CPR/1st Aid
DESCRIPTION:
URL:https://www.ymcashoals.org/event/cpr-1st-aid-10/
LOCATION:YMCA of the Shoals\, 2121 Helton Drive\, Florence\, AL\, 35630\, United States
CATEGORIES:CPR,Schedules
GEO:34.8324379;-87.6683435
X-APPLE-STRUCTURED-LOCATION;VALUE=URI;X-ADDRESS=YMCA of the Shoals 2121 Helton Drive Florence AL 35630 United States;X-APPLE-RADIUS=500;X-TITLE=2121 Helton Drive:geo:-87.6683435,34.8324379
END:VEVENT
BEGIN:VEVENT
DTSTART;TZID=America/Chicago:20221025T180000
DTEND;TZID=America/Chicago:20221025T200000
DTSTAMP:20260423T172019
CREATED:20221004T201413Z
LAST-MODIFIED:20221004T201413Z
UID:139365-1666720800-1666728000@www.ymcashoals.org
SUMMARY:CPR/1st Aid
DESCRIPTION:
URL:https://www.ymcashoals.org/event/cpr-1st-aid-9/
LOCATION:YMCA of the Shoals\, 2121 Helton Drive\, Florence\, AL\, 35630\, United States
CATEGORIES:CPR,Schedules
GEO:34.8324379;-87.6683435
X-APPLE-STRUCTURED-LOCATION;VALUE=URI;X-ADDRESS=YMCA of the Shoals 2121 Helton Drive Florence AL 35630 United States;X-APPLE-RADIUS=500;X-TITLE=2121 Helton Drive:geo:-87.6683435,34.8324379
END:VEVENT
BEGIN:VEVENT
DTSTART;TZID=America/Chicago:20220920T180000
DTEND;TZID=America/Chicago:20220920T200000
DTSTAMP:20260423T172019
CREATED:20220714T133206Z
LAST-MODIFIED:20220801T194721Z
UID:134300-1663696800-1663704000@www.ymcashoals.org
SUMMARY:CPR & 1st Aid
DESCRIPTION:
URL:https://www.ymcashoals.org/event/cpr-1st-aid-8/
LOCATION:YMCA of the Shoals\, 2121 Helton Drive\, Florence\, AL\, 35630\, United States
CATEGORIES:CPR,Schedules
GEO:34.8324379;-87.6683435
X-APPLE-STRUCTURED-LOCATION;VALUE=URI;X-ADDRESS=YMCA of the Shoals 2121 Helton Drive Florence AL 35630 United States;X-APPLE-RADIUS=500;X-TITLE=2121 Helton Drive:geo:-87.6683435,34.8324379
END:VEVENT
BEGIN:VEVENT
DTSTART;TZID=America/Chicago:20220906T180000
DTEND;TZID=America/Chicago:20220906T200000
DTSTAMP:20260423T172019
CREATED:20220714T133137Z
LAST-MODIFIED:20220714T133137Z
UID:134298-1662487200-1662494400@www.ymcashoals.org
SUMMARY:CPR & 1st Aid
DESCRIPTION:
URL:https://www.ymcashoals.org/event/cpr-1st-aid-7/
LOCATION:YMCA of the Shoals\, 2121 Helton Drive\, Florence\, AL\, 35630\, United States
CATEGORIES:CPR,Schedules
GEO:34.8324379;-87.6683435
X-APPLE-STRUCTURED-LOCATION;VALUE=URI;X-ADDRESS=YMCA of the Shoals 2121 Helton Drive Florence AL 35630 United States;X-APPLE-RADIUS=500;X-TITLE=2121 Helton Drive:geo:-87.6683435,34.8324379
END:VEVENT
BEGIN:VEVENT
DTSTART;TZID=America/Chicago:20220822T180000
DTEND;TZID=America/Chicago:20220822T200000
DTSTAMP:20260423T172019
CREATED:20220714T133108Z
LAST-MODIFIED:20220801T194816Z
UID:134296-1661191200-1661198400@www.ymcashoals.org
SUMMARY:CPR & 1st Aid
DESCRIPTION:
URL:https://www.ymcashoals.org/event/cpr-1st-aid-6/
LOCATION:YMCA of the Shoals\, 2121 Helton Drive\, Florence\, AL\, 35630\, United States
CATEGORIES:CPR,Schedules
GEO:34.8324379;-87.6683435
X-APPLE-STRUCTURED-LOCATION;VALUE=URI;X-ADDRESS=YMCA of the Shoals 2121 Helton Drive Florence AL 35630 United States;X-APPLE-RADIUS=500;X-TITLE=2121 Helton Drive:geo:-87.6683435,34.8324379
END:VEVENT
BEGIN:VEVENT
DTSTART;TZID=America/Chicago:20220809T180000
DTEND;TZID=America/Chicago:20220809T200000
DTSTAMP:20260423T172019
CREATED:20220714T133016Z
LAST-MODIFIED:20220801T194846Z
UID:134294-1660068000-1660075200@www.ymcashoals.org
SUMMARY:CPR & 1st Aid
DESCRIPTION:
URL:https://www.ymcashoals.org/event/cpr-1st-aid-5/
LOCATION:YMCA of the Shoals\, 2121 Helton Drive\, Florence\, AL\, 35630\, United States
CATEGORIES:CPR,Schedules
GEO:34.8324379;-87.6683435
X-APPLE-STRUCTURED-LOCATION;VALUE=URI;X-ADDRESS=YMCA of the Shoals 2121 Helton Drive Florence AL 35630 United States;X-APPLE-RADIUS=500;X-TITLE=2121 Helton Drive:geo:-87.6683435,34.8324379
END:VEVENT
BEGIN:VEVENT
DTSTART;TZID=America/Chicago:20220101T080000
DTEND;TZID=America/Chicago:20220101T170000
DTSTAMP:20260423T172019
CREATED:20210107T153134Z
LAST-MODIFIED:20211217T133333Z
UID:114933-1641024000-1641056400@www.ymcashoals.org
SUMMARY:New Year's Day-Open 10:00 - 2:00
DESCRIPTION:
URL:https://www.ymcashoals.org/event/new-years-day-open-1000-400/
LOCATION:YMCA of the Shoals\, 2121 Helton Drive\, Florence\, AL\, 35630\, United States
CATEGORIES:CPR,Cycle Fusion (GXR2),Events,Group Exercise (GXR),Karate - Tang Soo Do,Lap Pool Schedule,Schedules,Spirit/Mind/Body (GXR3),Swim Lessons
GEO:34.8324379;-87.6683435
X-APPLE-STRUCTURED-LOCATION;VALUE=URI;X-ADDRESS=YMCA of the Shoals 2121 Helton Drive Florence AL 35630 United States;X-APPLE-RADIUS=500;X-TITLE=2121 Helton Drive:geo:-87.6683435,34.8324379
END:VEVENT
BEGIN:VEVENT
DTSTART;TZID=America/Chicago:20211231T050000
DTEND;TZID=America/Chicago:20211231T170000
DTSTAMP:20260423T172019
CREATED:20210107T154048Z
LAST-MODIFIED:20210107T154048Z
UID:114953-1640926800-1640970000@www.ymcashoals.org
SUMMARY:New Year's Eve-5:00am-12:00pm
DESCRIPTION:
URL:https://www.ymcashoals.org/event/new-years-eve-500am-1200pm/
LOCATION:YMCA of the Shoals\, 2121 Helton Drive\, Florence\, AL\, 35630\, United States
CATEGORIES:CPR,Cycle Fusion (GXR2),Events,Group Exercise (GXR),Karate - Tang Soo Do,Lap Pool Schedule,Schedules,Spirit/Mind/Body (GXR3),Swim Lessons
GEO:34.8324379;-87.6683435
X-APPLE-STRUCTURED-LOCATION;VALUE=URI;X-ADDRESS=YMCA of the Shoals 2121 Helton Drive Florence AL 35630 United States;X-APPLE-RADIUS=500;X-TITLE=2121 Helton Drive:geo:-87.6683435,34.8324379
END:VEVENT
BEGIN:VEVENT
DTSTART;TZID=America/Chicago:20211225T080000
DTEND;TZID=America/Chicago:20211225T170000
DTSTAMP:20260423T172019
CREATED:20210107T153858Z
LAST-MODIFIED:20210107T153913Z
UID:114950-1640419200-1640451600@www.ymcashoals.org
SUMMARY:Christmas-Facility CLOSED
DESCRIPTION:
URL:https://www.ymcashoals.org/event/christmas-facilitiy-closed/
LOCATION:YMCA of the Shoals\, 2121 Helton Drive\, Florence\, AL\, 35630\, United States
CATEGORIES:CPR,Cycle Fusion (GXR2),Events,Group Exercise (GXR),Karate - Tang Soo Do,Lap Pool Schedule,Schedules,Spirit/Mind/Body (GXR3),Swim Lessons
GEO:34.8324379;-87.6683435
X-APPLE-STRUCTURED-LOCATION;VALUE=URI;X-ADDRESS=YMCA of the Shoals 2121 Helton Drive Florence AL 35630 United States;X-APPLE-RADIUS=500;X-TITLE=2121 Helton Drive:geo:-87.6683435,34.8324379
END:VEVENT
BEGIN:VEVENT
DTSTART;TZID=America/Chicago:20211224T050000
DTEND;TZID=America/Chicago:20211224T170000
DTSTAMP:20260423T172019
CREATED:20210107T153808Z
LAST-MODIFIED:20210107T153808Z
UID:114948-1640322000-1640365200@www.ymcashoals.org
SUMMARY:Christmas Eve-5:00am-12:00pm
DESCRIPTION:
URL:https://www.ymcashoals.org/event/christmas-eve-500am-1200pm/
LOCATION:YMCA of the Shoals\, 2121 Helton Drive\, Florence\, AL\, 35630\, United States
CATEGORIES:CPR,Cycle Fusion (GXR2),Events,Group Exercise (GXR),Karate - Tang Soo Do,Lap Pool Schedule,Schedules,Spirit/Mind/Body (GXR3),Swim Lessons
GEO:34.8324379;-87.6683435
X-APPLE-STRUCTURED-LOCATION;VALUE=URI;X-ADDRESS=YMCA of the Shoals 2121 Helton Drive Florence AL 35630 United States;X-APPLE-RADIUS=500;X-TITLE=2121 Helton Drive:geo:-87.6683435,34.8324379
END:VEVENT
BEGIN:VEVENT
DTSTART;TZID=America/Chicago:20211125T080000
DTEND;TZID=America/Chicago:20211125T170000
DTSTAMP:20260423T172019
CREATED:20210107T153650Z
LAST-MODIFIED:20210107T153650Z
UID:114946-1637827200-1637859600@www.ymcashoals.org
SUMMARY:Thanksgiving-Facility CLOSED
DESCRIPTION:
URL:https://www.ymcashoals.org/event/thanksgiving-facility-closed/
LOCATION:YMCA of the Shoals\, 2121 Helton Drive\, Florence\, AL\, 35630\, United States
CATEGORIES:CPR,Cycle Fusion (GXR2),Events,Group Exercise (GXR),Karate - Tang Soo Do,Lap Pool Schedule,Schedules,Spirit/Mind/Body (GXR3),Swim Lessons
GEO:34.8324379;-87.6683435
X-APPLE-STRUCTURED-LOCATION;VALUE=URI;X-ADDRESS=YMCA of the Shoals 2121 Helton Drive Florence AL 35630 United States;X-APPLE-RADIUS=500;X-TITLE=2121 Helton Drive:geo:-87.6683435,34.8324379
END:VEVENT
BEGIN:VEVENT
DTSTART;TZID=America/Chicago:20211124T050000
DTEND;TZID=America/Chicago:20211124T183000
DTSTAMP:20260423T172019
CREATED:20210107T153600Z
LAST-MODIFIED:20210107T154516Z
UID:114944-1637730000-1637778600@www.ymcashoals.org
SUMMARY:Close at 6:00pm
DESCRIPTION:
URL:https://www.ymcashoals.org/event/close-at-600pm/
LOCATION:YMCA of the Shoals\, 2121 Helton Drive\, Florence\, AL\, 35630\, United States
CATEGORIES:CPR,Cycle Fusion (GXR2),Events,Group Exercise (GXR),Karate - Tang Soo Do,Lap Pool Schedule,Schedules,Spirit/Mind/Body (GXR3),Swim Lessons
GEO:34.8324379;-87.6683435
X-APPLE-STRUCTURED-LOCATION;VALUE=URI;X-ADDRESS=YMCA of the Shoals 2121 Helton Drive Florence AL 35630 United States;X-APPLE-RADIUS=500;X-TITLE=2121 Helton Drive:geo:-87.6683435,34.8324379
END:VEVENT
BEGIN:VEVENT
DTSTART;TZID=America/Chicago:20210906T080000
DTEND;TZID=America/Chicago:20210906T170000
DTSTAMP:20260423T172019
CREATED:20210107T153512Z
LAST-MODIFIED:20210107T154436Z
UID:114941-1630915200-1630947600@www.ymcashoals.org
SUMMARY:Labor Day-CLOSED
DESCRIPTION:
URL:https://www.ymcashoals.org/event/labor-day-closed/
LOCATION:YMCA of the Shoals\, 2121 Helton Drive\, Florence\, AL\, 35630\, United States
CATEGORIES:CPR,Cycle Fusion (GXR2),Events,Group Exercise (GXR),Karate - Tang Soo Do,Lap Pool Schedule,Schedules,Spirit/Mind/Body (GXR3),Swim Lessons
GEO:34.8324379;-87.6683435
X-APPLE-STRUCTURED-LOCATION;VALUE=URI;X-ADDRESS=YMCA of the Shoals 2121 Helton Drive Florence AL 35630 United States;X-APPLE-RADIUS=500;X-TITLE=2121 Helton Drive:geo:-87.6683435,34.8324379
END:VEVENT
BEGIN:VEVENT
DTSTART;TZID=America/Chicago:20210704T080000
DTEND;TZID=America/Chicago:20210704T170000
DTSTAMP:20260423T172019
CREATED:20210107T153404Z
LAST-MODIFIED:20210107T154354Z
UID:114939-1625385600-1625418000@www.ymcashoals.org
SUMMARY:Independence Day- Facility CLOSED
DESCRIPTION:
URL:https://www.ymcashoals.org/event/independence-day-facility-closed/
LOCATION:YMCA of the Shoals\, 2121 Helton Drive\, Florence\, AL\, 35630\, United States
CATEGORIES:CPR,Cycle Fusion (GXR2),Events,Group Exercise (GXR),Karate - Tang Soo Do,Lap Pool Schedule,Schedules,Spirit/Mind/Body (GXR3),Swim Lessons
GEO:34.8324379;-87.6683435
X-APPLE-STRUCTURED-LOCATION;VALUE=URI;X-ADDRESS=YMCA of the Shoals 2121 Helton Drive Florence AL 35630 United States;X-APPLE-RADIUS=500;X-TITLE=2121 Helton Drive:geo:-87.6683435,34.8324379
END:VEVENT
BEGIN:VEVENT
DTSTART;TZID=America/Chicago:20210531T080000
DTEND;TZID=America/Chicago:20210531T170000
DTSTAMP:20260423T172019
CREATED:20210107T153315Z
LAST-MODIFIED:20210107T154307Z
UID:114937-1622448000-1622480400@www.ymcashoals.org
SUMMARY:Memorial Day-Facility CLOSED
DESCRIPTION:
URL:https://www.ymcashoals.org/event/memorial-day-facility-closed/
LOCATION:YMCA of the Shoals\, 2121 Helton Drive\, Florence\, AL\, 35630\, United States
CATEGORIES:CPR,Cycle Fusion (GXR2),Events,Group Exercise (GXR),Karate - Tang Soo Do,Lap Pool Schedule,Schedules,Spirit/Mind/Body (GXR3),Swim Lessons
GEO:34.8324379;-87.6683435
X-APPLE-STRUCTURED-LOCATION;VALUE=URI;X-ADDRESS=YMCA of the Shoals 2121 Helton Drive Florence AL 35630 United States;X-APPLE-RADIUS=500;X-TITLE=2121 Helton Drive:geo:-87.6683435,34.8324379
END:VEVENT
BEGIN:VEVENT
DTSTART;TZID=America/Chicago:20210225T100000
DTEND;TZID=America/Chicago:20210225T120000
DTSTAMP:20260423T172019
CREATED:20210107T160831Z
LAST-MODIFIED:20210107T160831Z
UID:114959-1614247200-1614254400@www.ymcashoals.org
SUMMARY:CPR/1st Aid
DESCRIPTION:
URL:https://www.ymcashoals.org/event/cpr-1st-aid-3/
LOCATION:YMCA of the Shoals\, 2121 Helton Drive\, Florence\, AL\, 35630\, United States
CATEGORIES:CPR,Schedules
GEO:34.8324379;-87.6683435
X-APPLE-STRUCTURED-LOCATION;VALUE=URI;X-ADDRESS=YMCA of the Shoals 2121 Helton Drive Florence AL 35630 United States;X-APPLE-RADIUS=500;X-TITLE=2121 Helton Drive:geo:-87.6683435,34.8324379
END:VEVENT
BEGIN:VEVENT
DTSTART;TZID=America/Chicago:20210215T180000
DTEND;TZID=America/Chicago:20210215T200000
DTSTAMP:20260423T172019
CREATED:20210107T161019Z
LAST-MODIFIED:20210107T161019Z
UID:114961-1613412000-1613419200@www.ymcashoals.org
SUMMARY:CPR/1st Aid
DESCRIPTION:
URL:https://www.ymcashoals.org/event/cpr-1st-aid-4/
LOCATION:YMCA of the Shoals\, 2121 Helton Drive\, Florence\, AL\, 35630\, United States
CATEGORIES:CPR,Schedules
GEO:34.8324379;-87.6683435
X-APPLE-STRUCTURED-LOCATION;VALUE=URI;X-ADDRESS=YMCA of the Shoals 2121 Helton Drive Florence AL 35630 United States;X-APPLE-RADIUS=500;X-TITLE=2121 Helton Drive:geo:-87.6683435,34.8324379
END:VEVENT
BEGIN:VEVENT
DTSTART;TZID=America/Chicago:20210118T100000
DTEND;TZID=America/Chicago:20210118T120000
DTSTAMP:20260423T172019
CREATED:20210107T155447Z
LAST-MODIFIED:20210107T160547Z
UID:114955-1610964000-1610971200@www.ymcashoals.org
SUMMARY:CPR/1st Aid
DESCRIPTION:
URL:https://www.ymcashoals.org/event/cpr-1st-aid/
LOCATION:YMCA of the Shoals\, 2121 Helton Drive\, Florence\, AL\, 35630\, United States
CATEGORIES:CPR,Schedules
GEO:34.8324379;-87.6683435
X-APPLE-STRUCTURED-LOCATION;VALUE=URI;X-ADDRESS=YMCA of the Shoals 2121 Helton Drive Florence AL 35630 United States;X-APPLE-RADIUS=500;X-TITLE=2121 Helton Drive:geo:-87.6683435,34.8324379
END:VEVENT
BEGIN:VEVENT
DTSTART;TZID=America/Chicago:20210115T100000
DTEND;TZID=America/Chicago:20210115T120000
DTSTAMP:20260423T172019
CREATED:20210107T160721Z
LAST-MODIFIED:20210107T160721Z
UID:114957-1610704800-1610712000@www.ymcashoals.org
SUMMARY:CPR/1st Aid
DESCRIPTION:
URL:https://www.ymcashoals.org/event/cpr-1st-aid-2/
LOCATION:YMCA of the Shoals\, 2121 Helton Drive\, Florence\, AL\, 35630\, United States
CATEGORIES:CPR,Schedules
GEO:34.8324379;-87.6683435
X-APPLE-STRUCTURED-LOCATION;VALUE=URI;X-ADDRESS=YMCA of the Shoals 2121 Helton Drive Florence AL 35630 United States;X-APPLE-RADIUS=500;X-TITLE=2121 Helton Drive:geo:-87.6683435,34.8324379
END:VEVENT
BEGIN:VEVENT
DTSTART;TZID=America/Chicago:20200704T050000
DTEND;TZID=America/Chicago:20200704T210000
DTSTAMP:20260423T172019
CREATED:20200630T160229Z
LAST-MODIFIED:20200630T160229Z
UID:105095-1593838800-1593896400@www.ymcashoals.org
SUMMARY:Facility CLOSED-July 4th
DESCRIPTION:
URL:https://www.ymcashoals.org/event/facility-closed-july-4th/
LOCATION:YMCA of the Shoals\, 2121 Helton Drive\, Florence\, AL\, 35630\, United States
CATEGORIES:CPR,Events,Group Exercise (GXR),Karate - Tang Soo Do,Lap Pool Schedule,Schedules,Swim Lessons
GEO:34.8324379;-87.6683435
X-APPLE-STRUCTURED-LOCATION;VALUE=URI;X-ADDRESS=YMCA of the Shoals 2121 Helton Drive Florence AL 35630 United States;X-APPLE-RADIUS=500;X-TITLE=2121 Helton Drive:geo:-87.6683435,34.8324379
END:VEVENT
BEGIN:VEVENT
DTSTART;TZID=America/Chicago:20200703T050000
DTEND;TZID=America/Chicago:20200703T180000
DTSTAMP:20260423T172019
CREATED:20200630T155952Z
LAST-MODIFIED:20200630T155952Z
UID:105093-1593752400-1593799200@www.ymcashoals.org
SUMMARY:Facility Closing at 6:00pm\, Friday\, July 3rd
DESCRIPTION:
URL:https://www.ymcashoals.org/event/facility-closing-at-600pm-friday-july-3rd/
LOCATION:YMCA of the Shoals\, 2121 Helton Drive\, Florence\, AL\, 35630\, United States
CATEGORIES:CPR,Events,Group Exercise (GXR),Karate - Tang Soo Do,Lap Pool Schedule,Schedules,Swim Lessons
GEO:34.8324379;-87.6683435
X-APPLE-STRUCTURED-LOCATION;VALUE=URI;X-ADDRESS=YMCA of the Shoals 2121 Helton Drive Florence AL 35630 United States;X-APPLE-RADIUS=500;X-TITLE=2121 Helton Drive:geo:-87.6683435,34.8324379
END:VEVENT
END:VCALENDAR