BEGIN:VCALENDAR
VERSION:2.0
PRODID:-//YMCA of the Shoals - ECPv6.15.20//NONSGML v1.0//EN
CALSCALE:GREGORIAN
METHOD:PUBLISH
X-ORIGINAL-URL:https://www.ymcashoals.org
X-WR-CALDESC:Events for YMCA of the Shoals
REFRESH-INTERVAL;VALUE=DURATION:PT1H
X-Robots-Tag:noindex
X-PUBLISHED-TTL:PT1H
BEGIN:VTIMEZONE
TZID:America/Chicago
BEGIN:DAYLIGHT
TZOFFSETFROM:-0600
TZOFFSETTO:-0500
TZNAME:CDT
DTSTART:20260308T080000
END:DAYLIGHT
BEGIN:STANDARD
TZOFFSETFROM:-0500
TZOFFSETTO:-0600
TZNAME:CST
DTSTART:20261101T070000
END:STANDARD
BEGIN:DAYLIGHT
TZOFFSETFROM:-0600
TZOFFSETTO:-0500
TZNAME:CDT
DTSTART:20270314T080000
END:DAYLIGHT
BEGIN:STANDARD
TZOFFSETFROM:-0500
TZOFFSETTO:-0600
TZNAME:CST
DTSTART:20271107T070000
END:STANDARD
BEGIN:DAYLIGHT
TZOFFSETFROM:-0600
TZOFFSETTO:-0500
TZNAME:CDT
DTSTART:20280312T080000
END:DAYLIGHT
BEGIN:STANDARD
TZOFFSETFROM:-0500
TZOFFSETTO:-0600
TZNAME:CST
DTSTART:20281105T070000
END:STANDARD
END:VTIMEZONE
BEGIN:VEVENT
DTSTART;TZID=America/Chicago:20270201T050000
DTEND;TZID=America/Chicago:20270201T150000
DTSTAMP:20260424T055836
CREATED:20260106T212322Z
LAST-MODIFIED:20260106T212322Z
UID:194542-1801458000-1801494000@www.ymcashoals.org
SUMMARY:Open Play Court A
DESCRIPTION:
URL:https://www.ymcashoals.org/event/open-play-court-a-15/2027-02-01/
LOCATION:YMCA of the Shoals\, 2121 Helton Drive\, Florence\, AL\, 35630\, United States
CATEGORIES:Gym Courts A & B,Schedules
GEO:34.8324379;-87.6683435
X-APPLE-STRUCTURED-LOCATION;VALUE=URI;X-ADDRESS=YMCA of the Shoals 2121 Helton Drive Florence AL 35630 United States;X-APPLE-RADIUS=500;X-TITLE=2121 Helton Drive:geo:-87.6683435,34.8324379
END:VEVENT
BEGIN:VEVENT
DTSTART;TZID=America/Chicago:20270201T051500
DTEND;TZID=America/Chicago:20270201T060000
DTSTAMP:20260424T055836
CREATED:20240524T154629Z
LAST-MODIFIED:20240524T154629Z
UID:191488-1801458900-1801461600@www.ymcashoals.org
SUMMARY:Y Cycle (Sara)
DESCRIPTION:
URL:https://www.ymcashoals.org/event/y-cycle-sara-4/2027-02-01/
LOCATION:YMCA of the Shoals\, 2121 Helton Drive\, Florence\, AL\, 35630\, United States
CATEGORIES:Cycle Fusion (GXR2),Schedules
GEO:34.8324379;-87.6683435
X-APPLE-STRUCTURED-LOCATION;VALUE=URI;X-ADDRESS=YMCA of the Shoals 2121 Helton Drive Florence AL 35630 United States;X-APPLE-RADIUS=500;X-TITLE=2121 Helton Drive:geo:-87.6683435,34.8324379
END:VEVENT
BEGIN:VEVENT
DTSTART;TZID=America/Chicago:20270201T081500
DTEND;TZID=America/Chicago:20270201T090000
DTSTAMP:20260424T055836
CREATED:20200527T202728Z
LAST-MODIFIED:20200527T202728Z
UID:192314-1801469700-1801472400@www.ymcashoals.org
SUMMARY:Y Dance (Leslie)
DESCRIPTION:
URL:https://www.ymcashoals.org/event/y-dance-leslie/2027-02-01/
LOCATION:YMCA of the Shoals\, 2121 Helton Drive\, Florence\, AL\, 35630\, United States
CATEGORIES:Group Exercise (GXR),Schedules
GEO:34.8324379;-87.6683435
X-APPLE-STRUCTURED-LOCATION;VALUE=URI;X-ADDRESS=YMCA of the Shoals 2121 Helton Drive Florence AL 35630 United States;X-APPLE-RADIUS=500;X-TITLE=2121 Helton Drive:geo:-87.6683435,34.8324379
END:VEVENT
BEGIN:VEVENT
DTSTART;TZID=America/Chicago:20270201T081500
DTEND;TZID=America/Chicago:20270201T090000
DTSTAMP:20260424T055836
CREATED:20250627T193706Z
LAST-MODIFIED:20250627T193706Z
UID:191485-1801469700-1801472400@www.ymcashoals.org
SUMMARY:Breathe & Bend (Jennifer)
DESCRIPTION:
URL:https://www.ymcashoals.org/event/breathe-bend-jennifer/2027-02-01/
LOCATION:YMCA of the Shoals\, 2121 Helton Drive\, Florence\, AL\, 35630\, United States
CATEGORIES:Schedules,Spirit/Mind/Body (GXR3)
GEO:34.8324379;-87.6683435
X-APPLE-STRUCTURED-LOCATION;VALUE=URI;X-ADDRESS=YMCA of the Shoals 2121 Helton Drive Florence AL 35630 United States;X-APPLE-RADIUS=500;X-TITLE=2121 Helton Drive:geo:-87.6683435,34.8324379
END:VEVENT
BEGIN:VEVENT
DTSTART;TZID=America/Chicago:20270201T090000
DTEND;TZID=America/Chicago:20270201T100000
DTSTAMP:20260424T055836
CREATED:20210104T201024Z
LAST-MODIFIED:20210104T201024Z
UID:196925-1801472400-1801476000@www.ymcashoals.org
SUMMARY:Karate
DESCRIPTION:
URL:https://www.ymcashoals.org/event/karate/2027-02-01/
LOCATION:YMCA of the Shoals\, 2121 Helton Drive\, Florence\, AL\, 35630\, United States
CATEGORIES:Karate - Tang Soo Do,Schedules
GEO:34.8324379;-87.6683435
X-APPLE-STRUCTURED-LOCATION;VALUE=URI;X-ADDRESS=YMCA of the Shoals 2121 Helton Drive Florence AL 35630 United States;X-APPLE-RADIUS=500;X-TITLE=2121 Helton Drive:geo:-87.6683435,34.8324379
END:VEVENT
BEGIN:VEVENT
DTSTART;TZID=America/Chicago:20270201T090000
DTEND;TZID=America/Chicago:20270201T100000
DTSTAMP:20260424T055836
CREATED:20250530T134131Z
LAST-MODIFIED:20260107T141235Z
UID:196744-1801472400-1801476000@www.ymcashoals.org
SUMMARY:Karate (Court B)
DESCRIPTION:
URL:https://www.ymcashoals.org/event/karate-2/2027-02-01/
LOCATION:YMCA of the Shoals\, 2121 Helton Drive\, Florence\, AL\, 35630\, United States
CATEGORIES:Gym Courts A & B,Schedules
GEO:34.8324379;-87.6683435
X-APPLE-STRUCTURED-LOCATION;VALUE=URI;X-ADDRESS=YMCA of the Shoals 2121 Helton Drive Florence AL 35630 United States;X-APPLE-RADIUS=500;X-TITLE=2121 Helton Drive:geo:-87.6683435,34.8324379
END:VEVENT
BEGIN:VEVENT
DTSTART;TZID=America/Chicago:20270201T091000
DTEND;TZID=America/Chicago:20270201T095500
DTSTAMP:20260424T055836
CREATED:20230227T142651Z
LAST-MODIFIED:20230227T142651Z
UID:191618-1801473000-1801475700@www.ymcashoals.org
SUMMARY:Les Mills RPM (Lauren)
DESCRIPTION:
URL:https://www.ymcashoals.org/event/les-mills-rpm-katie/2027-02-01/
LOCATION:YMCA of the Shoals\, 2121 Helton Drive\, Florence\, AL\, 35630\, United States
CATEGORIES:Cycle Fusion (GXR2),Schedules
GEO:34.8324379;-87.6683435
X-APPLE-STRUCTURED-LOCATION;VALUE=URI;X-ADDRESS=YMCA of the Shoals 2121 Helton Drive Florence AL 35630 United States;X-APPLE-RADIUS=500;X-TITLE=2121 Helton Drive:geo:-87.6683435,34.8324379
END:VEVENT
BEGIN:VEVENT
DTSTART;TZID=America/Chicago:20270201T091000
DTEND;TZID=America/Chicago:20270201T100000
DTSTAMP:20260424T055836
CREATED:20260123T135158Z
LAST-MODIFIED:20260123T135158Z
UID:198574-1801473000-1801476000@www.ymcashoals.org
SUMMARY:Y Barre (Casey)
DESCRIPTION:
URL:https://www.ymcashoals.org/event/y-barre-casey/2027-02-01/
LOCATION:YMCA of the Shoals\, 2121 Helton Drive\, Florence\, AL\, 35630\, United States
CATEGORIES:Group Exercise (GXR),Schedules
GEO:34.8324379;-87.6683435
X-APPLE-STRUCTURED-LOCATION;VALUE=URI;X-ADDRESS=YMCA of the Shoals 2121 Helton Drive Florence AL 35630 United States;X-APPLE-RADIUS=500;X-TITLE=2121 Helton Drive:geo:-87.6683435,34.8324379
END:VEVENT
BEGIN:VEVENT
DTSTART;TZID=America/Chicago:20270201T100000
DTEND;TZID=America/Chicago:20270201T150000
DTSTAMP:20260424T055836
CREATED:20260106T210433Z
LAST-MODIFIED:20260106T210433Z
UID:192915-1801476000-1801494000@www.ymcashoals.org
SUMMARY:Open Play (Court B)
DESCRIPTION:
URL:https://www.ymcashoals.org/event/open-play-court-b-16/2027-02-01/
LOCATION:YMCA of the Shoals\, 2121 Helton Drive\, Florence\, AL\, 35630\, United States
CATEGORIES:Gym Courts A & B,Schedules
GEO:34.8324379;-87.6683435
X-APPLE-STRUCTURED-LOCATION;VALUE=URI;X-ADDRESS=YMCA of the Shoals 2121 Helton Drive Florence AL 35630 United States;X-APPLE-RADIUS=500;X-TITLE=2121 Helton Drive:geo:-87.6683435,34.8324379
END:VEVENT
BEGIN:VEVENT
DTSTART;TZID=America/Chicago:20270201T101000
DTEND;TZID=America/Chicago:20270201T110000
DTSTAMP:20260424T055836
CREATED:20250224T205431Z
LAST-MODIFIED:20250224T205431Z
UID:199676-1801476600-1801479600@www.ymcashoals.org
SUMMARY:Muscle Works (Teri)
DESCRIPTION:
URL:https://www.ymcashoals.org/event/muscle-works-teri-2/2027-02-01/
LOCATION:YMCA of the Shoals\, 2121 Helton Drive\, Florence\, AL\, 35630\, United States
CATEGORIES:Group Exercise (GXR),Schedules
GEO:34.8324379;-87.6683435
X-APPLE-STRUCTURED-LOCATION;VALUE=URI;X-ADDRESS=YMCA of the Shoals 2121 Helton Drive Florence AL 35630 United States;X-APPLE-RADIUS=500;X-TITLE=2121 Helton Drive:geo:-87.6683435,34.8324379
END:VEVENT
BEGIN:VEVENT
DTSTART;TZID=America/Chicago:20270201T103000
DTEND;TZID=America/Chicago:20270201T103000
DTSTAMP:20260424T055836
CREATED:20250425T163255Z
LAST-MODIFIED:20250425T163255Z
UID:191486-1801477800-1801477800@www.ymcashoals.org
SUMMARY:Rock Steady Cycle (Steve)
DESCRIPTION:
URL:https://www.ymcashoals.org/event/rock-steady-cycle-steve/2027-02-01/
LOCATION:YMCA of the Shoals\, 2121 Helton Drive\, Florence\, AL\, 35630\, United States
CATEGORIES:Cycle Fusion (GXR2),Schedules
GEO:34.8324379;-87.6683435
X-APPLE-STRUCTURED-LOCATION;VALUE=URI;X-ADDRESS=YMCA of the Shoals 2121 Helton Drive Florence AL 35630 United States;X-APPLE-RADIUS=500;X-TITLE=2121 Helton Drive:geo:-87.6683435,34.8324379
END:VEVENT
BEGIN:VEVENT
DTSTART;TZID=America/Chicago:20270201T110000
DTEND;TZID=America/Chicago:20270201T123000
DTSTAMP:20260424T055836
CREATED:20250425T164620Z
LAST-MODIFIED:20250425T164620Z
UID:191487-1801479600-1801485000@www.ymcashoals.org
SUMMARY:Rock Steady (Sara)
DESCRIPTION:
URL:https://www.ymcashoals.org/event/rock-steady-sara/2027-02-01/
LOCATION:YMCA of the Shoals\, 2121 Helton Drive\, Florence\, AL\, 35630\, United States
CATEGORIES:Group Exercise (GXR),Schedules
GEO:34.8324379;-87.6683435
X-APPLE-STRUCTURED-LOCATION;VALUE=URI;X-ADDRESS=YMCA of the Shoals 2121 Helton Drive Florence AL 35630 United States;X-APPLE-RADIUS=500;X-TITLE=2121 Helton Drive:geo:-87.6683435,34.8324379
END:VEVENT
BEGIN:VEVENT
DTSTART;TZID=America/Chicago:20270201T160000
DTEND;TZID=America/Chicago:20270201T204500
DTSTAMP:20260424T055836
CREATED:20260106T212515Z
LAST-MODIFIED:20260106T212515Z
UID:194966-1801497600-1801514700@www.ymcashoals.org
SUMMARY:Open Play Court A
DESCRIPTION:
URL:https://www.ymcashoals.org/event/open-play-court-a-16/2027-02-01/
LOCATION:YMCA of the Shoals\, 2121 Helton Drive\, Florence\, AL\, 35630\, United States
CATEGORIES:Gym Courts A & B,Schedules
GEO:34.8324379;-87.6683435
X-APPLE-STRUCTURED-LOCATION;VALUE=URI;X-ADDRESS=YMCA of the Shoals 2121 Helton Drive Florence AL 35630 United States;X-APPLE-RADIUS=500;X-TITLE=2121 Helton Drive:geo:-87.6683435,34.8324379
END:VEVENT
BEGIN:VEVENT
DTSTART;TZID=America/Chicago:20270201T163000
DTEND;TZID=America/Chicago:20270201T173000
DTSTAMP:20260424T055836
CREATED:20220201T142504Z
LAST-MODIFIED:20220201T142504Z
UID:197372-1801499400-1801503000@www.ymcashoals.org
SUMMARY:Child Karate
DESCRIPTION:
URL:https://www.ymcashoals.org/event/child-karate-2/2027-02-01/
LOCATION:YMCA of the Shoals\, 2121 Helton Drive\, Florence\, AL\, 35630\, United States
CATEGORIES:Karate - Tang Soo Do,Schedules
GEO:34.8324379;-87.6683435
X-APPLE-STRUCTURED-LOCATION;VALUE=URI;X-ADDRESS=YMCA of the Shoals 2121 Helton Drive Florence AL 35630 United States;X-APPLE-RADIUS=500;X-TITLE=2121 Helton Drive:geo:-87.6683435,34.8324379
END:VEVENT
BEGIN:VEVENT
DTSTART;TZID=America/Chicago:20270201T173000
DTEND;TZID=America/Chicago:20270201T183000
DTSTAMP:20260424T055836
CREATED:20241029T202516Z
LAST-MODIFIED:20241029T202516Z
UID:192733-1801503000-1801506600@www.ymcashoals.org
SUMMARY:Cardio Hip Hop (Ladarius)
DESCRIPTION:
URL:https://www.ymcashoals.org/event/cardio-hip-hop-ladarius-4/2027-02-01/
LOCATION:YMCA of the Shoals\, 2121 Helton Drive\, Florence\, AL\, 35630\, United States
CATEGORIES:Group Exercise (GXR),Schedules
GEO:34.8324379;-87.6683435
X-APPLE-STRUCTURED-LOCATION;VALUE=URI;X-ADDRESS=YMCA of the Shoals 2121 Helton Drive Florence AL 35630 United States;X-APPLE-RADIUS=500;X-TITLE=2121 Helton Drive:geo:-87.6683435,34.8324379
END:VEVENT
BEGIN:VEVENT
DTSTART;TZID=America/Chicago:20270201T181500
DTEND;TZID=America/Chicago:20270201T193000
DTSTAMP:20260424T055836
CREATED:20220201T142626Z
LAST-MODIFIED:20220201T142626Z
UID:196691-1801505700-1801510200@www.ymcashoals.org
SUMMARY:Adult Karate
DESCRIPTION:
URL:https://www.ymcashoals.org/event/adult-karate-3/2027-02-01/
LOCATION:YMCA of the Shoals\, 2121 Helton Drive\, Florence\, AL\, 35630\, United States
CATEGORIES:Karate - Tang Soo Do,Schedules
GEO:34.8324379;-87.6683435
X-APPLE-STRUCTURED-LOCATION;VALUE=URI;X-ADDRESS=YMCA of the Shoals 2121 Helton Drive Florence AL 35630 United States;X-APPLE-RADIUS=500;X-TITLE=2121 Helton Drive:geo:-87.6683435,34.8324379
END:VEVENT
BEGIN:VEVENT
DTSTART;TZID=America/Chicago:20270201T203000
DTEND;TZID=America/Chicago:20270201T210000
DTSTAMP:20260424T055836
CREATED:20260106T210635Z
LAST-MODIFIED:20260106T210635Z
UID:193424-1801513800-1801515600@www.ymcashoals.org
SUMMARY:Open Play (Court B)
DESCRIPTION:
URL:https://www.ymcashoals.org/event/open-play-court-b-17/2027-02-01/
LOCATION:YMCA of the Shoals\, 2121 Helton Drive\, Florence\, AL\, 35630\, United States
CATEGORIES:Gym Courts A & B,Schedules
GEO:34.8324379;-87.6683435
X-APPLE-STRUCTURED-LOCATION;VALUE=URI;X-ADDRESS=YMCA of the Shoals 2121 Helton Drive Florence AL 35630 United States;X-APPLE-RADIUS=500;X-TITLE=2121 Helton Drive:geo:-87.6683435,34.8324379
END:VEVENT
BEGIN:VEVENT
DTSTART;TZID=America/Chicago:20270202T050000
DTEND;TZID=America/Chicago:20270202T100000
DTSTAMP:20260424T055836
CREATED:20260106T212627Z
LAST-MODIFIED:20260106T212627Z
UID:195082-1801544400-1801562400@www.ymcashoals.org
SUMMARY:Open Play Court A
DESCRIPTION:
URL:https://www.ymcashoals.org/event/open-play-court-a-17/2027-02-02/
LOCATION:YMCA of the Shoals\, 2121 Helton Drive\, Florence\, AL\, 35630\, United States
CATEGORIES:Gym Courts A & B,Schedules
GEO:34.8324379;-87.6683435
X-APPLE-STRUCTURED-LOCATION;VALUE=URI;X-ADDRESS=YMCA of the Shoals 2121 Helton Drive Florence AL 35630 United States;X-APPLE-RADIUS=500;X-TITLE=2121 Helton Drive:geo:-87.6683435,34.8324379
END:VEVENT
BEGIN:VEVENT
DTSTART;TZID=America/Chicago:20270202T080000
DTEND;TZID=America/Chicago:20270202T085000
DTSTAMP:20260424T055836
CREATED:20230227T143730Z
LAST-MODIFIED:20230227T143730Z
UID:200109-1801555200-1801558200@www.ymcashoals.org
SUMMARY:Step & Strength (Angela V.)
DESCRIPTION:
URL:https://www.ymcashoals.org/event/fusion-fit-angela-v/2027-02-02/
LOCATION:YMCA of the Shoals\, 2121 Helton Drive\, Florence\, AL\, 35630\, United States
CATEGORIES:Schedules,Spirit/Mind/Body (GXR3)
GEO:34.8324379;-87.6683435
X-APPLE-STRUCTURED-LOCATION;VALUE=URI;X-ADDRESS=YMCA of the Shoals 2121 Helton Drive Florence AL 35630 United States;X-APPLE-RADIUS=500;X-TITLE=2121 Helton Drive:geo:-87.6683435,34.8324379
END:VEVENT
BEGIN:VEVENT
DTSTART;TZID=America/Chicago:20270202T080000
DTEND;TZID=America/Chicago:20270202T085000
DTSTAMP:20260424T055836
CREATED:20230227T143730Z
LAST-MODIFIED:20230227T143730Z
UID:199452-1801555200-1801558200@www.ymcashoals.org
SUMMARY:Step & Strength (Angela V.)
DESCRIPTION:
URL:https://www.ymcashoals.org/event/fusion-fit-angela-v/2027-02-02/
LOCATION:YMCA of the Shoals\, 2121 Helton Drive\, Florence\, AL\, 35630\, United States
CATEGORIES:Schedules,Spirit/Mind/Body (GXR3)
GEO:34.8324379;-87.6683435
X-APPLE-STRUCTURED-LOCATION;VALUE=URI;X-ADDRESS=YMCA of the Shoals 2121 Helton Drive Florence AL 35630 United States;X-APPLE-RADIUS=500;X-TITLE=2121 Helton Drive:geo:-87.6683435,34.8324379
END:VEVENT
BEGIN:VEVENT
DTSTART;TZID=America/Chicago:20270202T081000
DTEND;TZID=America/Chicago:20270202T090000
DTSTAMP:20260424T055836
CREATED:20240424T190848Z
LAST-MODIFIED:20240424T190848Z
UID:191490-1801555800-1801558800@www.ymcashoals.org
SUMMARY:Body Pump (Christy)
DESCRIPTION:
URL:https://www.ymcashoals.org/event/body-pump-christy/2027-02-02/
LOCATION:YMCA of the Shoals\, 2121 Helton Drive\, Florence\, AL\, 35630\, United States
CATEGORIES:Group Exercise (GXR),Schedules
GEO:34.8324379;-87.6683435
X-APPLE-STRUCTURED-LOCATION;VALUE=URI;X-ADDRESS=YMCA of the Shoals 2121 Helton Drive Florence AL 35630 United States;X-APPLE-RADIUS=500;X-TITLE=2121 Helton Drive:geo:-87.6683435,34.8324379
END:VEVENT
BEGIN:VEVENT
DTSTART;TZID=America/Chicago:20270202T100000
DTEND;TZID=America/Chicago:20270202T120000
DTSTAMP:20260424T055836
CREATED:20260106T211109Z
LAST-MODIFIED:20260106T211109Z
UID:193722-1801562400-1801569600@www.ymcashoals.org
SUMMARY:Pickleball (Courts A&B)
DESCRIPTION:
URL:https://www.ymcashoals.org/event/pickleball-courts-ab/2027-02-02/
LOCATION:YMCA of the Shoals\, 2121 Helton Drive\, Florence\, AL\, 35630\, United States
CATEGORIES:Gym Courts A & B,Schedules
GEO:34.8324379;-87.6683435
X-APPLE-STRUCTURED-LOCATION;VALUE=URI;X-ADDRESS=YMCA of the Shoals 2121 Helton Drive Florence AL 35630 United States;X-APPLE-RADIUS=500;X-TITLE=2121 Helton Drive:geo:-87.6683435,34.8324379
END:VEVENT
BEGIN:VEVENT
DTSTART;TZID=America/Chicago:20270202T101500
DTEND;TZID=America/Chicago:20270202T110000
DTSTAMP:20260424T055836
CREATED:20211227T172519Z
LAST-MODIFIED:20211227T172519Z
UID:191489-1801563300-1801566000@www.ymcashoals.org
SUMMARY:Yoga in Chairs (Ryan L.)
DESCRIPTION:
URL:https://www.ymcashoals.org/event/yoga-in-chairs-ryan-l-3/2027-02-02/
LOCATION:YMCA of the Shoals\, 2121 Helton Drive\, Florence\, AL\, 35630\, United States
CATEGORIES:Schedules,Spirit/Mind/Body (GXR3)
GEO:34.8324379;-87.6683435
X-APPLE-STRUCTURED-LOCATION;VALUE=URI;X-ADDRESS=YMCA of the Shoals 2121 Helton Drive Florence AL 35630 United States;X-APPLE-RADIUS=500;X-TITLE=2121 Helton Drive:geo:-87.6683435,34.8324379
END:VEVENT
BEGIN:VEVENT
DTSTART;TZID=America/Chicago:20270202T120000
DTEND;TZID=America/Chicago:20270202T150000
DTSTAMP:20260424T055836
CREATED:20260106T211231Z
LAST-MODIFIED:20260106T211231Z
UID:193837-1801569600-1801580400@www.ymcashoals.org
SUMMARY:Open Play (Court B)
DESCRIPTION:
URL:https://www.ymcashoals.org/event/open-play-court-b-18/2027-02-02/
LOCATION:YMCA of the Shoals\, 2121 Helton Drive\, Florence\, AL\, 35630\, United States
CATEGORIES:Gym Courts A & B,Schedules
GEO:34.8324379;-87.6683435
X-APPLE-STRUCTURED-LOCATION;VALUE=URI;X-ADDRESS=YMCA of the Shoals 2121 Helton Drive Florence AL 35630 United States;X-APPLE-RADIUS=500;X-TITLE=2121 Helton Drive:geo:-87.6683435,34.8324379
END:VEVENT
BEGIN:VEVENT
DTSTART;TZID=America/Chicago:20270202T120000
DTEND;TZID=America/Chicago:20270202T150000
DTSTAMP:20260424T055836
CREATED:20260106T212716Z
LAST-MODIFIED:20260106T212716Z
UID:195197-1801569600-1801580400@www.ymcashoals.org
SUMMARY:Open Play Court A
DESCRIPTION:
URL:https://www.ymcashoals.org/event/open-play-court-a-18/2027-02-02/
LOCATION:YMCA of the Shoals\, 2121 Helton Drive\, Florence\, AL\, 35630\, United States
CATEGORIES:Gym Courts A & B,Schedules
GEO:34.8324379;-87.6683435
X-APPLE-STRUCTURED-LOCATION;VALUE=URI;X-ADDRESS=YMCA of the Shoals 2121 Helton Drive Florence AL 35630 United States;X-APPLE-RADIUS=500;X-TITLE=2121 Helton Drive:geo:-87.6683435,34.8324379
END:VEVENT
BEGIN:VEVENT
DTSTART;TZID=America/Chicago:20270202T121500
DTEND;TZID=America/Chicago:20270202T130000
DTSTAMP:20260424T055836
CREATED:20250224T205211Z
LAST-MODIFIED:20250224T205211Z
UID:192544-1801570500-1801573200@www.ymcashoals.org
SUMMARY:Body & Balance (Teri)
DESCRIPTION:
URL:https://www.ymcashoals.org/event/body-balance-teri-2/2027-02-02/
LOCATION:YMCA of the Shoals\, 2121 Helton Drive\, Florence\, AL\, 35630\, United States
CATEGORIES:Group Exercise (GXR),Schedules
GEO:34.8324379;-87.6683435
X-APPLE-STRUCTURED-LOCATION;VALUE=URI;X-ADDRESS=YMCA of the Shoals 2121 Helton Drive Florence AL 35630 United States;X-APPLE-RADIUS=500;X-TITLE=2121 Helton Drive:geo:-87.6683435,34.8324379
END:VEVENT
BEGIN:VEVENT
DTSTART;TZID=America/Chicago:20270202T154500
DTEND;TZID=America/Chicago:20270202T174500
DTSTAMP:20260424T055836
CREATED:20250117T194708Z
LAST-MODIFIED:20250117T194708Z
UID:193959-1801583100-1801590300@www.ymcashoals.org
SUMMARY:Gymnastics
DESCRIPTION:*Based on child’s age. Must register in advance. One session per week\, per child.
URL:https://www.ymcashoals.org/event/gymnastics/2027-02-02/
LOCATION:YMCA of the Shoals\, 2121 Helton Drive\, Florence\, AL\, 35630\, United States
CATEGORIES:Gymnastics,Schedules
GEO:34.8324379;-87.6683435
X-APPLE-STRUCTURED-LOCATION;VALUE=URI;X-ADDRESS=YMCA of the Shoals 2121 Helton Drive Florence AL 35630 United States;X-APPLE-RADIUS=500;X-TITLE=2121 Helton Drive:geo:-87.6683435,34.8324379
END:VEVENT
BEGIN:VEVENT
DTSTART;TZID=America/Chicago:20270202T160000
DTEND;TZID=America/Chicago:20270202T180000
DTSTAMP:20260424T055836
CREATED:20260106T212752Z
LAST-MODIFIED:20260106T212752Z
UID:195312-1801584000-1801591200@www.ymcashoals.org
SUMMARY:Open Play Court A
DESCRIPTION:
URL:https://www.ymcashoals.org/event/open-play-court-a-19/2027-02-02/
LOCATION:YMCA of the Shoals\, 2121 Helton Drive\, Florence\, AL\, 35630\, United States
CATEGORIES:Gym Courts A & B,Schedules
GEO:34.8324379;-87.6683435
X-APPLE-STRUCTURED-LOCATION;VALUE=URI;X-ADDRESS=YMCA of the Shoals 2121 Helton Drive Florence AL 35630 United States;X-APPLE-RADIUS=500;X-TITLE=2121 Helton Drive:geo:-87.6683435,34.8324379
END:VEVENT
BEGIN:VEVENT
DTSTART;TZID=America/Chicago:20270202T173000
DTEND;TZID=America/Chicago:20270202T183000
DTSTAMP:20260424T055836
CREATED:20260123T134730Z
LAST-MODIFIED:20260123T134806Z
UID:198357-1801589400-1801593000@www.ymcashoals.org
SUMMARY:Barre (Racheal)
DESCRIPTION:
URL:https://www.ymcashoals.org/event/198304/2027-02-02/
LOCATION:YMCA of the Shoals\, 2121 Helton Drive\, Florence\, AL\, 35630\, United States
CATEGORIES:Schedules,Spirit/Mind/Body (GXR3)
GEO:34.8324379;-87.6683435
X-APPLE-STRUCTURED-LOCATION;VALUE=URI;X-ADDRESS=YMCA of the Shoals 2121 Helton Drive Florence AL 35630 United States;X-APPLE-RADIUS=500;X-TITLE=2121 Helton Drive:geo:-87.6683435,34.8324379
END:VEVENT
BEGIN:VEVENT
DTSTART;TZID=America/Chicago:20270202T183000
DTEND;TZID=America/Chicago:20270202T203000
DTSTAMP:20260424T055836
CREATED:20250530T132458Z
LAST-MODIFIED:20250530T132458Z
UID:193607-1801593000-1801600200@www.ymcashoals.org
SUMMARY:PICKLEBALL - Court A & B
DESCRIPTION:
URL:https://www.ymcashoals.org/event/pickleball-court-a-8/2027-02-02/
LOCATION:YMCA of the Shoals\, 2121 Helton Drive\, Florence\, AL\, 35630\, United States
CATEGORIES:Gym Courts A & B,Schedules
GEO:34.8324379;-87.6683435
X-APPLE-STRUCTURED-LOCATION;VALUE=URI;X-ADDRESS=YMCA of the Shoals 2121 Helton Drive Florence AL 35630 United States;X-APPLE-RADIUS=500;X-TITLE=2121 Helton Drive:geo:-87.6683435,34.8324379
END:VEVENT
END:VCALENDAR