BEGIN:VCALENDAR
VERSION:2.0
PRODID:-//YMCA of the Shoals - ECPv6.15.20//NONSGML v1.0//EN
CALSCALE:GREGORIAN
METHOD:PUBLISH
X-ORIGINAL-URL:https://www.ymcashoals.org
X-WR-CALDESC:Events for YMCA of the Shoals
REFRESH-INTERVAL;VALUE=DURATION:PT1H
X-Robots-Tag:noindex
X-PUBLISHED-TTL:PT1H
BEGIN:VTIMEZONE
TZID:America/Chicago
BEGIN:DAYLIGHT
TZOFFSETFROM:-0600
TZOFFSETTO:-0500
TZNAME:CDT
DTSTART:20250309T080000
END:DAYLIGHT
BEGIN:STANDARD
TZOFFSETFROM:-0500
TZOFFSETTO:-0600
TZNAME:CST
DTSTART:20251102T070000
END:STANDARD
BEGIN:DAYLIGHT
TZOFFSETFROM:-0600
TZOFFSETTO:-0500
TZNAME:CDT
DTSTART:20260308T080000
END:DAYLIGHT
BEGIN:STANDARD
TZOFFSETFROM:-0500
TZOFFSETTO:-0600
TZNAME:CST
DTSTART:20261101T070000
END:STANDARD
BEGIN:DAYLIGHT
TZOFFSETFROM:-0600
TZOFFSETTO:-0500
TZNAME:CDT
DTSTART:20270314T080000
END:DAYLIGHT
BEGIN:STANDARD
TZOFFSETFROM:-0500
TZOFFSETTO:-0600
TZNAME:CST
DTSTART:20271107T070000
END:STANDARD
END:VTIMEZONE
BEGIN:VEVENT
DTSTART;TZID=America/Chicago:20260424T101500
DTEND;TZID=America/Chicago:20260424T110000
DTSTAMP:20260423T134421
CREATED:20241029T201628Z
LAST-MODIFIED:20260116T185745Z
UID:192053-1777025700-1777028400@www.ymcashoals.org
SUMMARY:Yoga In Chairs (Sheila)
DESCRIPTION:
URL:https://www.ymcashoals.org/event/yoga-in-chairs-sheila/2026-04-24/
LOCATION:YMCA of the Shoals\, 2121 Helton Drive\, Florence\, AL\, 35630\, United States
CATEGORIES:Schedules,Spirit/Mind/Body (GXR3)
GEO:34.8324379;-87.6683435
X-APPLE-STRUCTURED-LOCATION;VALUE=URI;X-ADDRESS=YMCA of the Shoals 2121 Helton Drive Florence AL 35630 United States;X-APPLE-RADIUS=500;X-TITLE=2121 Helton Drive:geo:-87.6683435,34.8324379
END:VEVENT
BEGIN:VEVENT
DTSTART;TZID=America/Chicago:20260430T101500
DTEND;TZID=America/Chicago:20260430T110000
DTSTAMP:20260423T134421
CREATED:20241029T201628Z
LAST-MODIFIED:20241029T201628Z
UID:197497-1777544100-1777546800@www.ymcashoals.org
SUMMARY:Yoga In Chairs (Sheila)
DESCRIPTION:
URL:https://www.ymcashoals.org/event/yoga-in-chairs-sheila/2026-04-30/
LOCATION:YMCA of the Shoals\, 2121 Helton Drive\, Florence\, AL\, 35630\, United States
CATEGORIES:Schedules,Spirit/Mind/Body (GXR3)
GEO:34.8324379;-87.6683435
X-APPLE-STRUCTURED-LOCATION;VALUE=URI;X-ADDRESS=YMCA of the Shoals 2121 Helton Drive Florence AL 35630 United States;X-APPLE-RADIUS=500;X-TITLE=2121 Helton Drive:geo:-87.6683435,34.8324379
END:VEVENT
BEGIN:VEVENT
DTSTART;TZID=America/Chicago:20260501T101500
DTEND;TZID=America/Chicago:20260501T110000
DTSTAMP:20260423T134421
CREATED:20241029T201628Z
LAST-MODIFIED:20260116T185745Z
UID:192054-1777630500-1777633200@www.ymcashoals.org
SUMMARY:Yoga In Chairs (Sheila)
DESCRIPTION:
URL:https://www.ymcashoals.org/event/yoga-in-chairs-sheila/2026-05-01/
LOCATION:YMCA of the Shoals\, 2121 Helton Drive\, Florence\, AL\, 35630\, United States
CATEGORIES:Schedules,Spirit/Mind/Body (GXR3)
GEO:34.8324379;-87.6683435
X-APPLE-STRUCTURED-LOCATION;VALUE=URI;X-ADDRESS=YMCA of the Shoals 2121 Helton Drive Florence AL 35630 United States;X-APPLE-RADIUS=500;X-TITLE=2121 Helton Drive:geo:-87.6683435,34.8324379
END:VEVENT
BEGIN:VEVENT
DTSTART;TZID=America/Chicago:20260507T101500
DTEND;TZID=America/Chicago:20260507T110000
DTSTAMP:20260423T134421
CREATED:20241029T201628Z
LAST-MODIFIED:20241029T201628Z
UID:197498-1778148900-1778151600@www.ymcashoals.org
SUMMARY:Yoga In Chairs (Sheila)
DESCRIPTION:
URL:https://www.ymcashoals.org/event/yoga-in-chairs-sheila/2026-05-07/
LOCATION:YMCA of the Shoals\, 2121 Helton Drive\, Florence\, AL\, 35630\, United States
CATEGORIES:Schedules,Spirit/Mind/Body (GXR3)
GEO:34.8324379;-87.6683435
X-APPLE-STRUCTURED-LOCATION;VALUE=URI;X-ADDRESS=YMCA of the Shoals 2121 Helton Drive Florence AL 35630 United States;X-APPLE-RADIUS=500;X-TITLE=2121 Helton Drive:geo:-87.6683435,34.8324379
END:VEVENT
BEGIN:VEVENT
DTSTART;TZID=America/Chicago:20260508T101500
DTEND;TZID=America/Chicago:20260508T110000
DTSTAMP:20260423T134421
CREATED:20241029T201628Z
LAST-MODIFIED:20260116T185745Z
UID:192055-1778235300-1778238000@www.ymcashoals.org
SUMMARY:Yoga In Chairs (Sheila)
DESCRIPTION:
URL:https://www.ymcashoals.org/event/yoga-in-chairs-sheila/2026-05-08/
LOCATION:YMCA of the Shoals\, 2121 Helton Drive\, Florence\, AL\, 35630\, United States
CATEGORIES:Schedules,Spirit/Mind/Body (GXR3)
GEO:34.8324379;-87.6683435
X-APPLE-STRUCTURED-LOCATION;VALUE=URI;X-ADDRESS=YMCA of the Shoals 2121 Helton Drive Florence AL 35630 United States;X-APPLE-RADIUS=500;X-TITLE=2121 Helton Drive:geo:-87.6683435,34.8324379
END:VEVENT
BEGIN:VEVENT
DTSTART;TZID=America/Chicago:20260514T101500
DTEND;TZID=America/Chicago:20260514T110000
DTSTAMP:20260423T134421
CREATED:20241029T201628Z
LAST-MODIFIED:20241029T201628Z
UID:197499-1778753700-1778756400@www.ymcashoals.org
SUMMARY:Yoga In Chairs (Sheila)
DESCRIPTION:
URL:https://www.ymcashoals.org/event/yoga-in-chairs-sheila/2026-05-14/
LOCATION:YMCA of the Shoals\, 2121 Helton Drive\, Florence\, AL\, 35630\, United States
CATEGORIES:Schedules,Spirit/Mind/Body (GXR3)
GEO:34.8324379;-87.6683435
X-APPLE-STRUCTURED-LOCATION;VALUE=URI;X-ADDRESS=YMCA of the Shoals 2121 Helton Drive Florence AL 35630 United States;X-APPLE-RADIUS=500;X-TITLE=2121 Helton Drive:geo:-87.6683435,34.8324379
END:VEVENT
BEGIN:VEVENT
DTSTART;TZID=America/Chicago:20260515T101500
DTEND;TZID=America/Chicago:20260515T110000
DTSTAMP:20260423T134421
CREATED:20241029T201628Z
LAST-MODIFIED:20260116T185745Z
UID:192056-1778840100-1778842800@www.ymcashoals.org
SUMMARY:Yoga In Chairs (Sheila)
DESCRIPTION:
URL:https://www.ymcashoals.org/event/yoga-in-chairs-sheila/2026-05-15/
LOCATION:YMCA of the Shoals\, 2121 Helton Drive\, Florence\, AL\, 35630\, United States
CATEGORIES:Schedules,Spirit/Mind/Body (GXR3)
GEO:34.8324379;-87.6683435
X-APPLE-STRUCTURED-LOCATION;VALUE=URI;X-ADDRESS=YMCA of the Shoals 2121 Helton Drive Florence AL 35630 United States;X-APPLE-RADIUS=500;X-TITLE=2121 Helton Drive:geo:-87.6683435,34.8324379
END:VEVENT
BEGIN:VEVENT
DTSTART;TZID=America/Chicago:20260521T101500
DTEND;TZID=America/Chicago:20260521T110000
DTSTAMP:20260423T134421
CREATED:20241029T201628Z
LAST-MODIFIED:20241029T201628Z
UID:197500-1779358500-1779361200@www.ymcashoals.org
SUMMARY:Yoga In Chairs (Sheila)
DESCRIPTION:
URL:https://www.ymcashoals.org/event/yoga-in-chairs-sheila/2026-05-21/
LOCATION:YMCA of the Shoals\, 2121 Helton Drive\, Florence\, AL\, 35630\, United States
CATEGORIES:Schedules,Spirit/Mind/Body (GXR3)
GEO:34.8324379;-87.6683435
X-APPLE-STRUCTURED-LOCATION;VALUE=URI;X-ADDRESS=YMCA of the Shoals 2121 Helton Drive Florence AL 35630 United States;X-APPLE-RADIUS=500;X-TITLE=2121 Helton Drive:geo:-87.6683435,34.8324379
END:VEVENT
BEGIN:VEVENT
DTSTART;TZID=America/Chicago:20260522T101500
DTEND;TZID=America/Chicago:20260522T110000
DTSTAMP:20260423T134421
CREATED:20241029T201628Z
LAST-MODIFIED:20260116T185745Z
UID:192057-1779444900-1779447600@www.ymcashoals.org
SUMMARY:Yoga In Chairs (Sheila)
DESCRIPTION:
URL:https://www.ymcashoals.org/event/yoga-in-chairs-sheila/2026-05-22/
LOCATION:YMCA of the Shoals\, 2121 Helton Drive\, Florence\, AL\, 35630\, United States
CATEGORIES:Schedules,Spirit/Mind/Body (GXR3)
GEO:34.8324379;-87.6683435
X-APPLE-STRUCTURED-LOCATION;VALUE=URI;X-ADDRESS=YMCA of the Shoals 2121 Helton Drive Florence AL 35630 United States;X-APPLE-RADIUS=500;X-TITLE=2121 Helton Drive:geo:-87.6683435,34.8324379
END:VEVENT
BEGIN:VEVENT
DTSTART;TZID=America/Chicago:20260528T101500
DTEND;TZID=America/Chicago:20260528T110000
DTSTAMP:20260423T134421
CREATED:20241029T201628Z
LAST-MODIFIED:20241029T201628Z
UID:197501-1779963300-1779966000@www.ymcashoals.org
SUMMARY:Yoga In Chairs (Sheila)
DESCRIPTION:
URL:https://www.ymcashoals.org/event/yoga-in-chairs-sheila/2026-05-28/
LOCATION:YMCA of the Shoals\, 2121 Helton Drive\, Florence\, AL\, 35630\, United States
CATEGORIES:Schedules,Spirit/Mind/Body (GXR3)
GEO:34.8324379;-87.6683435
X-APPLE-STRUCTURED-LOCATION;VALUE=URI;X-ADDRESS=YMCA of the Shoals 2121 Helton Drive Florence AL 35630 United States;X-APPLE-RADIUS=500;X-TITLE=2121 Helton Drive:geo:-87.6683435,34.8324379
END:VEVENT
BEGIN:VEVENT
DTSTART;TZID=America/Chicago:20260529T101500
DTEND;TZID=America/Chicago:20260529T110000
DTSTAMP:20260423T134421
CREATED:20241029T201628Z
LAST-MODIFIED:20260116T185745Z
UID:192058-1780049700-1780052400@www.ymcashoals.org
SUMMARY:Yoga In Chairs (Sheila)
DESCRIPTION:
URL:https://www.ymcashoals.org/event/yoga-in-chairs-sheila/2026-05-29/
LOCATION:YMCA of the Shoals\, 2121 Helton Drive\, Florence\, AL\, 35630\, United States
CATEGORIES:Schedules,Spirit/Mind/Body (GXR3)
GEO:34.8324379;-87.6683435
X-APPLE-STRUCTURED-LOCATION;VALUE=URI;X-ADDRESS=YMCA of the Shoals 2121 Helton Drive Florence AL 35630 United States;X-APPLE-RADIUS=500;X-TITLE=2121 Helton Drive:geo:-87.6683435,34.8324379
END:VEVENT
BEGIN:VEVENT
DTSTART;TZID=America/Chicago:20260604T101500
DTEND;TZID=America/Chicago:20260604T110000
DTSTAMP:20260423T134421
CREATED:20241029T201628Z
LAST-MODIFIED:20241029T201628Z
UID:197502-1780568100-1780570800@www.ymcashoals.org
SUMMARY:Yoga In Chairs (Sheila)
DESCRIPTION:
URL:https://www.ymcashoals.org/event/yoga-in-chairs-sheila/2026-06-04/
LOCATION:YMCA of the Shoals\, 2121 Helton Drive\, Florence\, AL\, 35630\, United States
CATEGORIES:Schedules,Spirit/Mind/Body (GXR3)
GEO:34.8324379;-87.6683435
X-APPLE-STRUCTURED-LOCATION;VALUE=URI;X-ADDRESS=YMCA of the Shoals 2121 Helton Drive Florence AL 35630 United States;X-APPLE-RADIUS=500;X-TITLE=2121 Helton Drive:geo:-87.6683435,34.8324379
END:VEVENT
BEGIN:VEVENT
DTSTART;TZID=America/Chicago:20260605T101500
DTEND;TZID=America/Chicago:20260605T110000
DTSTAMP:20260423T134421
CREATED:20241029T201628Z
LAST-MODIFIED:20260116T185745Z
UID:192059-1780654500-1780657200@www.ymcashoals.org
SUMMARY:Yoga In Chairs (Sheila)
DESCRIPTION:
URL:https://www.ymcashoals.org/event/yoga-in-chairs-sheila/2026-06-05/
LOCATION:YMCA of the Shoals\, 2121 Helton Drive\, Florence\, AL\, 35630\, United States
CATEGORIES:Schedules,Spirit/Mind/Body (GXR3)
GEO:34.8324379;-87.6683435
X-APPLE-STRUCTURED-LOCATION;VALUE=URI;X-ADDRESS=YMCA of the Shoals 2121 Helton Drive Florence AL 35630 United States;X-APPLE-RADIUS=500;X-TITLE=2121 Helton Drive:geo:-87.6683435,34.8324379
END:VEVENT
BEGIN:VEVENT
DTSTART;TZID=America/Chicago:20260611T101500
DTEND;TZID=America/Chicago:20260611T110000
DTSTAMP:20260423T134421
CREATED:20241029T201628Z
LAST-MODIFIED:20241029T201628Z
UID:197503-1781172900-1781175600@www.ymcashoals.org
SUMMARY:Yoga In Chairs (Sheila)
DESCRIPTION:
URL:https://www.ymcashoals.org/event/yoga-in-chairs-sheila/2026-06-11/
LOCATION:YMCA of the Shoals\, 2121 Helton Drive\, Florence\, AL\, 35630\, United States
CATEGORIES:Schedules,Spirit/Mind/Body (GXR3)
GEO:34.8324379;-87.6683435
X-APPLE-STRUCTURED-LOCATION;VALUE=URI;X-ADDRESS=YMCA of the Shoals 2121 Helton Drive Florence AL 35630 United States;X-APPLE-RADIUS=500;X-TITLE=2121 Helton Drive:geo:-87.6683435,34.8324379
END:VEVENT
BEGIN:VEVENT
DTSTART;TZID=America/Chicago:20260612T101500
DTEND;TZID=America/Chicago:20260612T110000
DTSTAMP:20260423T134421
CREATED:20241029T201628Z
LAST-MODIFIED:20260116T185745Z
UID:192060-1781259300-1781262000@www.ymcashoals.org
SUMMARY:Yoga In Chairs (Sheila)
DESCRIPTION:
URL:https://www.ymcashoals.org/event/yoga-in-chairs-sheila/2026-06-12/
LOCATION:YMCA of the Shoals\, 2121 Helton Drive\, Florence\, AL\, 35630\, United States
CATEGORIES:Schedules,Spirit/Mind/Body (GXR3)
GEO:34.8324379;-87.6683435
X-APPLE-STRUCTURED-LOCATION;VALUE=URI;X-ADDRESS=YMCA of the Shoals 2121 Helton Drive Florence AL 35630 United States;X-APPLE-RADIUS=500;X-TITLE=2121 Helton Drive:geo:-87.6683435,34.8324379
END:VEVENT
BEGIN:VEVENT
DTSTART;TZID=America/Chicago:20260618T101500
DTEND;TZID=America/Chicago:20260618T110000
DTSTAMP:20260423T134421
CREATED:20241029T201628Z
LAST-MODIFIED:20241029T201628Z
UID:197504-1781777700-1781780400@www.ymcashoals.org
SUMMARY:Yoga In Chairs (Sheila)
DESCRIPTION:
URL:https://www.ymcashoals.org/event/yoga-in-chairs-sheila/2026-06-18/
LOCATION:YMCA of the Shoals\, 2121 Helton Drive\, Florence\, AL\, 35630\, United States
CATEGORIES:Schedules,Spirit/Mind/Body (GXR3)
GEO:34.8324379;-87.6683435
X-APPLE-STRUCTURED-LOCATION;VALUE=URI;X-ADDRESS=YMCA of the Shoals 2121 Helton Drive Florence AL 35630 United States;X-APPLE-RADIUS=500;X-TITLE=2121 Helton Drive:geo:-87.6683435,34.8324379
END:VEVENT
BEGIN:VEVENT
DTSTART;TZID=America/Chicago:20260619T101500
DTEND;TZID=America/Chicago:20260619T110000
DTSTAMP:20260423T134421
CREATED:20241029T201628Z
LAST-MODIFIED:20260116T185745Z
UID:192061-1781864100-1781866800@www.ymcashoals.org
SUMMARY:Yoga In Chairs (Sheila)
DESCRIPTION:
URL:https://www.ymcashoals.org/event/yoga-in-chairs-sheila/2026-06-19/
LOCATION:YMCA of the Shoals\, 2121 Helton Drive\, Florence\, AL\, 35630\, United States
CATEGORIES:Schedules,Spirit/Mind/Body (GXR3)
GEO:34.8324379;-87.6683435
X-APPLE-STRUCTURED-LOCATION;VALUE=URI;X-ADDRESS=YMCA of the Shoals 2121 Helton Drive Florence AL 35630 United States;X-APPLE-RADIUS=500;X-TITLE=2121 Helton Drive:geo:-87.6683435,34.8324379
END:VEVENT
BEGIN:VEVENT
DTSTART;TZID=America/Chicago:20260625T101500
DTEND;TZID=America/Chicago:20260625T110000
DTSTAMP:20260423T134421
CREATED:20241029T201628Z
LAST-MODIFIED:20241029T201628Z
UID:197505-1782382500-1782385200@www.ymcashoals.org
SUMMARY:Yoga In Chairs (Sheila)
DESCRIPTION:
URL:https://www.ymcashoals.org/event/yoga-in-chairs-sheila/2026-06-25/
LOCATION:YMCA of the Shoals\, 2121 Helton Drive\, Florence\, AL\, 35630\, United States
CATEGORIES:Schedules,Spirit/Mind/Body (GXR3)
GEO:34.8324379;-87.6683435
X-APPLE-STRUCTURED-LOCATION;VALUE=URI;X-ADDRESS=YMCA of the Shoals 2121 Helton Drive Florence AL 35630 United States;X-APPLE-RADIUS=500;X-TITLE=2121 Helton Drive:geo:-87.6683435,34.8324379
END:VEVENT
BEGIN:VEVENT
DTSTART;TZID=America/Chicago:20260626T101500
DTEND;TZID=America/Chicago:20260626T110000
DTSTAMP:20260423T134421
CREATED:20241029T201628Z
LAST-MODIFIED:20260116T185745Z
UID:192062-1782468900-1782471600@www.ymcashoals.org
SUMMARY:Yoga In Chairs (Sheila)
DESCRIPTION:
URL:https://www.ymcashoals.org/event/yoga-in-chairs-sheila/2026-06-26/
LOCATION:YMCA of the Shoals\, 2121 Helton Drive\, Florence\, AL\, 35630\, United States
CATEGORIES:Schedules,Spirit/Mind/Body (GXR3)
GEO:34.8324379;-87.6683435
X-APPLE-STRUCTURED-LOCATION;VALUE=URI;X-ADDRESS=YMCA of the Shoals 2121 Helton Drive Florence AL 35630 United States;X-APPLE-RADIUS=500;X-TITLE=2121 Helton Drive:geo:-87.6683435,34.8324379
END:VEVENT
BEGIN:VEVENT
DTSTART;TZID=America/Chicago:20260702T101500
DTEND;TZID=America/Chicago:20260702T110000
DTSTAMP:20260423T134421
CREATED:20241029T201628Z
LAST-MODIFIED:20241029T201628Z
UID:197506-1782987300-1782990000@www.ymcashoals.org
SUMMARY:Yoga In Chairs (Sheila)
DESCRIPTION:
URL:https://www.ymcashoals.org/event/yoga-in-chairs-sheila/2026-07-02/
LOCATION:YMCA of the Shoals\, 2121 Helton Drive\, Florence\, AL\, 35630\, United States
CATEGORIES:Schedules,Spirit/Mind/Body (GXR3)
GEO:34.8324379;-87.6683435
X-APPLE-STRUCTURED-LOCATION;VALUE=URI;X-ADDRESS=YMCA of the Shoals 2121 Helton Drive Florence AL 35630 United States;X-APPLE-RADIUS=500;X-TITLE=2121 Helton Drive:geo:-87.6683435,34.8324379
END:VEVENT
BEGIN:VEVENT
DTSTART;TZID=America/Chicago:20260703T101500
DTEND;TZID=America/Chicago:20260703T110000
DTSTAMP:20260423T134421
CREATED:20241029T201628Z
LAST-MODIFIED:20260116T185745Z
UID:192063-1783073700-1783076400@www.ymcashoals.org
SUMMARY:Yoga In Chairs (Sheila)
DESCRIPTION:
URL:https://www.ymcashoals.org/event/yoga-in-chairs-sheila/2026-07-03/
LOCATION:YMCA of the Shoals\, 2121 Helton Drive\, Florence\, AL\, 35630\, United States
CATEGORIES:Schedules,Spirit/Mind/Body (GXR3)
GEO:34.8324379;-87.6683435
X-APPLE-STRUCTURED-LOCATION;VALUE=URI;X-ADDRESS=YMCA of the Shoals 2121 Helton Drive Florence AL 35630 United States;X-APPLE-RADIUS=500;X-TITLE=2121 Helton Drive:geo:-87.6683435,34.8324379
END:VEVENT
BEGIN:VEVENT
DTSTART;TZID=America/Chicago:20260709T101500
DTEND;TZID=America/Chicago:20260709T110000
DTSTAMP:20260423T134421
CREATED:20241029T201628Z
LAST-MODIFIED:20241029T201628Z
UID:197507-1783592100-1783594800@www.ymcashoals.org
SUMMARY:Yoga In Chairs (Sheila)
DESCRIPTION:
URL:https://www.ymcashoals.org/event/yoga-in-chairs-sheila/2026-07-09/
LOCATION:YMCA of the Shoals\, 2121 Helton Drive\, Florence\, AL\, 35630\, United States
CATEGORIES:Schedules,Spirit/Mind/Body (GXR3)
GEO:34.8324379;-87.6683435
X-APPLE-STRUCTURED-LOCATION;VALUE=URI;X-ADDRESS=YMCA of the Shoals 2121 Helton Drive Florence AL 35630 United States;X-APPLE-RADIUS=500;X-TITLE=2121 Helton Drive:geo:-87.6683435,34.8324379
END:VEVENT
BEGIN:VEVENT
DTSTART;TZID=America/Chicago:20260710T101500
DTEND;TZID=America/Chicago:20260710T110000
DTSTAMP:20260423T134421
CREATED:20241029T201628Z
LAST-MODIFIED:20260116T185745Z
UID:192064-1783678500-1783681200@www.ymcashoals.org
SUMMARY:Yoga In Chairs (Sheila)
DESCRIPTION:
URL:https://www.ymcashoals.org/event/yoga-in-chairs-sheila/2026-07-10/
LOCATION:YMCA of the Shoals\, 2121 Helton Drive\, Florence\, AL\, 35630\, United States
CATEGORIES:Schedules,Spirit/Mind/Body (GXR3)
GEO:34.8324379;-87.6683435
X-APPLE-STRUCTURED-LOCATION;VALUE=URI;X-ADDRESS=YMCA of the Shoals 2121 Helton Drive Florence AL 35630 United States;X-APPLE-RADIUS=500;X-TITLE=2121 Helton Drive:geo:-87.6683435,34.8324379
END:VEVENT
BEGIN:VEVENT
DTSTART;TZID=America/Chicago:20260716T101500
DTEND;TZID=America/Chicago:20260716T110000
DTSTAMP:20260423T134421
CREATED:20241029T201628Z
LAST-MODIFIED:20241029T201628Z
UID:197508-1784196900-1784199600@www.ymcashoals.org
SUMMARY:Yoga In Chairs (Sheila)
DESCRIPTION:
URL:https://www.ymcashoals.org/event/yoga-in-chairs-sheila/2026-07-16/
LOCATION:YMCA of the Shoals\, 2121 Helton Drive\, Florence\, AL\, 35630\, United States
CATEGORIES:Schedules,Spirit/Mind/Body (GXR3)
GEO:34.8324379;-87.6683435
X-APPLE-STRUCTURED-LOCATION;VALUE=URI;X-ADDRESS=YMCA of the Shoals 2121 Helton Drive Florence AL 35630 United States;X-APPLE-RADIUS=500;X-TITLE=2121 Helton Drive:geo:-87.6683435,34.8324379
END:VEVENT
BEGIN:VEVENT
DTSTART;TZID=America/Chicago:20260717T101500
DTEND;TZID=America/Chicago:20260717T110000
DTSTAMP:20260423T134421
CREATED:20241029T201628Z
LAST-MODIFIED:20260116T185745Z
UID:192065-1784283300-1784286000@www.ymcashoals.org
SUMMARY:Yoga In Chairs (Sheila)
DESCRIPTION:
URL:https://www.ymcashoals.org/event/yoga-in-chairs-sheila/2026-07-17/
LOCATION:YMCA of the Shoals\, 2121 Helton Drive\, Florence\, AL\, 35630\, United States
CATEGORIES:Schedules,Spirit/Mind/Body (GXR3)
GEO:34.8324379;-87.6683435
X-APPLE-STRUCTURED-LOCATION;VALUE=URI;X-ADDRESS=YMCA of the Shoals 2121 Helton Drive Florence AL 35630 United States;X-APPLE-RADIUS=500;X-TITLE=2121 Helton Drive:geo:-87.6683435,34.8324379
END:VEVENT
BEGIN:VEVENT
DTSTART;TZID=America/Chicago:20260723T101500
DTEND;TZID=America/Chicago:20260723T110000
DTSTAMP:20260423T134421
CREATED:20241029T201628Z
LAST-MODIFIED:20241029T201628Z
UID:197509-1784801700-1784804400@www.ymcashoals.org
SUMMARY:Yoga In Chairs (Sheila)
DESCRIPTION:
URL:https://www.ymcashoals.org/event/yoga-in-chairs-sheila/2026-07-23/
LOCATION:YMCA of the Shoals\, 2121 Helton Drive\, Florence\, AL\, 35630\, United States
CATEGORIES:Schedules,Spirit/Mind/Body (GXR3)
GEO:34.8324379;-87.6683435
X-APPLE-STRUCTURED-LOCATION;VALUE=URI;X-ADDRESS=YMCA of the Shoals 2121 Helton Drive Florence AL 35630 United States;X-APPLE-RADIUS=500;X-TITLE=2121 Helton Drive:geo:-87.6683435,34.8324379
END:VEVENT
BEGIN:VEVENT
DTSTART;TZID=America/Chicago:20260724T101500
DTEND;TZID=America/Chicago:20260724T110000
DTSTAMP:20260423T134421
CREATED:20241029T201628Z
LAST-MODIFIED:20260116T185745Z
UID:192066-1784888100-1784890800@www.ymcashoals.org
SUMMARY:Yoga In Chairs (Sheila)
DESCRIPTION:
URL:https://www.ymcashoals.org/event/yoga-in-chairs-sheila/2026-07-24/
LOCATION:YMCA of the Shoals\, 2121 Helton Drive\, Florence\, AL\, 35630\, United States
CATEGORIES:Schedules,Spirit/Mind/Body (GXR3)
GEO:34.8324379;-87.6683435
X-APPLE-STRUCTURED-LOCATION;VALUE=URI;X-ADDRESS=YMCA of the Shoals 2121 Helton Drive Florence AL 35630 United States;X-APPLE-RADIUS=500;X-TITLE=2121 Helton Drive:geo:-87.6683435,34.8324379
END:VEVENT
BEGIN:VEVENT
DTSTART;TZID=America/Chicago:20260730T101500
DTEND;TZID=America/Chicago:20260730T110000
DTSTAMP:20260423T134421
CREATED:20241029T201628Z
LAST-MODIFIED:20241029T201628Z
UID:197510-1785406500-1785409200@www.ymcashoals.org
SUMMARY:Yoga In Chairs (Sheila)
DESCRIPTION:
URL:https://www.ymcashoals.org/event/yoga-in-chairs-sheila/2026-07-30/
LOCATION:YMCA of the Shoals\, 2121 Helton Drive\, Florence\, AL\, 35630\, United States
CATEGORIES:Schedules,Spirit/Mind/Body (GXR3)
GEO:34.8324379;-87.6683435
X-APPLE-STRUCTURED-LOCATION;VALUE=URI;X-ADDRESS=YMCA of the Shoals 2121 Helton Drive Florence AL 35630 United States;X-APPLE-RADIUS=500;X-TITLE=2121 Helton Drive:geo:-87.6683435,34.8324379
END:VEVENT
BEGIN:VEVENT
DTSTART;TZID=America/Chicago:20260731T101500
DTEND;TZID=America/Chicago:20260731T110000
DTSTAMP:20260423T134421
CREATED:20241029T201628Z
LAST-MODIFIED:20260116T185746Z
UID:192067-1785492900-1785495600@www.ymcashoals.org
SUMMARY:Yoga In Chairs (Sheila)
DESCRIPTION:
URL:https://www.ymcashoals.org/event/yoga-in-chairs-sheila/2026-07-31/
LOCATION:YMCA of the Shoals\, 2121 Helton Drive\, Florence\, AL\, 35630\, United States
CATEGORIES:Schedules,Spirit/Mind/Body (GXR3)
GEO:34.8324379;-87.6683435
X-APPLE-STRUCTURED-LOCATION;VALUE=URI;X-ADDRESS=YMCA of the Shoals 2121 Helton Drive Florence AL 35630 United States;X-APPLE-RADIUS=500;X-TITLE=2121 Helton Drive:geo:-87.6683435,34.8324379
END:VEVENT
BEGIN:VEVENT
DTSTART;TZID=America/Chicago:20260806T101500
DTEND;TZID=America/Chicago:20260806T110000
DTSTAMP:20260423T134421
CREATED:20241029T201628Z
LAST-MODIFIED:20241029T201628Z
UID:197511-1786011300-1786014000@www.ymcashoals.org
SUMMARY:Yoga In Chairs (Sheila)
DESCRIPTION:
URL:https://www.ymcashoals.org/event/yoga-in-chairs-sheila/2026-08-06/
LOCATION:YMCA of the Shoals\, 2121 Helton Drive\, Florence\, AL\, 35630\, United States
CATEGORIES:Schedules,Spirit/Mind/Body (GXR3)
GEO:34.8324379;-87.6683435
X-APPLE-STRUCTURED-LOCATION;VALUE=URI;X-ADDRESS=YMCA of the Shoals 2121 Helton Drive Florence AL 35630 United States;X-APPLE-RADIUS=500;X-TITLE=2121 Helton Drive:geo:-87.6683435,34.8324379
END:VEVENT
END:VCALENDAR