BEGIN:VCALENDAR
VERSION:2.0
PRODID:-//YMCA of the Shoals - ECPv6.15.20//NONSGML v1.0//EN
CALSCALE:GREGORIAN
METHOD:PUBLISH
X-ORIGINAL-URL:https://www.ymcashoals.org
X-WR-CALDESC:Events for YMCA of the Shoals
REFRESH-INTERVAL;VALUE=DURATION:PT1H
X-Robots-Tag:noindex
X-PUBLISHED-TTL:PT1H
BEGIN:VTIMEZONE
TZID:America/Chicago
BEGIN:DAYLIGHT
TZOFFSETFROM:-0600
TZOFFSETTO:-0500
TZNAME:CDT
DTSTART:20250309T080000
END:DAYLIGHT
BEGIN:STANDARD
TZOFFSETFROM:-0500
TZOFFSETTO:-0600
TZNAME:CST
DTSTART:20251102T070000
END:STANDARD
BEGIN:DAYLIGHT
TZOFFSETFROM:-0600
TZOFFSETTO:-0500
TZNAME:CDT
DTSTART:20260308T080000
END:DAYLIGHT
BEGIN:STANDARD
TZOFFSETFROM:-0500
TZOFFSETTO:-0600
TZNAME:CST
DTSTART:20261101T070000
END:STANDARD
BEGIN:DAYLIGHT
TZOFFSETFROM:-0600
TZOFFSETTO:-0500
TZNAME:CDT
DTSTART:20270314T080000
END:DAYLIGHT
BEGIN:STANDARD
TZOFFSETFROM:-0500
TZOFFSETTO:-0600
TZNAME:CST
DTSTART:20271107T070000
END:STANDARD
END:VTIMEZONE
BEGIN:VEVENT
DTSTART;TZID=America/Chicago:20260428T090500
DTEND;TZID=America/Chicago:20260428T095500
DTSTAMP:20260423T134431
CREATED:20230501T135926Z
LAST-MODIFIED:20230501T135926Z
UID:180845-1777367100-1777370100@www.ymcashoals.org
SUMMARY:Y Yoga (Lana)
DESCRIPTION:
URL:https://www.ymcashoals.org/event/y-yoga-ryan-l-4/2026-04-28/
LOCATION:YMCA of the Shoals\, 2121 Helton Drive\, Florence\, AL\, 35630\, United States
CATEGORIES:Schedules,Spirit/Mind/Body (GXR3)
GEO:34.8324379;-87.6683435
X-APPLE-STRUCTURED-LOCATION;VALUE=URI;X-ADDRESS=YMCA of the Shoals 2121 Helton Drive Florence AL 35630 United States;X-APPLE-RADIUS=500;X-TITLE=2121 Helton Drive:geo:-87.6683435,34.8324379
END:VEVENT
BEGIN:VEVENT
DTSTART;TZID=America/Chicago:20260430T090500
DTEND;TZID=America/Chicago:20260430T095500
DTSTAMP:20260423T134431
CREATED:20230501T135926Z
LAST-MODIFIED:20230501T135926Z
UID:180861-1777539900-1777542900@www.ymcashoals.org
SUMMARY:Y Yoga (Lana)
DESCRIPTION:
URL:https://www.ymcashoals.org/event/y-yoga-ryan-l-4/2026-04-30/
LOCATION:YMCA of the Shoals\, 2121 Helton Drive\, Florence\, AL\, 35630\, United States
CATEGORIES:Schedules,Spirit/Mind/Body (GXR3)
GEO:34.8324379;-87.6683435
X-APPLE-STRUCTURED-LOCATION;VALUE=URI;X-ADDRESS=YMCA of the Shoals 2121 Helton Drive Florence AL 35630 United States;X-APPLE-RADIUS=500;X-TITLE=2121 Helton Drive:geo:-87.6683435,34.8324379
END:VEVENT
BEGIN:VEVENT
DTSTART;TZID=America/Chicago:20260505T090500
DTEND;TZID=America/Chicago:20260505T095500
DTSTAMP:20260423T134431
CREATED:20230501T135926Z
LAST-MODIFIED:20230501T135926Z
UID:180886-1777971900-1777974900@www.ymcashoals.org
SUMMARY:Y Yoga (Lana)
DESCRIPTION:
URL:https://www.ymcashoals.org/event/y-yoga-ryan-l-4/2026-05-05/
LOCATION:YMCA of the Shoals\, 2121 Helton Drive\, Florence\, AL\, 35630\, United States
CATEGORIES:Schedules,Spirit/Mind/Body (GXR3)
GEO:34.8324379;-87.6683435
X-APPLE-STRUCTURED-LOCATION;VALUE=URI;X-ADDRESS=YMCA of the Shoals 2121 Helton Drive Florence AL 35630 United States;X-APPLE-RADIUS=500;X-TITLE=2121 Helton Drive:geo:-87.6683435,34.8324379
END:VEVENT
BEGIN:VEVENT
DTSTART;TZID=America/Chicago:20260507T090500
DTEND;TZID=America/Chicago:20260507T095500
DTSTAMP:20260423T134431
CREATED:20230501T135926Z
LAST-MODIFIED:20230501T135926Z
UID:180911-1778144700-1778147700@www.ymcashoals.org
SUMMARY:Y Yoga (Lana)
DESCRIPTION:
URL:https://www.ymcashoals.org/event/y-yoga-ryan-l-4/2026-05-07/
LOCATION:YMCA of the Shoals\, 2121 Helton Drive\, Florence\, AL\, 35630\, United States
CATEGORIES:Schedules,Spirit/Mind/Body (GXR3)
GEO:34.8324379;-87.6683435
X-APPLE-STRUCTURED-LOCATION;VALUE=URI;X-ADDRESS=YMCA of the Shoals 2121 Helton Drive Florence AL 35630 United States;X-APPLE-RADIUS=500;X-TITLE=2121 Helton Drive:geo:-87.6683435,34.8324379
END:VEVENT
BEGIN:VEVENT
DTSTART;TZID=America/Chicago:20260512T090500
DTEND;TZID=America/Chicago:20260512T095500
DTSTAMP:20260423T134431
CREATED:20230501T135926Z
LAST-MODIFIED:20230501T135926Z
UID:180936-1778576700-1778579700@www.ymcashoals.org
SUMMARY:Y Yoga (Lana)
DESCRIPTION:
URL:https://www.ymcashoals.org/event/y-yoga-ryan-l-4/2026-05-12/
LOCATION:YMCA of the Shoals\, 2121 Helton Drive\, Florence\, AL\, 35630\, United States
CATEGORIES:Schedules,Spirit/Mind/Body (GXR3)
GEO:34.8324379;-87.6683435
X-APPLE-STRUCTURED-LOCATION;VALUE=URI;X-ADDRESS=YMCA of the Shoals 2121 Helton Drive Florence AL 35630 United States;X-APPLE-RADIUS=500;X-TITLE=2121 Helton Drive:geo:-87.6683435,34.8324379
END:VEVENT
BEGIN:VEVENT
DTSTART;TZID=America/Chicago:20260514T090500
DTEND;TZID=America/Chicago:20260514T095500
DTSTAMP:20260423T134431
CREATED:20230501T135926Z
LAST-MODIFIED:20230501T135926Z
UID:180953-1778749500-1778752500@www.ymcashoals.org
SUMMARY:Y Yoga (Lana)
DESCRIPTION:
URL:https://www.ymcashoals.org/event/y-yoga-ryan-l-4/2026-05-14/
LOCATION:YMCA of the Shoals\, 2121 Helton Drive\, Florence\, AL\, 35630\, United States
CATEGORIES:Schedules,Spirit/Mind/Body (GXR3)
GEO:34.8324379;-87.6683435
X-APPLE-STRUCTURED-LOCATION;VALUE=URI;X-ADDRESS=YMCA of the Shoals 2121 Helton Drive Florence AL 35630 United States;X-APPLE-RADIUS=500;X-TITLE=2121 Helton Drive:geo:-87.6683435,34.8324379
END:VEVENT
BEGIN:VEVENT
DTSTART;TZID=America/Chicago:20260519T090500
DTEND;TZID=America/Chicago:20260519T095500
DTSTAMP:20260423T134431
CREATED:20230501T135926Z
LAST-MODIFIED:20230501T135926Z
UID:180979-1779181500-1779184500@www.ymcashoals.org
SUMMARY:Y Yoga (Lana)
DESCRIPTION:
URL:https://www.ymcashoals.org/event/y-yoga-ryan-l-4/2026-05-19/
LOCATION:YMCA of the Shoals\, 2121 Helton Drive\, Florence\, AL\, 35630\, United States
CATEGORIES:Schedules,Spirit/Mind/Body (GXR3)
GEO:34.8324379;-87.6683435
X-APPLE-STRUCTURED-LOCATION;VALUE=URI;X-ADDRESS=YMCA of the Shoals 2121 Helton Drive Florence AL 35630 United States;X-APPLE-RADIUS=500;X-TITLE=2121 Helton Drive:geo:-87.6683435,34.8324379
END:VEVENT
BEGIN:VEVENT
DTSTART;TZID=America/Chicago:20260521T090500
DTEND;TZID=America/Chicago:20260521T095500
DTSTAMP:20260423T134431
CREATED:20230501T135926Z
LAST-MODIFIED:20230501T135926Z
UID:180998-1779354300-1779357300@www.ymcashoals.org
SUMMARY:Y Yoga (Lana)
DESCRIPTION:
URL:https://www.ymcashoals.org/event/y-yoga-ryan-l-4/2026-05-21/
LOCATION:YMCA of the Shoals\, 2121 Helton Drive\, Florence\, AL\, 35630\, United States
CATEGORIES:Schedules,Spirit/Mind/Body (GXR3)
GEO:34.8324379;-87.6683435
X-APPLE-STRUCTURED-LOCATION;VALUE=URI;X-ADDRESS=YMCA of the Shoals 2121 Helton Drive Florence AL 35630 United States;X-APPLE-RADIUS=500;X-TITLE=2121 Helton Drive:geo:-87.6683435,34.8324379
END:VEVENT
BEGIN:VEVENT
DTSTART;TZID=America/Chicago:20260526T090500
DTEND;TZID=America/Chicago:20260526T095500
DTSTAMP:20260423T134431
CREATED:20230501T135926Z
LAST-MODIFIED:20230501T135926Z
UID:181393-1779786300-1779789300@www.ymcashoals.org
SUMMARY:Y Yoga (Lana)
DESCRIPTION:
URL:https://www.ymcashoals.org/event/y-yoga-ryan-l-4/2026-05-26/
LOCATION:YMCA of the Shoals\, 2121 Helton Drive\, Florence\, AL\, 35630\, United States
CATEGORIES:Schedules,Spirit/Mind/Body (GXR3)
GEO:34.8324379;-87.6683435
X-APPLE-STRUCTURED-LOCATION;VALUE=URI;X-ADDRESS=YMCA of the Shoals 2121 Helton Drive Florence AL 35630 United States;X-APPLE-RADIUS=500;X-TITLE=2121 Helton Drive:geo:-87.6683435,34.8324379
END:VEVENT
BEGIN:VEVENT
DTSTART;TZID=America/Chicago:20260528T090500
DTEND;TZID=America/Chicago:20260528T095500
DTSTAMP:20260423T134431
CREATED:20230501T135926Z
LAST-MODIFIED:20230501T135926Z
UID:181413-1779959100-1779962100@www.ymcashoals.org
SUMMARY:Y Yoga (Lana)
DESCRIPTION:
URL:https://www.ymcashoals.org/event/y-yoga-ryan-l-4/2026-05-28/
LOCATION:YMCA of the Shoals\, 2121 Helton Drive\, Florence\, AL\, 35630\, United States
CATEGORIES:Schedules,Spirit/Mind/Body (GXR3)
GEO:34.8324379;-87.6683435
X-APPLE-STRUCTURED-LOCATION;VALUE=URI;X-ADDRESS=YMCA of the Shoals 2121 Helton Drive Florence AL 35630 United States;X-APPLE-RADIUS=500;X-TITLE=2121 Helton Drive:geo:-87.6683435,34.8324379
END:VEVENT
END:VCALENDAR