BEGIN:VCALENDAR
VERSION:2.0
PRODID:-//YMCA of the Shoals - ECPv6.15.20//NONSGML v1.0//EN
CALSCALE:GREGORIAN
METHOD:PUBLISH
X-ORIGINAL-URL:https://www.ymcashoals.org
X-WR-CALDESC:Events for YMCA of the Shoals
REFRESH-INTERVAL;VALUE=DURATION:PT1H
X-Robots-Tag:noindex
X-PUBLISHED-TTL:PT1H
BEGIN:VTIMEZONE
TZID:America/Chicago
BEGIN:DAYLIGHT
TZOFFSETFROM:-0600
TZOFFSETTO:-0500
TZNAME:CDT
DTSTART:20250309T080000
END:DAYLIGHT
BEGIN:STANDARD
TZOFFSETFROM:-0500
TZOFFSETTO:-0600
TZNAME:CST
DTSTART:20251102T070000
END:STANDARD
BEGIN:DAYLIGHT
TZOFFSETFROM:-0600
TZOFFSETTO:-0500
TZNAME:CDT
DTSTART:20260308T080000
END:DAYLIGHT
BEGIN:STANDARD
TZOFFSETFROM:-0500
TZOFFSETTO:-0600
TZNAME:CST
DTSTART:20261101T070000
END:STANDARD
BEGIN:DAYLIGHT
TZOFFSETFROM:-0600
TZOFFSETTO:-0500
TZNAME:CDT
DTSTART:20270314T080000
END:DAYLIGHT
BEGIN:STANDARD
TZOFFSETFROM:-0500
TZOFFSETTO:-0600
TZNAME:CST
DTSTART:20271107T070000
END:STANDARD
END:VTIMEZONE
BEGIN:VEVENT
DTSTART;TZID=America/Chicago:20260424T112000
DTEND;TZID=America/Chicago:20260424T120500
DTSTAMP:20260423T120424
CREATED:20260116T190349Z
LAST-MODIFIED:20260116T190349Z
UID:197711-1777029600-1777032300@www.ymcashoals.org
SUMMARY:Strength In Chairs (Shelia)
DESCRIPTION:
URL:https://www.ymcashoals.org/event/strength-in-chairs-shelia/2026-04-24/
LOCATION:YMCA of the Shoals\, 2121 Helton Drive\, Florence\, AL\, 35630\, United States
CATEGORIES:Schedules,Spirit/Mind/Body (GXR3)
GEO:34.8324379;-87.6683435
X-APPLE-STRUCTURED-LOCATION;VALUE=URI;X-ADDRESS=YMCA of the Shoals 2121 Helton Drive Florence AL 35630 United States;X-APPLE-RADIUS=500;X-TITLE=2121 Helton Drive:geo:-87.6683435,34.8324379
END:VEVENT
BEGIN:VEVENT
DTSTART;TZID=America/Chicago:20260501T112000
DTEND;TZID=America/Chicago:20260501T120500
DTSTAMP:20260423T120424
CREATED:20260116T190349Z
LAST-MODIFIED:20260116T190349Z
UID:197712-1777634400-1777637100@www.ymcashoals.org
SUMMARY:Strength In Chairs (Shelia)
DESCRIPTION:
URL:https://www.ymcashoals.org/event/strength-in-chairs-shelia/2026-05-01/
LOCATION:YMCA of the Shoals\, 2121 Helton Drive\, Florence\, AL\, 35630\, United States
CATEGORIES:Schedules,Spirit/Mind/Body (GXR3)
GEO:34.8324379;-87.6683435
X-APPLE-STRUCTURED-LOCATION;VALUE=URI;X-ADDRESS=YMCA of the Shoals 2121 Helton Drive Florence AL 35630 United States;X-APPLE-RADIUS=500;X-TITLE=2121 Helton Drive:geo:-87.6683435,34.8324379
END:VEVENT
BEGIN:VEVENT
DTSTART;TZID=America/Chicago:20260508T112000
DTEND;TZID=America/Chicago:20260508T120500
DTSTAMP:20260423T120424
CREATED:20260116T190349Z
LAST-MODIFIED:20260116T190349Z
UID:197713-1778239200-1778241900@www.ymcashoals.org
SUMMARY:Strength In Chairs (Shelia)
DESCRIPTION:
URL:https://www.ymcashoals.org/event/strength-in-chairs-shelia/2026-05-08/
LOCATION:YMCA of the Shoals\, 2121 Helton Drive\, Florence\, AL\, 35630\, United States
CATEGORIES:Schedules,Spirit/Mind/Body (GXR3)
GEO:34.8324379;-87.6683435
X-APPLE-STRUCTURED-LOCATION;VALUE=URI;X-ADDRESS=YMCA of the Shoals 2121 Helton Drive Florence AL 35630 United States;X-APPLE-RADIUS=500;X-TITLE=2121 Helton Drive:geo:-87.6683435,34.8324379
END:VEVENT
BEGIN:VEVENT
DTSTART;TZID=America/Chicago:20260515T112000
DTEND;TZID=America/Chicago:20260515T120500
DTSTAMP:20260423T120424
CREATED:20260116T190349Z
LAST-MODIFIED:20260116T190349Z
UID:197714-1778844000-1778846700@www.ymcashoals.org
SUMMARY:Strength In Chairs (Shelia)
DESCRIPTION:
URL:https://www.ymcashoals.org/event/strength-in-chairs-shelia/2026-05-15/
LOCATION:YMCA of the Shoals\, 2121 Helton Drive\, Florence\, AL\, 35630\, United States
CATEGORIES:Schedules,Spirit/Mind/Body (GXR3)
GEO:34.8324379;-87.6683435
X-APPLE-STRUCTURED-LOCATION;VALUE=URI;X-ADDRESS=YMCA of the Shoals 2121 Helton Drive Florence AL 35630 United States;X-APPLE-RADIUS=500;X-TITLE=2121 Helton Drive:geo:-87.6683435,34.8324379
END:VEVENT
BEGIN:VEVENT
DTSTART;TZID=America/Chicago:20260522T112000
DTEND;TZID=America/Chicago:20260522T120500
DTSTAMP:20260423T120424
CREATED:20260116T190349Z
LAST-MODIFIED:20260116T190349Z
UID:197715-1779448800-1779451500@www.ymcashoals.org
SUMMARY:Strength In Chairs (Shelia)
DESCRIPTION:
URL:https://www.ymcashoals.org/event/strength-in-chairs-shelia/2026-05-22/
LOCATION:YMCA of the Shoals\, 2121 Helton Drive\, Florence\, AL\, 35630\, United States
CATEGORIES:Schedules,Spirit/Mind/Body (GXR3)
GEO:34.8324379;-87.6683435
X-APPLE-STRUCTURED-LOCATION;VALUE=URI;X-ADDRESS=YMCA of the Shoals 2121 Helton Drive Florence AL 35630 United States;X-APPLE-RADIUS=500;X-TITLE=2121 Helton Drive:geo:-87.6683435,34.8324379
END:VEVENT
BEGIN:VEVENT
DTSTART;TZID=America/Chicago:20260529T112000
DTEND;TZID=America/Chicago:20260529T120500
DTSTAMP:20260423T120424
CREATED:20260116T190349Z
LAST-MODIFIED:20260116T190349Z
UID:197716-1780053600-1780056300@www.ymcashoals.org
SUMMARY:Strength In Chairs (Shelia)
DESCRIPTION:
URL:https://www.ymcashoals.org/event/strength-in-chairs-shelia/2026-05-29/
LOCATION:YMCA of the Shoals\, 2121 Helton Drive\, Florence\, AL\, 35630\, United States
CATEGORIES:Schedules,Spirit/Mind/Body (GXR3)
GEO:34.8324379;-87.6683435
X-APPLE-STRUCTURED-LOCATION;VALUE=URI;X-ADDRESS=YMCA of the Shoals 2121 Helton Drive Florence AL 35630 United States;X-APPLE-RADIUS=500;X-TITLE=2121 Helton Drive:geo:-87.6683435,34.8324379
END:VEVENT
BEGIN:VEVENT
DTSTART;TZID=America/Chicago:20260605T112000
DTEND;TZID=America/Chicago:20260605T120500
DTSTAMP:20260423T120424
CREATED:20260116T190349Z
LAST-MODIFIED:20260116T190349Z
UID:197717-1780658400-1780661100@www.ymcashoals.org
SUMMARY:Strength In Chairs (Shelia)
DESCRIPTION:
URL:https://www.ymcashoals.org/event/strength-in-chairs-shelia/2026-06-05/
LOCATION:YMCA of the Shoals\, 2121 Helton Drive\, Florence\, AL\, 35630\, United States
CATEGORIES:Schedules,Spirit/Mind/Body (GXR3)
GEO:34.8324379;-87.6683435
X-APPLE-STRUCTURED-LOCATION;VALUE=URI;X-ADDRESS=YMCA of the Shoals 2121 Helton Drive Florence AL 35630 United States;X-APPLE-RADIUS=500;X-TITLE=2121 Helton Drive:geo:-87.6683435,34.8324379
END:VEVENT
BEGIN:VEVENT
DTSTART;TZID=America/Chicago:20260612T112000
DTEND;TZID=America/Chicago:20260612T120500
DTSTAMP:20260423T120424
CREATED:20260116T190349Z
LAST-MODIFIED:20260116T190349Z
UID:197718-1781263200-1781265900@www.ymcashoals.org
SUMMARY:Strength In Chairs (Shelia)
DESCRIPTION:
URL:https://www.ymcashoals.org/event/strength-in-chairs-shelia/2026-06-12/
LOCATION:YMCA of the Shoals\, 2121 Helton Drive\, Florence\, AL\, 35630\, United States
CATEGORIES:Schedules,Spirit/Mind/Body (GXR3)
GEO:34.8324379;-87.6683435
X-APPLE-STRUCTURED-LOCATION;VALUE=URI;X-ADDRESS=YMCA of the Shoals 2121 Helton Drive Florence AL 35630 United States;X-APPLE-RADIUS=500;X-TITLE=2121 Helton Drive:geo:-87.6683435,34.8324379
END:VEVENT
BEGIN:VEVENT
DTSTART;TZID=America/Chicago:20260619T112000
DTEND;TZID=America/Chicago:20260619T120500
DTSTAMP:20260423T120424
CREATED:20260116T190349Z
LAST-MODIFIED:20260116T190349Z
UID:197719-1781868000-1781870700@www.ymcashoals.org
SUMMARY:Strength In Chairs (Shelia)
DESCRIPTION:
URL:https://www.ymcashoals.org/event/strength-in-chairs-shelia/2026-06-19/
LOCATION:YMCA of the Shoals\, 2121 Helton Drive\, Florence\, AL\, 35630\, United States
CATEGORIES:Schedules,Spirit/Mind/Body (GXR3)
GEO:34.8324379;-87.6683435
X-APPLE-STRUCTURED-LOCATION;VALUE=URI;X-ADDRESS=YMCA of the Shoals 2121 Helton Drive Florence AL 35630 United States;X-APPLE-RADIUS=500;X-TITLE=2121 Helton Drive:geo:-87.6683435,34.8324379
END:VEVENT
BEGIN:VEVENT
DTSTART;TZID=America/Chicago:20260626T112000
DTEND;TZID=America/Chicago:20260626T120500
DTSTAMP:20260423T120424
CREATED:20260116T190349Z
LAST-MODIFIED:20260116T190349Z
UID:197720-1782472800-1782475500@www.ymcashoals.org
SUMMARY:Strength In Chairs (Shelia)
DESCRIPTION:
URL:https://www.ymcashoals.org/event/strength-in-chairs-shelia/2026-06-26/
LOCATION:YMCA of the Shoals\, 2121 Helton Drive\, Florence\, AL\, 35630\, United States
CATEGORIES:Schedules,Spirit/Mind/Body (GXR3)
GEO:34.8324379;-87.6683435
X-APPLE-STRUCTURED-LOCATION;VALUE=URI;X-ADDRESS=YMCA of the Shoals 2121 Helton Drive Florence AL 35630 United States;X-APPLE-RADIUS=500;X-TITLE=2121 Helton Drive:geo:-87.6683435,34.8324379
END:VEVENT
BEGIN:VEVENT
DTSTART;TZID=America/Chicago:20260703T112000
DTEND;TZID=America/Chicago:20260703T120500
DTSTAMP:20260423T120424
CREATED:20260116T190349Z
LAST-MODIFIED:20260116T190349Z
UID:197721-1783077600-1783080300@www.ymcashoals.org
SUMMARY:Strength In Chairs (Shelia)
DESCRIPTION:
URL:https://www.ymcashoals.org/event/strength-in-chairs-shelia/2026-07-03/
LOCATION:YMCA of the Shoals\, 2121 Helton Drive\, Florence\, AL\, 35630\, United States
CATEGORIES:Schedules,Spirit/Mind/Body (GXR3)
GEO:34.8324379;-87.6683435
X-APPLE-STRUCTURED-LOCATION;VALUE=URI;X-ADDRESS=YMCA of the Shoals 2121 Helton Drive Florence AL 35630 United States;X-APPLE-RADIUS=500;X-TITLE=2121 Helton Drive:geo:-87.6683435,34.8324379
END:VEVENT
BEGIN:VEVENT
DTSTART;TZID=America/Chicago:20260710T112000
DTEND;TZID=America/Chicago:20260710T120500
DTSTAMP:20260423T120424
CREATED:20260116T190349Z
LAST-MODIFIED:20260116T190349Z
UID:197722-1783682400-1783685100@www.ymcashoals.org
SUMMARY:Strength In Chairs (Shelia)
DESCRIPTION:
URL:https://www.ymcashoals.org/event/strength-in-chairs-shelia/2026-07-10/
LOCATION:YMCA of the Shoals\, 2121 Helton Drive\, Florence\, AL\, 35630\, United States
CATEGORIES:Schedules,Spirit/Mind/Body (GXR3)
GEO:34.8324379;-87.6683435
X-APPLE-STRUCTURED-LOCATION;VALUE=URI;X-ADDRESS=YMCA of the Shoals 2121 Helton Drive Florence AL 35630 United States;X-APPLE-RADIUS=500;X-TITLE=2121 Helton Drive:geo:-87.6683435,34.8324379
END:VEVENT
BEGIN:VEVENT
DTSTART;TZID=America/Chicago:20260717T112000
DTEND;TZID=America/Chicago:20260717T120500
DTSTAMP:20260423T120424
CREATED:20260116T190349Z
LAST-MODIFIED:20260116T190349Z
UID:197723-1784287200-1784289900@www.ymcashoals.org
SUMMARY:Strength In Chairs (Shelia)
DESCRIPTION:
URL:https://www.ymcashoals.org/event/strength-in-chairs-shelia/2026-07-17/
LOCATION:YMCA of the Shoals\, 2121 Helton Drive\, Florence\, AL\, 35630\, United States
CATEGORIES:Schedules,Spirit/Mind/Body (GXR3)
GEO:34.8324379;-87.6683435
X-APPLE-STRUCTURED-LOCATION;VALUE=URI;X-ADDRESS=YMCA of the Shoals 2121 Helton Drive Florence AL 35630 United States;X-APPLE-RADIUS=500;X-TITLE=2121 Helton Drive:geo:-87.6683435,34.8324379
END:VEVENT
BEGIN:VEVENT
DTSTART;TZID=America/Chicago:20260724T112000
DTEND;TZID=America/Chicago:20260724T120500
DTSTAMP:20260423T120424
CREATED:20260116T190349Z
LAST-MODIFIED:20260116T190349Z
UID:197724-1784892000-1784894700@www.ymcashoals.org
SUMMARY:Strength In Chairs (Shelia)
DESCRIPTION:
URL:https://www.ymcashoals.org/event/strength-in-chairs-shelia/2026-07-24/
LOCATION:YMCA of the Shoals\, 2121 Helton Drive\, Florence\, AL\, 35630\, United States
CATEGORIES:Schedules,Spirit/Mind/Body (GXR3)
GEO:34.8324379;-87.6683435
X-APPLE-STRUCTURED-LOCATION;VALUE=URI;X-ADDRESS=YMCA of the Shoals 2121 Helton Drive Florence AL 35630 United States;X-APPLE-RADIUS=500;X-TITLE=2121 Helton Drive:geo:-87.6683435,34.8324379
END:VEVENT
BEGIN:VEVENT
DTSTART;TZID=America/Chicago:20260731T112000
DTEND;TZID=America/Chicago:20260731T120500
DTSTAMP:20260423T120424
CREATED:20260116T190349Z
LAST-MODIFIED:20260116T190349Z
UID:197725-1785496800-1785499500@www.ymcashoals.org
SUMMARY:Strength In Chairs (Shelia)
DESCRIPTION:
URL:https://www.ymcashoals.org/event/strength-in-chairs-shelia/2026-07-31/
LOCATION:YMCA of the Shoals\, 2121 Helton Drive\, Florence\, AL\, 35630\, United States
CATEGORIES:Schedules,Spirit/Mind/Body (GXR3)
GEO:34.8324379;-87.6683435
X-APPLE-STRUCTURED-LOCATION;VALUE=URI;X-ADDRESS=YMCA of the Shoals 2121 Helton Drive Florence AL 35630 United States;X-APPLE-RADIUS=500;X-TITLE=2121 Helton Drive:geo:-87.6683435,34.8324379
END:VEVENT
BEGIN:VEVENT
DTSTART;TZID=America/Chicago:20260807T112000
DTEND;TZID=America/Chicago:20260807T120500
DTSTAMP:20260423T120424
CREATED:20260116T190349Z
LAST-MODIFIED:20260116T190349Z
UID:197726-1786101600-1786104300@www.ymcashoals.org
SUMMARY:Strength In Chairs (Shelia)
DESCRIPTION:
URL:https://www.ymcashoals.org/event/strength-in-chairs-shelia/2026-08-07/
LOCATION:YMCA of the Shoals\, 2121 Helton Drive\, Florence\, AL\, 35630\, United States
CATEGORIES:Schedules,Spirit/Mind/Body (GXR3)
GEO:34.8324379;-87.6683435
X-APPLE-STRUCTURED-LOCATION;VALUE=URI;X-ADDRESS=YMCA of the Shoals 2121 Helton Drive Florence AL 35630 United States;X-APPLE-RADIUS=500;X-TITLE=2121 Helton Drive:geo:-87.6683435,34.8324379
END:VEVENT
BEGIN:VEVENT
DTSTART;TZID=America/Chicago:20260814T112000
DTEND;TZID=America/Chicago:20260814T120500
DTSTAMP:20260423T120424
CREATED:20260116T190349Z
LAST-MODIFIED:20260116T190349Z
UID:197727-1786706400-1786709100@www.ymcashoals.org
SUMMARY:Strength In Chairs (Shelia)
DESCRIPTION:
URL:https://www.ymcashoals.org/event/strength-in-chairs-shelia/2026-08-14/
LOCATION:YMCA of the Shoals\, 2121 Helton Drive\, Florence\, AL\, 35630\, United States
CATEGORIES:Schedules,Spirit/Mind/Body (GXR3)
GEO:34.8324379;-87.6683435
X-APPLE-STRUCTURED-LOCATION;VALUE=URI;X-ADDRESS=YMCA of the Shoals 2121 Helton Drive Florence AL 35630 United States;X-APPLE-RADIUS=500;X-TITLE=2121 Helton Drive:geo:-87.6683435,34.8324379
END:VEVENT
BEGIN:VEVENT
DTSTART;TZID=America/Chicago:20260821T112000
DTEND;TZID=America/Chicago:20260821T120500
DTSTAMP:20260423T120424
CREATED:20260116T190349Z
LAST-MODIFIED:20260116T190349Z
UID:197728-1787311200-1787313900@www.ymcashoals.org
SUMMARY:Strength In Chairs (Shelia)
DESCRIPTION:
URL:https://www.ymcashoals.org/event/strength-in-chairs-shelia/2026-08-21/
LOCATION:YMCA of the Shoals\, 2121 Helton Drive\, Florence\, AL\, 35630\, United States
CATEGORIES:Schedules,Spirit/Mind/Body (GXR3)
GEO:34.8324379;-87.6683435
X-APPLE-STRUCTURED-LOCATION;VALUE=URI;X-ADDRESS=YMCA of the Shoals 2121 Helton Drive Florence AL 35630 United States;X-APPLE-RADIUS=500;X-TITLE=2121 Helton Drive:geo:-87.6683435,34.8324379
END:VEVENT
BEGIN:VEVENT
DTSTART;TZID=America/Chicago:20260828T112000
DTEND;TZID=America/Chicago:20260828T120500
DTSTAMP:20260423T120424
CREATED:20260116T190349Z
LAST-MODIFIED:20260116T190349Z
UID:197729-1787916000-1787918700@www.ymcashoals.org
SUMMARY:Strength In Chairs (Shelia)
DESCRIPTION:
URL:https://www.ymcashoals.org/event/strength-in-chairs-shelia/2026-08-28/
LOCATION:YMCA of the Shoals\, 2121 Helton Drive\, Florence\, AL\, 35630\, United States
CATEGORIES:Schedules,Spirit/Mind/Body (GXR3)
GEO:34.8324379;-87.6683435
X-APPLE-STRUCTURED-LOCATION;VALUE=URI;X-ADDRESS=YMCA of the Shoals 2121 Helton Drive Florence AL 35630 United States;X-APPLE-RADIUS=500;X-TITLE=2121 Helton Drive:geo:-87.6683435,34.8324379
END:VEVENT
BEGIN:VEVENT
DTSTART;TZID=America/Chicago:20260904T112000
DTEND;TZID=America/Chicago:20260904T120500
DTSTAMP:20260423T120424
CREATED:20260116T190349Z
LAST-MODIFIED:20260116T190349Z
UID:197730-1788520800-1788523500@www.ymcashoals.org
SUMMARY:Strength In Chairs (Shelia)
DESCRIPTION:
URL:https://www.ymcashoals.org/event/strength-in-chairs-shelia/2026-09-04/
LOCATION:YMCA of the Shoals\, 2121 Helton Drive\, Florence\, AL\, 35630\, United States
CATEGORIES:Schedules,Spirit/Mind/Body (GXR3)
GEO:34.8324379;-87.6683435
X-APPLE-STRUCTURED-LOCATION;VALUE=URI;X-ADDRESS=YMCA of the Shoals 2121 Helton Drive Florence AL 35630 United States;X-APPLE-RADIUS=500;X-TITLE=2121 Helton Drive:geo:-87.6683435,34.8324379
END:VEVENT
BEGIN:VEVENT
DTSTART;TZID=America/Chicago:20260911T112000
DTEND;TZID=America/Chicago:20260911T120500
DTSTAMP:20260423T120424
CREATED:20260116T190349Z
LAST-MODIFIED:20260116T190349Z
UID:197731-1789125600-1789128300@www.ymcashoals.org
SUMMARY:Strength In Chairs (Shelia)
DESCRIPTION:
URL:https://www.ymcashoals.org/event/strength-in-chairs-shelia/2026-09-11/
LOCATION:YMCA of the Shoals\, 2121 Helton Drive\, Florence\, AL\, 35630\, United States
CATEGORIES:Schedules,Spirit/Mind/Body (GXR3)
GEO:34.8324379;-87.6683435
X-APPLE-STRUCTURED-LOCATION;VALUE=URI;X-ADDRESS=YMCA of the Shoals 2121 Helton Drive Florence AL 35630 United States;X-APPLE-RADIUS=500;X-TITLE=2121 Helton Drive:geo:-87.6683435,34.8324379
END:VEVENT
BEGIN:VEVENT
DTSTART;TZID=America/Chicago:20260918T112000
DTEND;TZID=America/Chicago:20260918T120500
DTSTAMP:20260423T120424
CREATED:20260116T190349Z
LAST-MODIFIED:20260116T190349Z
UID:197732-1789730400-1789733100@www.ymcashoals.org
SUMMARY:Strength In Chairs (Shelia)
DESCRIPTION:
URL:https://www.ymcashoals.org/event/strength-in-chairs-shelia/2026-09-18/
LOCATION:YMCA of the Shoals\, 2121 Helton Drive\, Florence\, AL\, 35630\, United States
CATEGORIES:Schedules,Spirit/Mind/Body (GXR3)
GEO:34.8324379;-87.6683435
X-APPLE-STRUCTURED-LOCATION;VALUE=URI;X-ADDRESS=YMCA of the Shoals 2121 Helton Drive Florence AL 35630 United States;X-APPLE-RADIUS=500;X-TITLE=2121 Helton Drive:geo:-87.6683435,34.8324379
END:VEVENT
BEGIN:VEVENT
DTSTART;TZID=America/Chicago:20260925T112000
DTEND;TZID=America/Chicago:20260925T120500
DTSTAMP:20260423T120424
CREATED:20260116T190349Z
LAST-MODIFIED:20260116T190349Z
UID:197733-1790335200-1790337900@www.ymcashoals.org
SUMMARY:Strength In Chairs (Shelia)
DESCRIPTION:
URL:https://www.ymcashoals.org/event/strength-in-chairs-shelia/2026-09-25/
LOCATION:YMCA of the Shoals\, 2121 Helton Drive\, Florence\, AL\, 35630\, United States
CATEGORIES:Schedules,Spirit/Mind/Body (GXR3)
GEO:34.8324379;-87.6683435
X-APPLE-STRUCTURED-LOCATION;VALUE=URI;X-ADDRESS=YMCA of the Shoals 2121 Helton Drive Florence AL 35630 United States;X-APPLE-RADIUS=500;X-TITLE=2121 Helton Drive:geo:-87.6683435,34.8324379
END:VEVENT
BEGIN:VEVENT
DTSTART;TZID=America/Chicago:20261002T112000
DTEND;TZID=America/Chicago:20261002T120500
DTSTAMP:20260423T120424
CREATED:20260116T190349Z
LAST-MODIFIED:20260116T190349Z
UID:197734-1790940000-1790942700@www.ymcashoals.org
SUMMARY:Strength In Chairs (Shelia)
DESCRIPTION:
URL:https://www.ymcashoals.org/event/strength-in-chairs-shelia/2026-10-02/
LOCATION:YMCA of the Shoals\, 2121 Helton Drive\, Florence\, AL\, 35630\, United States
CATEGORIES:Schedules,Spirit/Mind/Body (GXR3)
GEO:34.8324379;-87.6683435
X-APPLE-STRUCTURED-LOCATION;VALUE=URI;X-ADDRESS=YMCA of the Shoals 2121 Helton Drive Florence AL 35630 United States;X-APPLE-RADIUS=500;X-TITLE=2121 Helton Drive:geo:-87.6683435,34.8324379
END:VEVENT
BEGIN:VEVENT
DTSTART;TZID=America/Chicago:20261009T112000
DTEND;TZID=America/Chicago:20261009T120500
DTSTAMP:20260423T120424
CREATED:20260116T190349Z
LAST-MODIFIED:20260116T190349Z
UID:197735-1791544800-1791547500@www.ymcashoals.org
SUMMARY:Strength In Chairs (Shelia)
DESCRIPTION:
URL:https://www.ymcashoals.org/event/strength-in-chairs-shelia/2026-10-09/
LOCATION:YMCA of the Shoals\, 2121 Helton Drive\, Florence\, AL\, 35630\, United States
CATEGORIES:Schedules,Spirit/Mind/Body (GXR3)
GEO:34.8324379;-87.6683435
X-APPLE-STRUCTURED-LOCATION;VALUE=URI;X-ADDRESS=YMCA of the Shoals 2121 Helton Drive Florence AL 35630 United States;X-APPLE-RADIUS=500;X-TITLE=2121 Helton Drive:geo:-87.6683435,34.8324379
END:VEVENT
BEGIN:VEVENT
DTSTART;TZID=America/Chicago:20261016T112000
DTEND;TZID=America/Chicago:20261016T120500
DTSTAMP:20260423T120424
CREATED:20260116T190349Z
LAST-MODIFIED:20260116T190349Z
UID:197736-1792149600-1792152300@www.ymcashoals.org
SUMMARY:Strength In Chairs (Shelia)
DESCRIPTION:
URL:https://www.ymcashoals.org/event/strength-in-chairs-shelia/2026-10-16/
LOCATION:YMCA of the Shoals\, 2121 Helton Drive\, Florence\, AL\, 35630\, United States
CATEGORIES:Schedules,Spirit/Mind/Body (GXR3)
GEO:34.8324379;-87.6683435
X-APPLE-STRUCTURED-LOCATION;VALUE=URI;X-ADDRESS=YMCA of the Shoals 2121 Helton Drive Florence AL 35630 United States;X-APPLE-RADIUS=500;X-TITLE=2121 Helton Drive:geo:-87.6683435,34.8324379
END:VEVENT
BEGIN:VEVENT
DTSTART;TZID=America/Chicago:20261023T112000
DTEND;TZID=America/Chicago:20261023T120500
DTSTAMP:20260423T120424
CREATED:20260116T190349Z
LAST-MODIFIED:20260116T190349Z
UID:197737-1792754400-1792757100@www.ymcashoals.org
SUMMARY:Strength In Chairs (Shelia)
DESCRIPTION:
URL:https://www.ymcashoals.org/event/strength-in-chairs-shelia/2026-10-23/
LOCATION:YMCA of the Shoals\, 2121 Helton Drive\, Florence\, AL\, 35630\, United States
CATEGORIES:Schedules,Spirit/Mind/Body (GXR3)
GEO:34.8324379;-87.6683435
X-APPLE-STRUCTURED-LOCATION;VALUE=URI;X-ADDRESS=YMCA of the Shoals 2121 Helton Drive Florence AL 35630 United States;X-APPLE-RADIUS=500;X-TITLE=2121 Helton Drive:geo:-87.6683435,34.8324379
END:VEVENT
BEGIN:VEVENT
DTSTART;TZID=America/Chicago:20261030T112000
DTEND;TZID=America/Chicago:20261030T120500
DTSTAMP:20260423T120424
CREATED:20260116T190349Z
LAST-MODIFIED:20260116T190349Z
UID:197738-1793359200-1793361900@www.ymcashoals.org
SUMMARY:Strength In Chairs (Shelia)
DESCRIPTION:
URL:https://www.ymcashoals.org/event/strength-in-chairs-shelia/2026-10-30/
LOCATION:YMCA of the Shoals\, 2121 Helton Drive\, Florence\, AL\, 35630\, United States
CATEGORIES:Schedules,Spirit/Mind/Body (GXR3)
GEO:34.8324379;-87.6683435
X-APPLE-STRUCTURED-LOCATION;VALUE=URI;X-ADDRESS=YMCA of the Shoals 2121 Helton Drive Florence AL 35630 United States;X-APPLE-RADIUS=500;X-TITLE=2121 Helton Drive:geo:-87.6683435,34.8324379
END:VEVENT
BEGIN:VEVENT
DTSTART;TZID=America/Chicago:20261106T112000
DTEND;TZID=America/Chicago:20261106T120500
DTSTAMP:20260423T120424
CREATED:20260116T190349Z
LAST-MODIFIED:20260116T190349Z
UID:197739-1793964000-1793966700@www.ymcashoals.org
SUMMARY:Strength In Chairs (Shelia)
DESCRIPTION:
URL:https://www.ymcashoals.org/event/strength-in-chairs-shelia/2026-11-06/
LOCATION:YMCA of the Shoals\, 2121 Helton Drive\, Florence\, AL\, 35630\, United States
CATEGORIES:Schedules,Spirit/Mind/Body (GXR3)
GEO:34.8324379;-87.6683435
X-APPLE-STRUCTURED-LOCATION;VALUE=URI;X-ADDRESS=YMCA of the Shoals 2121 Helton Drive Florence AL 35630 United States;X-APPLE-RADIUS=500;X-TITLE=2121 Helton Drive:geo:-87.6683435,34.8324379
END:VEVENT
BEGIN:VEVENT
DTSTART;TZID=America/Chicago:20261113T112000
DTEND;TZID=America/Chicago:20261113T120500
DTSTAMP:20260423T120424
CREATED:20260116T190349Z
LAST-MODIFIED:20260116T190349Z
UID:197740-1794568800-1794571500@www.ymcashoals.org
SUMMARY:Strength In Chairs (Shelia)
DESCRIPTION:
URL:https://www.ymcashoals.org/event/strength-in-chairs-shelia/2026-11-13/
LOCATION:YMCA of the Shoals\, 2121 Helton Drive\, Florence\, AL\, 35630\, United States
CATEGORIES:Schedules,Spirit/Mind/Body (GXR3)
GEO:34.8324379;-87.6683435
X-APPLE-STRUCTURED-LOCATION;VALUE=URI;X-ADDRESS=YMCA of the Shoals 2121 Helton Drive Florence AL 35630 United States;X-APPLE-RADIUS=500;X-TITLE=2121 Helton Drive:geo:-87.6683435,34.8324379
END:VEVENT
END:VCALENDAR