BEGIN:VCALENDAR
VERSION:2.0
PRODID:-//YMCA of the Shoals - ECPv6.15.20//NONSGML v1.0//EN
CALSCALE:GREGORIAN
METHOD:PUBLISH
X-ORIGINAL-URL:https://www.ymcashoals.org
X-WR-CALDESC:Events for YMCA of the Shoals
REFRESH-INTERVAL;VALUE=DURATION:PT1H
X-Robots-Tag:noindex
X-PUBLISHED-TTL:PT1H
BEGIN:VTIMEZONE
TZID:America/Chicago
BEGIN:DAYLIGHT
TZOFFSETFROM:-0600
TZOFFSETTO:-0500
TZNAME:CDT
DTSTART:20250309T080000
END:DAYLIGHT
BEGIN:STANDARD
TZOFFSETFROM:-0500
TZOFFSETTO:-0600
TZNAME:CST
DTSTART:20251102T070000
END:STANDARD
BEGIN:DAYLIGHT
TZOFFSETFROM:-0600
TZOFFSETTO:-0500
TZNAME:CDT
DTSTART:20260308T080000
END:DAYLIGHT
BEGIN:STANDARD
TZOFFSETFROM:-0500
TZOFFSETTO:-0600
TZNAME:CST
DTSTART:20261101T070000
END:STANDARD
BEGIN:DAYLIGHT
TZOFFSETFROM:-0600
TZOFFSETTO:-0500
TZNAME:CDT
DTSTART:20270314T080000
END:DAYLIGHT
BEGIN:STANDARD
TZOFFSETFROM:-0500
TZOFFSETTO:-0600
TZNAME:CST
DTSTART:20271107T070000
END:STANDARD
END:VTIMEZONE
BEGIN:VEVENT
DTSTART;TZID=America/Chicago:20260428T080000
DTEND;TZID=America/Chicago:20260428T100000
DTSTAMP:20260423T120623
CREATED:20250530T134642Z
LAST-MODIFIED:20250530T134642Z
UID:182817-1777363200-1777370400@www.ymcashoals.org
SUMMARY:Rock Steady Boxing - Court B
DESCRIPTION:
URL:https://www.ymcashoals.org/event/rock-steady-boxing-court-b-2/2026-04-28/
LOCATION:YMCA of the Shoals\, 2121 Helton Drive\, Florence\, AL\, 35630\, United States
CATEGORIES:Gym Courts A & B,Schedules
GEO:34.8324379;-87.6683435
X-APPLE-STRUCTURED-LOCATION;VALUE=URI;X-ADDRESS=YMCA of the Shoals 2121 Helton Drive Florence AL 35630 United States;X-APPLE-RADIUS=500;X-TITLE=2121 Helton Drive:geo:-87.6683435,34.8324379
END:VEVENT
BEGIN:VEVENT
DTSTART;TZID=America/Chicago:20260430T080000
DTEND;TZID=America/Chicago:20260430T100000
DTSTAMP:20260423T120623
CREATED:20250530T134642Z
LAST-MODIFIED:20250530T134642Z
UID:182818-1777536000-1777543200@www.ymcashoals.org
SUMMARY:Rock Steady Boxing - Court B
DESCRIPTION:
URL:https://www.ymcashoals.org/event/rock-steady-boxing-court-b-2/2026-04-30/
LOCATION:YMCA of the Shoals\, 2121 Helton Drive\, Florence\, AL\, 35630\, United States
CATEGORIES:Gym Courts A & B,Schedules
GEO:34.8324379;-87.6683435
X-APPLE-STRUCTURED-LOCATION;VALUE=URI;X-ADDRESS=YMCA of the Shoals 2121 Helton Drive Florence AL 35630 United States;X-APPLE-RADIUS=500;X-TITLE=2121 Helton Drive:geo:-87.6683435,34.8324379
END:VEVENT
BEGIN:VEVENT
DTSTART;TZID=America/Chicago:20260505T080000
DTEND;TZID=America/Chicago:20260505T100000
DTSTAMP:20260423T120623
CREATED:20250530T134642Z
LAST-MODIFIED:20250530T134642Z
UID:182819-1777968000-1777975200@www.ymcashoals.org
SUMMARY:Rock Steady Boxing - Court B
DESCRIPTION:
URL:https://www.ymcashoals.org/event/rock-steady-boxing-court-b-2/2026-05-05/
LOCATION:YMCA of the Shoals\, 2121 Helton Drive\, Florence\, AL\, 35630\, United States
CATEGORIES:Gym Courts A & B,Schedules
GEO:34.8324379;-87.6683435
X-APPLE-STRUCTURED-LOCATION;VALUE=URI;X-ADDRESS=YMCA of the Shoals 2121 Helton Drive Florence AL 35630 United States;X-APPLE-RADIUS=500;X-TITLE=2121 Helton Drive:geo:-87.6683435,34.8324379
END:VEVENT
BEGIN:VEVENT
DTSTART;TZID=America/Chicago:20260507T080000
DTEND;TZID=America/Chicago:20260507T100000
DTSTAMP:20260423T120623
CREATED:20250530T134642Z
LAST-MODIFIED:20250530T134642Z
UID:182820-1778140800-1778148000@www.ymcashoals.org
SUMMARY:Rock Steady Boxing - Court B
DESCRIPTION:
URL:https://www.ymcashoals.org/event/rock-steady-boxing-court-b-2/2026-05-07/
LOCATION:YMCA of the Shoals\, 2121 Helton Drive\, Florence\, AL\, 35630\, United States
CATEGORIES:Gym Courts A & B,Schedules
GEO:34.8324379;-87.6683435
X-APPLE-STRUCTURED-LOCATION;VALUE=URI;X-ADDRESS=YMCA of the Shoals 2121 Helton Drive Florence AL 35630 United States;X-APPLE-RADIUS=500;X-TITLE=2121 Helton Drive:geo:-87.6683435,34.8324379
END:VEVENT
BEGIN:VEVENT
DTSTART;TZID=America/Chicago:20260512T080000
DTEND;TZID=America/Chicago:20260512T100000
DTSTAMP:20260423T120623
CREATED:20250530T134642Z
LAST-MODIFIED:20250530T134642Z
UID:182821-1778572800-1778580000@www.ymcashoals.org
SUMMARY:Rock Steady Boxing - Court B
DESCRIPTION:
URL:https://www.ymcashoals.org/event/rock-steady-boxing-court-b-2/2026-05-12/
LOCATION:YMCA of the Shoals\, 2121 Helton Drive\, Florence\, AL\, 35630\, United States
CATEGORIES:Gym Courts A & B,Schedules
GEO:34.8324379;-87.6683435
X-APPLE-STRUCTURED-LOCATION;VALUE=URI;X-ADDRESS=YMCA of the Shoals 2121 Helton Drive Florence AL 35630 United States;X-APPLE-RADIUS=500;X-TITLE=2121 Helton Drive:geo:-87.6683435,34.8324379
END:VEVENT
BEGIN:VEVENT
DTSTART;TZID=America/Chicago:20260514T080000
DTEND;TZID=America/Chicago:20260514T100000
DTSTAMP:20260423T120623
CREATED:20250530T134642Z
LAST-MODIFIED:20250530T134642Z
UID:182822-1778745600-1778752800@www.ymcashoals.org
SUMMARY:Rock Steady Boxing - Court B
DESCRIPTION:
URL:https://www.ymcashoals.org/event/rock-steady-boxing-court-b-2/2026-05-14/
LOCATION:YMCA of the Shoals\, 2121 Helton Drive\, Florence\, AL\, 35630\, United States
CATEGORIES:Gym Courts A & B,Schedules
GEO:34.8324379;-87.6683435
X-APPLE-STRUCTURED-LOCATION;VALUE=URI;X-ADDRESS=YMCA of the Shoals 2121 Helton Drive Florence AL 35630 United States;X-APPLE-RADIUS=500;X-TITLE=2121 Helton Drive:geo:-87.6683435,34.8324379
END:VEVENT
BEGIN:VEVENT
DTSTART;TZID=America/Chicago:20260519T080000
DTEND;TZID=America/Chicago:20260519T100000
DTSTAMP:20260423T120623
CREATED:20250530T134642Z
LAST-MODIFIED:20250530T134642Z
UID:182823-1779177600-1779184800@www.ymcashoals.org
SUMMARY:Rock Steady Boxing - Court B
DESCRIPTION:
URL:https://www.ymcashoals.org/event/rock-steady-boxing-court-b-2/2026-05-19/
LOCATION:YMCA of the Shoals\, 2121 Helton Drive\, Florence\, AL\, 35630\, United States
CATEGORIES:Gym Courts A & B,Schedules
GEO:34.8324379;-87.6683435
X-APPLE-STRUCTURED-LOCATION;VALUE=URI;X-ADDRESS=YMCA of the Shoals 2121 Helton Drive Florence AL 35630 United States;X-APPLE-RADIUS=500;X-TITLE=2121 Helton Drive:geo:-87.6683435,34.8324379
END:VEVENT
BEGIN:VEVENT
DTSTART;TZID=America/Chicago:20260521T080000
DTEND;TZID=America/Chicago:20260521T100000
DTSTAMP:20260423T120623
CREATED:20250530T134642Z
LAST-MODIFIED:20250530T134642Z
UID:182824-1779350400-1779357600@www.ymcashoals.org
SUMMARY:Rock Steady Boxing - Court B
DESCRIPTION:
URL:https://www.ymcashoals.org/event/rock-steady-boxing-court-b-2/2026-05-21/
LOCATION:YMCA of the Shoals\, 2121 Helton Drive\, Florence\, AL\, 35630\, United States
CATEGORIES:Gym Courts A & B,Schedules
GEO:34.8324379;-87.6683435
X-APPLE-STRUCTURED-LOCATION;VALUE=URI;X-ADDRESS=YMCA of the Shoals 2121 Helton Drive Florence AL 35630 United States;X-APPLE-RADIUS=500;X-TITLE=2121 Helton Drive:geo:-87.6683435,34.8324379
END:VEVENT
BEGIN:VEVENT
DTSTART;TZID=America/Chicago:20260526T080000
DTEND;TZID=America/Chicago:20260526T100000
DTSTAMP:20260423T120623
CREATED:20250530T134642Z
LAST-MODIFIED:20250530T134642Z
UID:182825-1779782400-1779789600@www.ymcashoals.org
SUMMARY:Rock Steady Boxing - Court B
DESCRIPTION:
URL:https://www.ymcashoals.org/event/rock-steady-boxing-court-b-2/2026-05-26/
LOCATION:YMCA of the Shoals\, 2121 Helton Drive\, Florence\, AL\, 35630\, United States
CATEGORIES:Gym Courts A & B,Schedules
GEO:34.8324379;-87.6683435
X-APPLE-STRUCTURED-LOCATION;VALUE=URI;X-ADDRESS=YMCA of the Shoals 2121 Helton Drive Florence AL 35630 United States;X-APPLE-RADIUS=500;X-TITLE=2121 Helton Drive:geo:-87.6683435,34.8324379
END:VEVENT
BEGIN:VEVENT
DTSTART;TZID=America/Chicago:20260528T080000
DTEND;TZID=America/Chicago:20260528T100000
DTSTAMP:20260423T120623
CREATED:20250530T134642Z
LAST-MODIFIED:20250530T134642Z
UID:182826-1779955200-1779962400@www.ymcashoals.org
SUMMARY:Rock Steady Boxing - Court B
DESCRIPTION:
URL:https://www.ymcashoals.org/event/rock-steady-boxing-court-b-2/2026-05-28/
LOCATION:YMCA of the Shoals\, 2121 Helton Drive\, Florence\, AL\, 35630\, United States
CATEGORIES:Gym Courts A & B,Schedules
GEO:34.8324379;-87.6683435
X-APPLE-STRUCTURED-LOCATION;VALUE=URI;X-ADDRESS=YMCA of the Shoals 2121 Helton Drive Florence AL 35630 United States;X-APPLE-RADIUS=500;X-TITLE=2121 Helton Drive:geo:-87.6683435,34.8324379
END:VEVENT
BEGIN:VEVENT
DTSTART;TZID=America/Chicago:20260602T080000
DTEND;TZID=America/Chicago:20260602T100000
DTSTAMP:20260423T120623
CREATED:20250530T134642Z
LAST-MODIFIED:20250530T134642Z
UID:182827-1780387200-1780394400@www.ymcashoals.org
SUMMARY:Rock Steady Boxing - Court B
DESCRIPTION:
URL:https://www.ymcashoals.org/event/rock-steady-boxing-court-b-2/2026-06-02/
LOCATION:YMCA of the Shoals\, 2121 Helton Drive\, Florence\, AL\, 35630\, United States
CATEGORIES:Gym Courts A & B,Schedules
GEO:34.8324379;-87.6683435
X-APPLE-STRUCTURED-LOCATION;VALUE=URI;X-ADDRESS=YMCA of the Shoals 2121 Helton Drive Florence AL 35630 United States;X-APPLE-RADIUS=500;X-TITLE=2121 Helton Drive:geo:-87.6683435,34.8324379
END:VEVENT
BEGIN:VEVENT
DTSTART;TZID=America/Chicago:20260604T080000
DTEND;TZID=America/Chicago:20260604T100000
DTSTAMP:20260423T120623
CREATED:20250530T134642Z
LAST-MODIFIED:20250530T134642Z
UID:182828-1780560000-1780567200@www.ymcashoals.org
SUMMARY:Rock Steady Boxing - Court B
DESCRIPTION:
URL:https://www.ymcashoals.org/event/rock-steady-boxing-court-b-2/2026-06-04/
LOCATION:YMCA of the Shoals\, 2121 Helton Drive\, Florence\, AL\, 35630\, United States
CATEGORIES:Gym Courts A & B,Schedules
GEO:34.8324379;-87.6683435
X-APPLE-STRUCTURED-LOCATION;VALUE=URI;X-ADDRESS=YMCA of the Shoals 2121 Helton Drive Florence AL 35630 United States;X-APPLE-RADIUS=500;X-TITLE=2121 Helton Drive:geo:-87.6683435,34.8324379
END:VEVENT
BEGIN:VEVENT
DTSTART;TZID=America/Chicago:20260609T080000
DTEND;TZID=America/Chicago:20260609T100000
DTSTAMP:20260423T120623
CREATED:20250530T134642Z
LAST-MODIFIED:20250530T134642Z
UID:182829-1780992000-1780999200@www.ymcashoals.org
SUMMARY:Rock Steady Boxing - Court B
DESCRIPTION:
URL:https://www.ymcashoals.org/event/rock-steady-boxing-court-b-2/2026-06-09/
LOCATION:YMCA of the Shoals\, 2121 Helton Drive\, Florence\, AL\, 35630\, United States
CATEGORIES:Gym Courts A & B,Schedules
GEO:34.8324379;-87.6683435
X-APPLE-STRUCTURED-LOCATION;VALUE=URI;X-ADDRESS=YMCA of the Shoals 2121 Helton Drive Florence AL 35630 United States;X-APPLE-RADIUS=500;X-TITLE=2121 Helton Drive:geo:-87.6683435,34.8324379
END:VEVENT
BEGIN:VEVENT
DTSTART;TZID=America/Chicago:20260611T080000
DTEND;TZID=America/Chicago:20260611T100000
DTSTAMP:20260423T120623
CREATED:20250530T134642Z
LAST-MODIFIED:20250530T134642Z
UID:182830-1781164800-1781172000@www.ymcashoals.org
SUMMARY:Rock Steady Boxing - Court B
DESCRIPTION:
URL:https://www.ymcashoals.org/event/rock-steady-boxing-court-b-2/2026-06-11/
LOCATION:YMCA of the Shoals\, 2121 Helton Drive\, Florence\, AL\, 35630\, United States
CATEGORIES:Gym Courts A & B,Schedules
GEO:34.8324379;-87.6683435
X-APPLE-STRUCTURED-LOCATION;VALUE=URI;X-ADDRESS=YMCA of the Shoals 2121 Helton Drive Florence AL 35630 United States;X-APPLE-RADIUS=500;X-TITLE=2121 Helton Drive:geo:-87.6683435,34.8324379
END:VEVENT
BEGIN:VEVENT
DTSTART;TZID=America/Chicago:20260616T080000
DTEND;TZID=America/Chicago:20260616T100000
DTSTAMP:20260423T120623
CREATED:20250530T134642Z
LAST-MODIFIED:20250530T134642Z
UID:182831-1781596800-1781604000@www.ymcashoals.org
SUMMARY:Rock Steady Boxing - Court B
DESCRIPTION:
URL:https://www.ymcashoals.org/event/rock-steady-boxing-court-b-2/2026-06-16/
LOCATION:YMCA of the Shoals\, 2121 Helton Drive\, Florence\, AL\, 35630\, United States
CATEGORIES:Gym Courts A & B,Schedules
GEO:34.8324379;-87.6683435
X-APPLE-STRUCTURED-LOCATION;VALUE=URI;X-ADDRESS=YMCA of the Shoals 2121 Helton Drive Florence AL 35630 United States;X-APPLE-RADIUS=500;X-TITLE=2121 Helton Drive:geo:-87.6683435,34.8324379
END:VEVENT
BEGIN:VEVENT
DTSTART;TZID=America/Chicago:20260618T080000
DTEND;TZID=America/Chicago:20260618T100000
DTSTAMP:20260423T120623
CREATED:20250530T134642Z
LAST-MODIFIED:20250530T134642Z
UID:182832-1781769600-1781776800@www.ymcashoals.org
SUMMARY:Rock Steady Boxing - Court B
DESCRIPTION:
URL:https://www.ymcashoals.org/event/rock-steady-boxing-court-b-2/2026-06-18/
LOCATION:YMCA of the Shoals\, 2121 Helton Drive\, Florence\, AL\, 35630\, United States
CATEGORIES:Gym Courts A & B,Schedules
GEO:34.8324379;-87.6683435
X-APPLE-STRUCTURED-LOCATION;VALUE=URI;X-ADDRESS=YMCA of the Shoals 2121 Helton Drive Florence AL 35630 United States;X-APPLE-RADIUS=500;X-TITLE=2121 Helton Drive:geo:-87.6683435,34.8324379
END:VEVENT
BEGIN:VEVENT
DTSTART;TZID=America/Chicago:20260623T080000
DTEND;TZID=America/Chicago:20260623T100000
DTSTAMP:20260423T120623
CREATED:20250530T134642Z
LAST-MODIFIED:20250530T134642Z
UID:182833-1782201600-1782208800@www.ymcashoals.org
SUMMARY:Rock Steady Boxing - Court B
DESCRIPTION:
URL:https://www.ymcashoals.org/event/rock-steady-boxing-court-b-2/2026-06-23/
LOCATION:YMCA of the Shoals\, 2121 Helton Drive\, Florence\, AL\, 35630\, United States
CATEGORIES:Gym Courts A & B,Schedules
GEO:34.8324379;-87.6683435
X-APPLE-STRUCTURED-LOCATION;VALUE=URI;X-ADDRESS=YMCA of the Shoals 2121 Helton Drive Florence AL 35630 United States;X-APPLE-RADIUS=500;X-TITLE=2121 Helton Drive:geo:-87.6683435,34.8324379
END:VEVENT
BEGIN:VEVENT
DTSTART;TZID=America/Chicago:20260625T080000
DTEND;TZID=America/Chicago:20260625T100000
DTSTAMP:20260423T120623
CREATED:20250530T134642Z
LAST-MODIFIED:20250530T134642Z
UID:182834-1782374400-1782381600@www.ymcashoals.org
SUMMARY:Rock Steady Boxing - Court B
DESCRIPTION:
URL:https://www.ymcashoals.org/event/rock-steady-boxing-court-b-2/2026-06-25/
LOCATION:YMCA of the Shoals\, 2121 Helton Drive\, Florence\, AL\, 35630\, United States
CATEGORIES:Gym Courts A & B,Schedules
GEO:34.8324379;-87.6683435
X-APPLE-STRUCTURED-LOCATION;VALUE=URI;X-ADDRESS=YMCA of the Shoals 2121 Helton Drive Florence AL 35630 United States;X-APPLE-RADIUS=500;X-TITLE=2121 Helton Drive:geo:-87.6683435,34.8324379
END:VEVENT
BEGIN:VEVENT
DTSTART;TZID=America/Chicago:20260630T080000
DTEND;TZID=America/Chicago:20260630T100000
DTSTAMP:20260423T120623
CREATED:20250530T134642Z
LAST-MODIFIED:20250530T134642Z
UID:183221-1782806400-1782813600@www.ymcashoals.org
SUMMARY:Rock Steady Boxing - Court B
DESCRIPTION:
URL:https://www.ymcashoals.org/event/rock-steady-boxing-court-b-2/2026-06-30/
LOCATION:YMCA of the Shoals\, 2121 Helton Drive\, Florence\, AL\, 35630\, United States
CATEGORIES:Gym Courts A & B,Schedules
GEO:34.8324379;-87.6683435
X-APPLE-STRUCTURED-LOCATION;VALUE=URI;X-ADDRESS=YMCA of the Shoals 2121 Helton Drive Florence AL 35630 United States;X-APPLE-RADIUS=500;X-TITLE=2121 Helton Drive:geo:-87.6683435,34.8324379
END:VEVENT
END:VCALENDAR