BEGIN:VCALENDAR
VERSION:2.0
PRODID:-//YMCA of the Shoals - ECPv6.15.20//NONSGML v1.0//EN
CALSCALE:GREGORIAN
METHOD:PUBLISH
X-ORIGINAL-URL:https://www.ymcashoals.org
X-WR-CALDESC:Events for YMCA of the Shoals
REFRESH-INTERVAL;VALUE=DURATION:PT1H
X-Robots-Tag:noindex
X-PUBLISHED-TTL:PT1H
BEGIN:VTIMEZONE
TZID:America/Chicago
BEGIN:DAYLIGHT
TZOFFSETFROM:-0600
TZOFFSETTO:-0500
TZNAME:CDT
DTSTART:20250309T080000
END:DAYLIGHT
BEGIN:STANDARD
TZOFFSETFROM:-0500
TZOFFSETTO:-0600
TZNAME:CST
DTSTART:20251102T070000
END:STANDARD
BEGIN:DAYLIGHT
TZOFFSETFROM:-0600
TZOFFSETTO:-0500
TZNAME:CDT
DTSTART:20260308T080000
END:DAYLIGHT
BEGIN:STANDARD
TZOFFSETFROM:-0500
TZOFFSETTO:-0600
TZNAME:CST
DTSTART:20261101T070000
END:STANDARD
BEGIN:DAYLIGHT
TZOFFSETFROM:-0600
TZOFFSETTO:-0500
TZNAME:CDT
DTSTART:20270314T080000
END:DAYLIGHT
BEGIN:STANDARD
TZOFFSETFROM:-0500
TZOFFSETTO:-0600
TZNAME:CST
DTSTART:20271107T070000
END:STANDARD
END:VTIMEZONE
BEGIN:VEVENT
DTSTART;TZID=America/Chicago:20260418T104000
DTEND;TZID=America/Chicago:20260418T111000
DTSTAMP:20260423T142502
CREATED:20240312T033701Z
LAST-MODIFIED:20260109T141028Z
UID:188542-1776508800-1776510600@www.ymcashoals.org
SUMMARY:Mom\, Pop & tot Swim Lessons (6m-3yr) -Saturdays
DESCRIPTION:Accompanied by a parent or guardian\, infants and toddlers learn to be comfortable in the water and develop swim readiness skills through fun and confidence building experiences. Parents/Guardians will learn about water safety\, drowning prevention and the importance of supervision. \nParent/Guardian must remain in water with child at all times. SWIM DIAPERS REQUIRED UNLESS POTTY TRAINED.
URL:https://www.ymcashoals.org/event/mom-pop-tot-swim-lessons-6m-3yr-saturdays-2/2026-04-18/
LOCATION:YMCA of the Shoals\, 2121 Helton Drive\, Florence\, AL\, 35630\, United States
CATEGORIES:Leisure Pool Schedule,Schedules,Swim Lessons
GEO:34.8324379;-87.6683435
X-APPLE-STRUCTURED-LOCATION;VALUE=URI;X-ADDRESS=YMCA of the Shoals 2121 Helton Drive Florence AL 35630 United States;X-APPLE-RADIUS=500;X-TITLE=2121 Helton Drive:geo:-87.6683435,34.8324379
END:VEVENT
BEGIN:VEVENT
DTSTART;TZID=America/Chicago:20260411T104000
DTEND;TZID=America/Chicago:20260411T111000
DTSTAMP:20260423T142502
CREATED:20240312T033701Z
LAST-MODIFIED:20260109T141028Z
UID:188541-1775904000-1775905800@www.ymcashoals.org
SUMMARY:Mom\, Pop & tot Swim Lessons (6m-3yr) -Saturdays
DESCRIPTION:Accompanied by a parent or guardian\, infants and toddlers learn to be comfortable in the water and develop swim readiness skills through fun and confidence building experiences. Parents/Guardians will learn about water safety\, drowning prevention and the importance of supervision. \nParent/Guardian must remain in water with child at all times. SWIM DIAPERS REQUIRED UNLESS POTTY TRAINED.
URL:https://www.ymcashoals.org/event/mom-pop-tot-swim-lessons-6m-3yr-saturdays-2/2026-04-11/
LOCATION:YMCA of the Shoals\, 2121 Helton Drive\, Florence\, AL\, 35630\, United States
CATEGORIES:Leisure Pool Schedule,Schedules,Swim Lessons
GEO:34.8324379;-87.6683435
X-APPLE-STRUCTURED-LOCATION;VALUE=URI;X-ADDRESS=YMCA of the Shoals 2121 Helton Drive Florence AL 35630 United States;X-APPLE-RADIUS=500;X-TITLE=2121 Helton Drive:geo:-87.6683435,34.8324379
END:VEVENT
BEGIN:VEVENT
DTSTART;TZID=America/Chicago:20260404T104000
DTEND;TZID=America/Chicago:20260404T111000
DTSTAMP:20260423T142502
CREATED:20240312T033701Z
LAST-MODIFIED:20260109T141028Z
UID:188540-1775299200-1775301000@www.ymcashoals.org
SUMMARY:Mom\, Pop & tot Swim Lessons (6m-3yr) -Saturdays
DESCRIPTION:Accompanied by a parent or guardian\, infants and toddlers learn to be comfortable in the water and develop swim readiness skills through fun and confidence building experiences. Parents/Guardians will learn about water safety\, drowning prevention and the importance of supervision. \nParent/Guardian must remain in water with child at all times. SWIM DIAPERS REQUIRED UNLESS POTTY TRAINED.
URL:https://www.ymcashoals.org/event/mom-pop-tot-swim-lessons-6m-3yr-saturdays-2/2026-04-04/
LOCATION:YMCA of the Shoals\, 2121 Helton Drive\, Florence\, AL\, 35630\, United States
CATEGORIES:Leisure Pool Schedule,Schedules,Swim Lessons
GEO:34.8324379;-87.6683435
X-APPLE-STRUCTURED-LOCATION;VALUE=URI;X-ADDRESS=YMCA of the Shoals 2121 Helton Drive Florence AL 35630 United States;X-APPLE-RADIUS=500;X-TITLE=2121 Helton Drive:geo:-87.6683435,34.8324379
END:VEVENT
BEGIN:VEVENT
DTSTART;TZID=America/Chicago:20260328T104000
DTEND;TZID=America/Chicago:20260328T111000
DTSTAMP:20260423T142502
CREATED:20240312T033701Z
LAST-MODIFIED:20260109T141028Z
UID:188539-1774694400-1774696200@www.ymcashoals.org
SUMMARY:Mom\, Pop & tot Swim Lessons (6m-3yr) -Saturdays
DESCRIPTION:Accompanied by a parent or guardian\, infants and toddlers learn to be comfortable in the water and develop swim readiness skills through fun and confidence building experiences. Parents/Guardians will learn about water safety\, drowning prevention and the importance of supervision. \nParent/Guardian must remain in water with child at all times. SWIM DIAPERS REQUIRED UNLESS POTTY TRAINED.
URL:https://www.ymcashoals.org/event/mom-pop-tot-swim-lessons-6m-3yr-saturdays-2/2026-03-28/
LOCATION:YMCA of the Shoals\, 2121 Helton Drive\, Florence\, AL\, 35630\, United States
CATEGORIES:Leisure Pool Schedule,Schedules,Swim Lessons
GEO:34.8324379;-87.6683435
X-APPLE-STRUCTURED-LOCATION;VALUE=URI;X-ADDRESS=YMCA of the Shoals 2121 Helton Drive Florence AL 35630 United States;X-APPLE-RADIUS=500;X-TITLE=2121 Helton Drive:geo:-87.6683435,34.8324379
END:VEVENT
BEGIN:VEVENT
DTSTART;TZID=America/Chicago:20260110T104000
DTEND;TZID=America/Chicago:20260110T111000
DTSTAMP:20260423T142502
CREATED:20240312T033701Z
LAST-MODIFIED:20260109T141017Z
UID:167203-1768041600-1768043400@www.ymcashoals.org
SUMMARY:Mom\, Pop & tot Swim Lessons (6m-3yr) -Saturdays
DESCRIPTION:Accompanied by a parent or guardian\, infants and toddlers learn to be comfortable in the water and develop swim readiness skills through fun and confidence building experiences. Parents/Guardians will learn about water safety\, drowning prevention and the importance of supervision. \nParent/Guardian must remain in water with child at all times. SWIM DIAPERS REQUIRED UNLESS POTTY TRAINED.
URL:https://www.ymcashoals.org/event/mom-pop-tot-swim-lessons-6m-3yr-saturdays-2/2026-01-10/
LOCATION:YMCA of the Shoals\, 2121 Helton Drive\, Florence\, AL\, 35630\, United States
CATEGORIES:Leisure Pool Schedule,Schedules,Swim Lessons
GEO:34.8324379;-87.6683435
X-APPLE-STRUCTURED-LOCATION;VALUE=URI;X-ADDRESS=YMCA of the Shoals 2121 Helton Drive Florence AL 35630 United States;X-APPLE-RADIUS=500;X-TITLE=2121 Helton Drive:geo:-87.6683435,34.8324379
END:VEVENT
END:VCALENDAR