BEGIN:VCALENDAR
VERSION:2.0
PRODID:-//YMCA of the Shoals - ECPv6.15.20//NONSGML v1.0//EN
CALSCALE:GREGORIAN
METHOD:PUBLISH
X-WR-CALNAME:YMCA of the Shoals
X-ORIGINAL-URL:https://www.ymcashoals.org
X-WR-CALDESC:Events for YMCA of the Shoals
REFRESH-INTERVAL;VALUE=DURATION:PT1H
X-Robots-Tag:noindex
X-PUBLISHED-TTL:PT1H
BEGIN:VTIMEZONE
TZID:America/Chicago
BEGIN:DAYLIGHT
TZOFFSETFROM:-0600
TZOFFSETTO:-0500
TZNAME:CDT
DTSTART:20250309T080000
END:DAYLIGHT
BEGIN:STANDARD
TZOFFSETFROM:-0500
TZOFFSETTO:-0600
TZNAME:CST
DTSTART:20251102T070000
END:STANDARD
BEGIN:DAYLIGHT
TZOFFSETFROM:-0600
TZOFFSETTO:-0500
TZNAME:CDT
DTSTART:20260308T080000
END:DAYLIGHT
BEGIN:STANDARD
TZOFFSETFROM:-0500
TZOFFSETTO:-0600
TZNAME:CST
DTSTART:20261101T070000
END:STANDARD
BEGIN:DAYLIGHT
TZOFFSETFROM:-0600
TZOFFSETTO:-0500
TZNAME:CDT
DTSTART:20270314T080000
END:DAYLIGHT
BEGIN:STANDARD
TZOFFSETFROM:-0500
TZOFFSETTO:-0600
TZNAME:CST
DTSTART:20271107T070000
END:STANDARD
END:VTIMEZONE
BEGIN:VEVENT
DTSTART;TZID=America/Chicago:20260427T051500
DTEND;TZID=America/Chicago:20260427T060000
DTSTAMP:20260423T151903
CREATED:20250224T205113Z
LAST-MODIFIED:20250224T205113Z
UID:192121-1777266900-1777269600@www.ymcashoals.org
SUMMARY:Kickboxing (Kimberly)
DESCRIPTION:
URL:https://www.ymcashoals.org/event/kickboxing-elle/2026-04-27/
LOCATION:YMCA of the Shoals\, 2121 Helton Drive\, Florence\, AL\, 35630\, United States
CATEGORIES:Group Exercise (GXR),Schedules
GEO:34.8324379;-87.6683435
X-APPLE-STRUCTURED-LOCATION;VALUE=URI;X-ADDRESS=YMCA of the Shoals 2121 Helton Drive Florence AL 35630 United States;X-APPLE-RADIUS=500;X-TITLE=2121 Helton Drive:geo:-87.6683435,34.8324379
END:VEVENT
BEGIN:VEVENT
DTSTART;TZID=America/Chicago:20260429T051500
DTEND;TZID=America/Chicago:20260429T060000
DTSTAMP:20260423T151903
CREATED:20250224T205113Z
LAST-MODIFIED:20250224T205113Z
UID:192122-1777439700-1777442400@www.ymcashoals.org
SUMMARY:Kickboxing (Kimberly)
DESCRIPTION:
URL:https://www.ymcashoals.org/event/kickboxing-elle/2026-04-29/
LOCATION:YMCA of the Shoals\, 2121 Helton Drive\, Florence\, AL\, 35630\, United States
CATEGORIES:Group Exercise (GXR),Schedules
GEO:34.8324379;-87.6683435
X-APPLE-STRUCTURED-LOCATION;VALUE=URI;X-ADDRESS=YMCA of the Shoals 2121 Helton Drive Florence AL 35630 United States;X-APPLE-RADIUS=500;X-TITLE=2121 Helton Drive:geo:-87.6683435,34.8324379
END:VEVENT
BEGIN:VEVENT
DTSTART;TZID=America/Chicago:20260504T051500
DTEND;TZID=America/Chicago:20260504T060000
DTSTAMP:20260423T151903
CREATED:20250224T205113Z
LAST-MODIFIED:20250224T205113Z
UID:192123-1777871700-1777874400@www.ymcashoals.org
SUMMARY:Kickboxing (Kimberly)
DESCRIPTION:
URL:https://www.ymcashoals.org/event/kickboxing-elle/2026-05-04/
LOCATION:YMCA of the Shoals\, 2121 Helton Drive\, Florence\, AL\, 35630\, United States
CATEGORIES:Group Exercise (GXR),Schedules
GEO:34.8324379;-87.6683435
X-APPLE-STRUCTURED-LOCATION;VALUE=URI;X-ADDRESS=YMCA of the Shoals 2121 Helton Drive Florence AL 35630 United States;X-APPLE-RADIUS=500;X-TITLE=2121 Helton Drive:geo:-87.6683435,34.8324379
END:VEVENT
BEGIN:VEVENT
DTSTART;TZID=America/Chicago:20260506T051500
DTEND;TZID=America/Chicago:20260506T060000
DTSTAMP:20260423T151903
CREATED:20250224T205113Z
LAST-MODIFIED:20250224T205113Z
UID:192124-1778044500-1778047200@www.ymcashoals.org
SUMMARY:Kickboxing (Kimberly)
DESCRIPTION:
URL:https://www.ymcashoals.org/event/kickboxing-elle/2026-05-06/
LOCATION:YMCA of the Shoals\, 2121 Helton Drive\, Florence\, AL\, 35630\, United States
CATEGORIES:Group Exercise (GXR),Schedules
GEO:34.8324379;-87.6683435
X-APPLE-STRUCTURED-LOCATION;VALUE=URI;X-ADDRESS=YMCA of the Shoals 2121 Helton Drive Florence AL 35630 United States;X-APPLE-RADIUS=500;X-TITLE=2121 Helton Drive:geo:-87.6683435,34.8324379
END:VEVENT
BEGIN:VEVENT
DTSTART;TZID=America/Chicago:20260511T051500
DTEND;TZID=America/Chicago:20260511T060000
DTSTAMP:20260423T151903
CREATED:20250224T205113Z
LAST-MODIFIED:20250224T205113Z
UID:192125-1778476500-1778479200@www.ymcashoals.org
SUMMARY:Kickboxing (Kimberly)
DESCRIPTION:
URL:https://www.ymcashoals.org/event/kickboxing-elle/2026-05-11/
LOCATION:YMCA of the Shoals\, 2121 Helton Drive\, Florence\, AL\, 35630\, United States
CATEGORIES:Group Exercise (GXR),Schedules
GEO:34.8324379;-87.6683435
X-APPLE-STRUCTURED-LOCATION;VALUE=URI;X-ADDRESS=YMCA of the Shoals 2121 Helton Drive Florence AL 35630 United States;X-APPLE-RADIUS=500;X-TITLE=2121 Helton Drive:geo:-87.6683435,34.8324379
END:VEVENT
BEGIN:VEVENT
DTSTART;TZID=America/Chicago:20260513T051500
DTEND;TZID=America/Chicago:20260513T060000
DTSTAMP:20260423T151903
CREATED:20250224T205113Z
LAST-MODIFIED:20250224T205113Z
UID:192126-1778649300-1778652000@www.ymcashoals.org
SUMMARY:Kickboxing (Kimberly)
DESCRIPTION:
URL:https://www.ymcashoals.org/event/kickboxing-elle/2026-05-13/
LOCATION:YMCA of the Shoals\, 2121 Helton Drive\, Florence\, AL\, 35630\, United States
CATEGORIES:Group Exercise (GXR),Schedules
GEO:34.8324379;-87.6683435
X-APPLE-STRUCTURED-LOCATION;VALUE=URI;X-ADDRESS=YMCA of the Shoals 2121 Helton Drive Florence AL 35630 United States;X-APPLE-RADIUS=500;X-TITLE=2121 Helton Drive:geo:-87.6683435,34.8324379
END:VEVENT
BEGIN:VEVENT
DTSTART;TZID=America/Chicago:20260518T051500
DTEND;TZID=America/Chicago:20260518T060000
DTSTAMP:20260423T151903
CREATED:20250224T205113Z
LAST-MODIFIED:20250224T205113Z
UID:192127-1779081300-1779084000@www.ymcashoals.org
SUMMARY:Kickboxing (Kimberly)
DESCRIPTION:
URL:https://www.ymcashoals.org/event/kickboxing-elle/2026-05-18/
LOCATION:YMCA of the Shoals\, 2121 Helton Drive\, Florence\, AL\, 35630\, United States
CATEGORIES:Group Exercise (GXR),Schedules
GEO:34.8324379;-87.6683435
X-APPLE-STRUCTURED-LOCATION;VALUE=URI;X-ADDRESS=YMCA of the Shoals 2121 Helton Drive Florence AL 35630 United States;X-APPLE-RADIUS=500;X-TITLE=2121 Helton Drive:geo:-87.6683435,34.8324379
END:VEVENT
BEGIN:VEVENT
DTSTART;TZID=America/Chicago:20260520T051500
DTEND;TZID=America/Chicago:20260520T060000
DTSTAMP:20260423T151903
CREATED:20250224T205113Z
LAST-MODIFIED:20250224T205113Z
UID:192128-1779254100-1779256800@www.ymcashoals.org
SUMMARY:Kickboxing (Kimberly)
DESCRIPTION:
URL:https://www.ymcashoals.org/event/kickboxing-elle/2026-05-20/
LOCATION:YMCA of the Shoals\, 2121 Helton Drive\, Florence\, AL\, 35630\, United States
CATEGORIES:Group Exercise (GXR),Schedules
GEO:34.8324379;-87.6683435
X-APPLE-STRUCTURED-LOCATION;VALUE=URI;X-ADDRESS=YMCA of the Shoals 2121 Helton Drive Florence AL 35630 United States;X-APPLE-RADIUS=500;X-TITLE=2121 Helton Drive:geo:-87.6683435,34.8324379
END:VEVENT
BEGIN:VEVENT
DTSTART;TZID=America/Chicago:20260525T051500
DTEND;TZID=America/Chicago:20260525T060000
DTSTAMP:20260423T151903
CREATED:20250224T205113Z
LAST-MODIFIED:20250224T205113Z
UID:192129-1779686100-1779688800@www.ymcashoals.org
SUMMARY:Kickboxing (Kimberly)
DESCRIPTION:
URL:https://www.ymcashoals.org/event/kickboxing-elle/2026-05-25/
LOCATION:YMCA of the Shoals\, 2121 Helton Drive\, Florence\, AL\, 35630\, United States
CATEGORIES:Group Exercise (GXR),Schedules
GEO:34.8324379;-87.6683435
X-APPLE-STRUCTURED-LOCATION;VALUE=URI;X-ADDRESS=YMCA of the Shoals 2121 Helton Drive Florence AL 35630 United States;X-APPLE-RADIUS=500;X-TITLE=2121 Helton Drive:geo:-87.6683435,34.8324379
END:VEVENT
BEGIN:VEVENT
DTSTART;TZID=America/Chicago:20260527T051500
DTEND;TZID=America/Chicago:20260527T060000
DTSTAMP:20260423T151903
CREATED:20250224T205113Z
LAST-MODIFIED:20250224T205113Z
UID:192130-1779858900-1779861600@www.ymcashoals.org
SUMMARY:Kickboxing (Kimberly)
DESCRIPTION:
URL:https://www.ymcashoals.org/event/kickboxing-elle/2026-05-27/
LOCATION:YMCA of the Shoals\, 2121 Helton Drive\, Florence\, AL\, 35630\, United States
CATEGORIES:Group Exercise (GXR),Schedules
GEO:34.8324379;-87.6683435
X-APPLE-STRUCTURED-LOCATION;VALUE=URI;X-ADDRESS=YMCA of the Shoals 2121 Helton Drive Florence AL 35630 United States;X-APPLE-RADIUS=500;X-TITLE=2121 Helton Drive:geo:-87.6683435,34.8324379
END:VEVENT
BEGIN:VEVENT
DTSTART;TZID=America/Chicago:20260601T051500
DTEND;TZID=America/Chicago:20260601T060000
DTSTAMP:20260423T151903
CREATED:20250224T205113Z
LAST-MODIFIED:20250224T205113Z
UID:192131-1780290900-1780293600@www.ymcashoals.org
SUMMARY:Kickboxing (Kimberly)
DESCRIPTION:
URL:https://www.ymcashoals.org/event/kickboxing-elle/2026-06-01/
LOCATION:YMCA of the Shoals\, 2121 Helton Drive\, Florence\, AL\, 35630\, United States
CATEGORIES:Group Exercise (GXR),Schedules
GEO:34.8324379;-87.6683435
X-APPLE-STRUCTURED-LOCATION;VALUE=URI;X-ADDRESS=YMCA of the Shoals 2121 Helton Drive Florence AL 35630 United States;X-APPLE-RADIUS=500;X-TITLE=2121 Helton Drive:geo:-87.6683435,34.8324379
END:VEVENT
BEGIN:VEVENT
DTSTART;TZID=America/Chicago:20260603T051500
DTEND;TZID=America/Chicago:20260603T060000
DTSTAMP:20260423T151903
CREATED:20250224T205113Z
LAST-MODIFIED:20250224T205113Z
UID:192132-1780463700-1780466400@www.ymcashoals.org
SUMMARY:Kickboxing (Kimberly)
DESCRIPTION:
URL:https://www.ymcashoals.org/event/kickboxing-elle/2026-06-03/
LOCATION:YMCA of the Shoals\, 2121 Helton Drive\, Florence\, AL\, 35630\, United States
CATEGORIES:Group Exercise (GXR),Schedules
GEO:34.8324379;-87.6683435
X-APPLE-STRUCTURED-LOCATION;VALUE=URI;X-ADDRESS=YMCA of the Shoals 2121 Helton Drive Florence AL 35630 United States;X-APPLE-RADIUS=500;X-TITLE=2121 Helton Drive:geo:-87.6683435,34.8324379
END:VEVENT
BEGIN:VEVENT
DTSTART;TZID=America/Chicago:20260608T051500
DTEND;TZID=America/Chicago:20260608T060000
DTSTAMP:20260423T151903
CREATED:20250224T205113Z
LAST-MODIFIED:20250224T205113Z
UID:192133-1780895700-1780898400@www.ymcashoals.org
SUMMARY:Kickboxing (Kimberly)
DESCRIPTION:
URL:https://www.ymcashoals.org/event/kickboxing-elle/2026-06-08/
LOCATION:YMCA of the Shoals\, 2121 Helton Drive\, Florence\, AL\, 35630\, United States
CATEGORIES:Group Exercise (GXR),Schedules
GEO:34.8324379;-87.6683435
X-APPLE-STRUCTURED-LOCATION;VALUE=URI;X-ADDRESS=YMCA of the Shoals 2121 Helton Drive Florence AL 35630 United States;X-APPLE-RADIUS=500;X-TITLE=2121 Helton Drive:geo:-87.6683435,34.8324379
END:VEVENT
BEGIN:VEVENT
DTSTART;TZID=America/Chicago:20260610T051500
DTEND;TZID=America/Chicago:20260610T060000
DTSTAMP:20260423T151903
CREATED:20250224T205113Z
LAST-MODIFIED:20250224T205113Z
UID:192134-1781068500-1781071200@www.ymcashoals.org
SUMMARY:Kickboxing (Kimberly)
DESCRIPTION:
URL:https://www.ymcashoals.org/event/kickboxing-elle/2026-06-10/
LOCATION:YMCA of the Shoals\, 2121 Helton Drive\, Florence\, AL\, 35630\, United States
CATEGORIES:Group Exercise (GXR),Schedules
GEO:34.8324379;-87.6683435
X-APPLE-STRUCTURED-LOCATION;VALUE=URI;X-ADDRESS=YMCA of the Shoals 2121 Helton Drive Florence AL 35630 United States;X-APPLE-RADIUS=500;X-TITLE=2121 Helton Drive:geo:-87.6683435,34.8324379
END:VEVENT
BEGIN:VEVENT
DTSTART;TZID=America/Chicago:20260615T051500
DTEND;TZID=America/Chicago:20260615T060000
DTSTAMP:20260423T151903
CREATED:20250224T205113Z
LAST-MODIFIED:20250224T205113Z
UID:192135-1781500500-1781503200@www.ymcashoals.org
SUMMARY:Kickboxing (Kimberly)
DESCRIPTION:
URL:https://www.ymcashoals.org/event/kickboxing-elle/2026-06-15/
LOCATION:YMCA of the Shoals\, 2121 Helton Drive\, Florence\, AL\, 35630\, United States
CATEGORIES:Group Exercise (GXR),Schedules
GEO:34.8324379;-87.6683435
X-APPLE-STRUCTURED-LOCATION;VALUE=URI;X-ADDRESS=YMCA of the Shoals 2121 Helton Drive Florence AL 35630 United States;X-APPLE-RADIUS=500;X-TITLE=2121 Helton Drive:geo:-87.6683435,34.8324379
END:VEVENT
BEGIN:VEVENT
DTSTART;TZID=America/Chicago:20260617T051500
DTEND;TZID=America/Chicago:20260617T060000
DTSTAMP:20260423T151903
CREATED:20250224T205113Z
LAST-MODIFIED:20250224T205113Z
UID:192136-1781673300-1781676000@www.ymcashoals.org
SUMMARY:Kickboxing (Kimberly)
DESCRIPTION:
URL:https://www.ymcashoals.org/event/kickboxing-elle/2026-06-17/
LOCATION:YMCA of the Shoals\, 2121 Helton Drive\, Florence\, AL\, 35630\, United States
CATEGORIES:Group Exercise (GXR),Schedules
GEO:34.8324379;-87.6683435
X-APPLE-STRUCTURED-LOCATION;VALUE=URI;X-ADDRESS=YMCA of the Shoals 2121 Helton Drive Florence AL 35630 United States;X-APPLE-RADIUS=500;X-TITLE=2121 Helton Drive:geo:-87.6683435,34.8324379
END:VEVENT
BEGIN:VEVENT
DTSTART;TZID=America/Chicago:20260622T051500
DTEND;TZID=America/Chicago:20260622T060000
DTSTAMP:20260423T151903
CREATED:20250224T205113Z
LAST-MODIFIED:20250224T205113Z
UID:192137-1782105300-1782108000@www.ymcashoals.org
SUMMARY:Kickboxing (Kimberly)
DESCRIPTION:
URL:https://www.ymcashoals.org/event/kickboxing-elle/2026-06-22/
LOCATION:YMCA of the Shoals\, 2121 Helton Drive\, Florence\, AL\, 35630\, United States
CATEGORIES:Group Exercise (GXR),Schedules
GEO:34.8324379;-87.6683435
X-APPLE-STRUCTURED-LOCATION;VALUE=URI;X-ADDRESS=YMCA of the Shoals 2121 Helton Drive Florence AL 35630 United States;X-APPLE-RADIUS=500;X-TITLE=2121 Helton Drive:geo:-87.6683435,34.8324379
END:VEVENT
BEGIN:VEVENT
DTSTART;TZID=America/Chicago:20260624T051500
DTEND;TZID=America/Chicago:20260624T060000
DTSTAMP:20260423T151903
CREATED:20250224T205113Z
LAST-MODIFIED:20250224T205113Z
UID:192138-1782278100-1782280800@www.ymcashoals.org
SUMMARY:Kickboxing (Kimberly)
DESCRIPTION:
URL:https://www.ymcashoals.org/event/kickboxing-elle/2026-06-24/
LOCATION:YMCA of the Shoals\, 2121 Helton Drive\, Florence\, AL\, 35630\, United States
CATEGORIES:Group Exercise (GXR),Schedules
GEO:34.8324379;-87.6683435
X-APPLE-STRUCTURED-LOCATION;VALUE=URI;X-ADDRESS=YMCA of the Shoals 2121 Helton Drive Florence AL 35630 United States;X-APPLE-RADIUS=500;X-TITLE=2121 Helton Drive:geo:-87.6683435,34.8324379
END:VEVENT
BEGIN:VEVENT
DTSTART;TZID=America/Chicago:20260629T051500
DTEND;TZID=America/Chicago:20260629T060000
DTSTAMP:20260423T151903
CREATED:20250224T205113Z
LAST-MODIFIED:20250224T205113Z
UID:192139-1782710100-1782712800@www.ymcashoals.org
SUMMARY:Kickboxing (Kimberly)
DESCRIPTION:
URL:https://www.ymcashoals.org/event/kickboxing-elle/2026-06-29/
LOCATION:YMCA of the Shoals\, 2121 Helton Drive\, Florence\, AL\, 35630\, United States
CATEGORIES:Group Exercise (GXR),Schedules
GEO:34.8324379;-87.6683435
X-APPLE-STRUCTURED-LOCATION;VALUE=URI;X-ADDRESS=YMCA of the Shoals 2121 Helton Drive Florence AL 35630 United States;X-APPLE-RADIUS=500;X-TITLE=2121 Helton Drive:geo:-87.6683435,34.8324379
END:VEVENT
BEGIN:VEVENT
DTSTART;TZID=America/Chicago:20260701T051500
DTEND;TZID=America/Chicago:20260701T060000
DTSTAMP:20260423T151903
CREATED:20250224T205113Z
LAST-MODIFIED:20250224T205113Z
UID:192140-1782882900-1782885600@www.ymcashoals.org
SUMMARY:Kickboxing (Kimberly)
DESCRIPTION:
URL:https://www.ymcashoals.org/event/kickboxing-elle/2026-07-01/
LOCATION:YMCA of the Shoals\, 2121 Helton Drive\, Florence\, AL\, 35630\, United States
CATEGORIES:Group Exercise (GXR),Schedules
GEO:34.8324379;-87.6683435
X-APPLE-STRUCTURED-LOCATION;VALUE=URI;X-ADDRESS=YMCA of the Shoals 2121 Helton Drive Florence AL 35630 United States;X-APPLE-RADIUS=500;X-TITLE=2121 Helton Drive:geo:-87.6683435,34.8324379
END:VEVENT
BEGIN:VEVENT
DTSTART;TZID=America/Chicago:20260706T051500
DTEND;TZID=America/Chicago:20260706T060000
DTSTAMP:20260423T151903
CREATED:20250224T205113Z
LAST-MODIFIED:20250224T205113Z
UID:192141-1783314900-1783317600@www.ymcashoals.org
SUMMARY:Kickboxing (Kimberly)
DESCRIPTION:
URL:https://www.ymcashoals.org/event/kickboxing-elle/2026-07-06/
LOCATION:YMCA of the Shoals\, 2121 Helton Drive\, Florence\, AL\, 35630\, United States
CATEGORIES:Group Exercise (GXR),Schedules
GEO:34.8324379;-87.6683435
X-APPLE-STRUCTURED-LOCATION;VALUE=URI;X-ADDRESS=YMCA of the Shoals 2121 Helton Drive Florence AL 35630 United States;X-APPLE-RADIUS=500;X-TITLE=2121 Helton Drive:geo:-87.6683435,34.8324379
END:VEVENT
BEGIN:VEVENT
DTSTART;TZID=America/Chicago:20260708T051500
DTEND;TZID=America/Chicago:20260708T060000
DTSTAMP:20260423T151903
CREATED:20250224T205113Z
LAST-MODIFIED:20250224T205113Z
UID:192142-1783487700-1783490400@www.ymcashoals.org
SUMMARY:Kickboxing (Kimberly)
DESCRIPTION:
URL:https://www.ymcashoals.org/event/kickboxing-elle/2026-07-08/
LOCATION:YMCA of the Shoals\, 2121 Helton Drive\, Florence\, AL\, 35630\, United States
CATEGORIES:Group Exercise (GXR),Schedules
GEO:34.8324379;-87.6683435
X-APPLE-STRUCTURED-LOCATION;VALUE=URI;X-ADDRESS=YMCA of the Shoals 2121 Helton Drive Florence AL 35630 United States;X-APPLE-RADIUS=500;X-TITLE=2121 Helton Drive:geo:-87.6683435,34.8324379
END:VEVENT
BEGIN:VEVENT
DTSTART;TZID=America/Chicago:20260713T051500
DTEND;TZID=America/Chicago:20260713T060000
DTSTAMP:20260423T151903
CREATED:20250224T205113Z
LAST-MODIFIED:20250224T205113Z
UID:192143-1783919700-1783922400@www.ymcashoals.org
SUMMARY:Kickboxing (Kimberly)
DESCRIPTION:
URL:https://www.ymcashoals.org/event/kickboxing-elle/2026-07-13/
LOCATION:YMCA of the Shoals\, 2121 Helton Drive\, Florence\, AL\, 35630\, United States
CATEGORIES:Group Exercise (GXR),Schedules
GEO:34.8324379;-87.6683435
X-APPLE-STRUCTURED-LOCATION;VALUE=URI;X-ADDRESS=YMCA of the Shoals 2121 Helton Drive Florence AL 35630 United States;X-APPLE-RADIUS=500;X-TITLE=2121 Helton Drive:geo:-87.6683435,34.8324379
END:VEVENT
BEGIN:VEVENT
DTSTART;TZID=America/Chicago:20260715T051500
DTEND;TZID=America/Chicago:20260715T060000
DTSTAMP:20260423T151903
CREATED:20250224T205113Z
LAST-MODIFIED:20250224T205113Z
UID:192144-1784092500-1784095200@www.ymcashoals.org
SUMMARY:Kickboxing (Kimberly)
DESCRIPTION:
URL:https://www.ymcashoals.org/event/kickboxing-elle/2026-07-15/
LOCATION:YMCA of the Shoals\, 2121 Helton Drive\, Florence\, AL\, 35630\, United States
CATEGORIES:Group Exercise (GXR),Schedules
GEO:34.8324379;-87.6683435
X-APPLE-STRUCTURED-LOCATION;VALUE=URI;X-ADDRESS=YMCA of the Shoals 2121 Helton Drive Florence AL 35630 United States;X-APPLE-RADIUS=500;X-TITLE=2121 Helton Drive:geo:-87.6683435,34.8324379
END:VEVENT
BEGIN:VEVENT
DTSTART;TZID=America/Chicago:20260720T051500
DTEND;TZID=America/Chicago:20260720T060000
DTSTAMP:20260423T151903
CREATED:20250224T205113Z
LAST-MODIFIED:20250224T205113Z
UID:192145-1784524500-1784527200@www.ymcashoals.org
SUMMARY:Kickboxing (Kimberly)
DESCRIPTION:
URL:https://www.ymcashoals.org/event/kickboxing-elle/2026-07-20/
LOCATION:YMCA of the Shoals\, 2121 Helton Drive\, Florence\, AL\, 35630\, United States
CATEGORIES:Group Exercise (GXR),Schedules
GEO:34.8324379;-87.6683435
X-APPLE-STRUCTURED-LOCATION;VALUE=URI;X-ADDRESS=YMCA of the Shoals 2121 Helton Drive Florence AL 35630 United States;X-APPLE-RADIUS=500;X-TITLE=2121 Helton Drive:geo:-87.6683435,34.8324379
END:VEVENT
BEGIN:VEVENT
DTSTART;TZID=America/Chicago:20260722T051500
DTEND;TZID=America/Chicago:20260722T060000
DTSTAMP:20260423T151903
CREATED:20250224T205113Z
LAST-MODIFIED:20250224T205113Z
UID:192146-1784697300-1784700000@www.ymcashoals.org
SUMMARY:Kickboxing (Kimberly)
DESCRIPTION:
URL:https://www.ymcashoals.org/event/kickboxing-elle/2026-07-22/
LOCATION:YMCA of the Shoals\, 2121 Helton Drive\, Florence\, AL\, 35630\, United States
CATEGORIES:Group Exercise (GXR),Schedules
GEO:34.8324379;-87.6683435
X-APPLE-STRUCTURED-LOCATION;VALUE=URI;X-ADDRESS=YMCA of the Shoals 2121 Helton Drive Florence AL 35630 United States;X-APPLE-RADIUS=500;X-TITLE=2121 Helton Drive:geo:-87.6683435,34.8324379
END:VEVENT
BEGIN:VEVENT
DTSTART;TZID=America/Chicago:20260727T051500
DTEND;TZID=America/Chicago:20260727T060000
DTSTAMP:20260423T151903
CREATED:20250224T205113Z
LAST-MODIFIED:20250224T205113Z
UID:192147-1785129300-1785132000@www.ymcashoals.org
SUMMARY:Kickboxing (Kimberly)
DESCRIPTION:
URL:https://www.ymcashoals.org/event/kickboxing-elle/2026-07-27/
LOCATION:YMCA of the Shoals\, 2121 Helton Drive\, Florence\, AL\, 35630\, United States
CATEGORIES:Group Exercise (GXR),Schedules
GEO:34.8324379;-87.6683435
X-APPLE-STRUCTURED-LOCATION;VALUE=URI;X-ADDRESS=YMCA of the Shoals 2121 Helton Drive Florence AL 35630 United States;X-APPLE-RADIUS=500;X-TITLE=2121 Helton Drive:geo:-87.6683435,34.8324379
END:VEVENT
BEGIN:VEVENT
DTSTART;TZID=America/Chicago:20260729T051500
DTEND;TZID=America/Chicago:20260729T060000
DTSTAMP:20260423T151903
CREATED:20250224T205113Z
LAST-MODIFIED:20250224T205113Z
UID:192148-1785302100-1785304800@www.ymcashoals.org
SUMMARY:Kickboxing (Kimberly)
DESCRIPTION:
URL:https://www.ymcashoals.org/event/kickboxing-elle/2026-07-29/
LOCATION:YMCA of the Shoals\, 2121 Helton Drive\, Florence\, AL\, 35630\, United States
CATEGORIES:Group Exercise (GXR),Schedules
GEO:34.8324379;-87.6683435
X-APPLE-STRUCTURED-LOCATION;VALUE=URI;X-ADDRESS=YMCA of the Shoals 2121 Helton Drive Florence AL 35630 United States;X-APPLE-RADIUS=500;X-TITLE=2121 Helton Drive:geo:-87.6683435,34.8324379
END:VEVENT
BEGIN:VEVENT
DTSTART;TZID=America/Chicago:20260803T051500
DTEND;TZID=America/Chicago:20260803T060000
DTSTAMP:20260423T151903
CREATED:20250224T205113Z
LAST-MODIFIED:20250224T205113Z
UID:192149-1785734100-1785736800@www.ymcashoals.org
SUMMARY:Kickboxing (Kimberly)
DESCRIPTION:
URL:https://www.ymcashoals.org/event/kickboxing-elle/2026-08-03/
LOCATION:YMCA of the Shoals\, 2121 Helton Drive\, Florence\, AL\, 35630\, United States
CATEGORIES:Group Exercise (GXR),Schedules
GEO:34.8324379;-87.6683435
X-APPLE-STRUCTURED-LOCATION;VALUE=URI;X-ADDRESS=YMCA of the Shoals 2121 Helton Drive Florence AL 35630 United States;X-APPLE-RADIUS=500;X-TITLE=2121 Helton Drive:geo:-87.6683435,34.8324379
END:VEVENT
BEGIN:VEVENT
DTSTART;TZID=America/Chicago:20260805T051500
DTEND;TZID=America/Chicago:20260805T060000
DTSTAMP:20260423T151903
CREATED:20250224T205113Z
LAST-MODIFIED:20250224T205113Z
UID:192150-1785906900-1785909600@www.ymcashoals.org
SUMMARY:Kickboxing (Kimberly)
DESCRIPTION:
URL:https://www.ymcashoals.org/event/kickboxing-elle/2026-08-05/
LOCATION:YMCA of the Shoals\, 2121 Helton Drive\, Florence\, AL\, 35630\, United States
CATEGORIES:Group Exercise (GXR),Schedules
GEO:34.8324379;-87.6683435
X-APPLE-STRUCTURED-LOCATION;VALUE=URI;X-ADDRESS=YMCA of the Shoals 2121 Helton Drive Florence AL 35630 United States;X-APPLE-RADIUS=500;X-TITLE=2121 Helton Drive:geo:-87.6683435,34.8324379
END:VEVENT
END:VCALENDAR