BEGIN:VCALENDAR
VERSION:2.0
PRODID:-//YMCA of the Shoals - ECPv6.15.20//NONSGML v1.0//EN
CALSCALE:GREGORIAN
METHOD:PUBLISH
X-WR-CALNAME:YMCA of the Shoals
X-ORIGINAL-URL:https://www.ymcashoals.org
X-WR-CALDESC:Events for YMCA of the Shoals
REFRESH-INTERVAL;VALUE=DURATION:PT1H
X-Robots-Tag:noindex
X-PUBLISHED-TTL:PT1H
BEGIN:VTIMEZONE
TZID:America/Chicago
BEGIN:DAYLIGHT
TZOFFSETFROM:-0600
TZOFFSETTO:-0500
TZNAME:CDT
DTSTART:20250309T080000
END:DAYLIGHT
BEGIN:STANDARD
TZOFFSETFROM:-0500
TZOFFSETTO:-0600
TZNAME:CST
DTSTART:20251102T070000
END:STANDARD
BEGIN:DAYLIGHT
TZOFFSETFROM:-0600
TZOFFSETTO:-0500
TZNAME:CDT
DTSTART:20260308T080000
END:DAYLIGHT
BEGIN:STANDARD
TZOFFSETFROM:-0500
TZOFFSETTO:-0600
TZNAME:CST
DTSTART:20261101T070000
END:STANDARD
BEGIN:DAYLIGHT
TZOFFSETFROM:-0600
TZOFFSETTO:-0500
TZNAME:CDT
DTSTART:20270314T080000
END:DAYLIGHT
BEGIN:STANDARD
TZOFFSETFROM:-0500
TZOFFSETTO:-0600
TZNAME:CST
DTSTART:20271107T070000
END:STANDARD
END:VTIMEZONE
BEGIN:VEVENT
DTSTART;TZID=America/Chicago:20260422T173000
DTEND;TZID=America/Chicago:20260422T181000
DTSTAMP:20260423T133738
CREATED:20260107T025818Z
LAST-MODIFIED:20260107T025818Z
UID:195852-1776879000-1776881400@www.ymcashoals.org
SUMMARY:After Work Water Workout
DESCRIPTION:2 Lanes available
URL:https://www.ymcashoals.org/event/after-work-water-workout/2026-04-22/
LOCATION:YMCA of the Shoals\, 2121 Helton Drive\, Florence\, AL\, 35630\, United States
CATEGORIES:Lap Pool,Lap Pool Schedule,Schedules
GEO:34.8324379;-87.6683435
X-APPLE-STRUCTURED-LOCATION;VALUE=URI;X-ADDRESS=YMCA of the Shoals 2121 Helton Drive Florence AL 35630 United States;X-APPLE-RADIUS=500;X-TITLE=2121 Helton Drive:geo:-87.6683435,34.8324379
END:VEVENT
BEGIN:VEVENT
DTSTART;TZID=America/Chicago:20260420T173000
DTEND;TZID=America/Chicago:20260420T181000
DTSTAMP:20260423T133738
CREATED:20260107T025818Z
LAST-MODIFIED:20260107T025818Z
UID:195851-1776706200-1776708600@www.ymcashoals.org
SUMMARY:After Work Water Workout
DESCRIPTION:2 Lanes available
URL:https://www.ymcashoals.org/event/after-work-water-workout/2026-04-20/
LOCATION:YMCA of the Shoals\, 2121 Helton Drive\, Florence\, AL\, 35630\, United States
CATEGORIES:Lap Pool,Lap Pool Schedule,Schedules
GEO:34.8324379;-87.6683435
X-APPLE-STRUCTURED-LOCATION;VALUE=URI;X-ADDRESS=YMCA of the Shoals 2121 Helton Drive Florence AL 35630 United States;X-APPLE-RADIUS=500;X-TITLE=2121 Helton Drive:geo:-87.6683435,34.8324379
END:VEVENT
BEGIN:VEVENT
DTSTART;TZID=America/Chicago:20260415T173000
DTEND;TZID=America/Chicago:20260415T181000
DTSTAMP:20260423T133738
CREATED:20260107T025818Z
LAST-MODIFIED:20260107T025818Z
UID:195850-1776274200-1776276600@www.ymcashoals.org
SUMMARY:After Work Water Workout
DESCRIPTION:2 Lanes available
URL:https://www.ymcashoals.org/event/after-work-water-workout/2026-04-15/
LOCATION:YMCA of the Shoals\, 2121 Helton Drive\, Florence\, AL\, 35630\, United States
CATEGORIES:Lap Pool,Lap Pool Schedule,Schedules
GEO:34.8324379;-87.6683435
X-APPLE-STRUCTURED-LOCATION;VALUE=URI;X-ADDRESS=YMCA of the Shoals 2121 Helton Drive Florence AL 35630 United States;X-APPLE-RADIUS=500;X-TITLE=2121 Helton Drive:geo:-87.6683435,34.8324379
END:VEVENT
BEGIN:VEVENT
DTSTART;TZID=America/Chicago:20260413T173000
DTEND;TZID=America/Chicago:20260413T181000
DTSTAMP:20260423T133738
CREATED:20260107T025818Z
LAST-MODIFIED:20260107T025818Z
UID:195849-1776101400-1776103800@www.ymcashoals.org
SUMMARY:After Work Water Workout
DESCRIPTION:2 Lanes available
URL:https://www.ymcashoals.org/event/after-work-water-workout/2026-04-13/
LOCATION:YMCA of the Shoals\, 2121 Helton Drive\, Florence\, AL\, 35630\, United States
CATEGORIES:Lap Pool,Lap Pool Schedule,Schedules
GEO:34.8324379;-87.6683435
X-APPLE-STRUCTURED-LOCATION;VALUE=URI;X-ADDRESS=YMCA of the Shoals 2121 Helton Drive Florence AL 35630 United States;X-APPLE-RADIUS=500;X-TITLE=2121 Helton Drive:geo:-87.6683435,34.8324379
END:VEVENT
BEGIN:VEVENT
DTSTART;TZID=America/Chicago:20260408T173000
DTEND;TZID=America/Chicago:20260408T181000
DTSTAMP:20260423T133738
CREATED:20260107T025818Z
LAST-MODIFIED:20260107T025818Z
UID:195848-1775669400-1775671800@www.ymcashoals.org
SUMMARY:After Work Water Workout
DESCRIPTION:2 Lanes available
URL:https://www.ymcashoals.org/event/after-work-water-workout/2026-04-08/
LOCATION:YMCA of the Shoals\, 2121 Helton Drive\, Florence\, AL\, 35630\, United States
CATEGORIES:Lap Pool,Lap Pool Schedule,Schedules
GEO:34.8324379;-87.6683435
X-APPLE-STRUCTURED-LOCATION;VALUE=URI;X-ADDRESS=YMCA of the Shoals 2121 Helton Drive Florence AL 35630 United States;X-APPLE-RADIUS=500;X-TITLE=2121 Helton Drive:geo:-87.6683435,34.8324379
END:VEVENT
BEGIN:VEVENT
DTSTART;TZID=America/Chicago:20260406T173000
DTEND;TZID=America/Chicago:20260406T181000
DTSTAMP:20260423T133738
CREATED:20260107T025818Z
LAST-MODIFIED:20260107T025818Z
UID:195847-1775496600-1775499000@www.ymcashoals.org
SUMMARY:After Work Water Workout
DESCRIPTION:2 Lanes available
URL:https://www.ymcashoals.org/event/after-work-water-workout/2026-04-06/
LOCATION:YMCA of the Shoals\, 2121 Helton Drive\, Florence\, AL\, 35630\, United States
CATEGORIES:Lap Pool,Lap Pool Schedule,Schedules
GEO:34.8324379;-87.6683435
X-APPLE-STRUCTURED-LOCATION;VALUE=URI;X-ADDRESS=YMCA of the Shoals 2121 Helton Drive Florence AL 35630 United States;X-APPLE-RADIUS=500;X-TITLE=2121 Helton Drive:geo:-87.6683435,34.8324379
END:VEVENT
BEGIN:VEVENT
DTSTART;TZID=America/Chicago:20260401T173000
DTEND;TZID=America/Chicago:20260401T181000
DTSTAMP:20260423T133738
CREATED:20260107T025818Z
LAST-MODIFIED:20260107T025818Z
UID:195846-1775064600-1775067000@www.ymcashoals.org
SUMMARY:After Work Water Workout
DESCRIPTION:2 Lanes available
URL:https://www.ymcashoals.org/event/after-work-water-workout/2026-04-01/
LOCATION:YMCA of the Shoals\, 2121 Helton Drive\, Florence\, AL\, 35630\, United States
CATEGORIES:Lap Pool,Lap Pool Schedule,Schedules
GEO:34.8324379;-87.6683435
X-APPLE-STRUCTURED-LOCATION;VALUE=URI;X-ADDRESS=YMCA of the Shoals 2121 Helton Drive Florence AL 35630 United States;X-APPLE-RADIUS=500;X-TITLE=2121 Helton Drive:geo:-87.6683435,34.8324379
END:VEVENT
BEGIN:VEVENT
DTSTART;TZID=America/Chicago:20260330T173000
DTEND;TZID=America/Chicago:20260330T181000
DTSTAMP:20260423T133738
CREATED:20260107T025818Z
LAST-MODIFIED:20260107T025818Z
UID:195845-1774891800-1774894200@www.ymcashoals.org
SUMMARY:After Work Water Workout
DESCRIPTION:2 Lanes available
URL:https://www.ymcashoals.org/event/after-work-water-workout/2026-03-30/
LOCATION:YMCA of the Shoals\, 2121 Helton Drive\, Florence\, AL\, 35630\, United States
CATEGORIES:Lap Pool,Lap Pool Schedule,Schedules
GEO:34.8324379;-87.6683435
X-APPLE-STRUCTURED-LOCATION;VALUE=URI;X-ADDRESS=YMCA of the Shoals 2121 Helton Drive Florence AL 35630 United States;X-APPLE-RADIUS=500;X-TITLE=2121 Helton Drive:geo:-87.6683435,34.8324379
END:VEVENT
BEGIN:VEVENT
DTSTART;TZID=America/Chicago:20260325T173000
DTEND;TZID=America/Chicago:20260325T181000
DTSTAMP:20260423T133738
CREATED:20260107T025818Z
LAST-MODIFIED:20260107T025818Z
UID:195844-1774459800-1774462200@www.ymcashoals.org
SUMMARY:After Work Water Workout
DESCRIPTION:2 Lanes available
URL:https://www.ymcashoals.org/event/after-work-water-workout/2026-03-25/
LOCATION:YMCA of the Shoals\, 2121 Helton Drive\, Florence\, AL\, 35630\, United States
CATEGORIES:Lap Pool,Lap Pool Schedule,Schedules
GEO:34.8324379;-87.6683435
X-APPLE-STRUCTURED-LOCATION;VALUE=URI;X-ADDRESS=YMCA of the Shoals 2121 Helton Drive Florence AL 35630 United States;X-APPLE-RADIUS=500;X-TITLE=2121 Helton Drive:geo:-87.6683435,34.8324379
END:VEVENT
BEGIN:VEVENT
DTSTART;TZID=America/Chicago:20260323T173000
DTEND;TZID=America/Chicago:20260323T181000
DTSTAMP:20260423T133738
CREATED:20260107T025818Z
LAST-MODIFIED:20260107T025818Z
UID:195843-1774287000-1774289400@www.ymcashoals.org
SUMMARY:After Work Water Workout
DESCRIPTION:2 Lanes available
URL:https://www.ymcashoals.org/event/after-work-water-workout/2026-03-23/
LOCATION:YMCA of the Shoals\, 2121 Helton Drive\, Florence\, AL\, 35630\, United States
CATEGORIES:Lap Pool,Lap Pool Schedule,Schedules
GEO:34.8324379;-87.6683435
X-APPLE-STRUCTURED-LOCATION;VALUE=URI;X-ADDRESS=YMCA of the Shoals 2121 Helton Drive Florence AL 35630 United States;X-APPLE-RADIUS=500;X-TITLE=2121 Helton Drive:geo:-87.6683435,34.8324379
END:VEVENT
BEGIN:VEVENT
DTSTART;TZID=America/Chicago:20260106T173000
DTEND;TZID=America/Chicago:20260106T181000
DTSTAMP:20260423T133738
CREATED:20260107T025818Z
LAST-MODIFIED:20260107T025901Z
UID:195820-1767720600-1767723000@www.ymcashoals.org
SUMMARY:After Work Water Workout
DESCRIPTION:2 Lanes available
URL:https://www.ymcashoals.org/event/after-work-water-workout/2026-01-06/
LOCATION:YMCA of the Shoals\, 2121 Helton Drive\, Florence\, AL\, 35630\, United States
CATEGORIES:Lap Pool,Lap Pool Schedule,Schedules
GEO:34.8324379;-87.6683435
X-APPLE-STRUCTURED-LOCATION;VALUE=URI;X-ADDRESS=YMCA of the Shoals 2121 Helton Drive Florence AL 35630 United States;X-APPLE-RADIUS=500;X-TITLE=2121 Helton Drive:geo:-87.6683435,34.8324379
END:VEVENT
END:VCALENDAR